BEGIN:VCALENDAR
VERSION:2.0
PRODID:-//Senioren Vereniging Engelen - ECPv6.15.11//NONSGML v1.0//EN
CALSCALE:GREGORIAN
METHOD:PUBLISH
X-WR-CALNAME:Senioren Vereniging Engelen
X-ORIGINAL-URL:https://seniorengelen.nl
X-WR-CALDESC:Evenementen voor Senioren Vereniging Engelen
REFRESH-INTERVAL;VALUE=DURATION:PT1H
X-Robots-Tag:noindex
X-PUBLISHED-TTL:PT1H
BEGIN:VTIMEZONE
TZID:UTC
BEGIN:STANDARD
TZOFFSETFROM:+0000
TZOFFSETTO:+0000
TZNAME:UTC
DTSTART:20240101T000000
END:STANDARD
END:VTIMEZONE
BEGIN:VEVENT
DTSTART;TZID=UTC:20250909T100000
DTEND;TZID=UTC:20250909T113000
DTSTAMP:20260420T143209
CREATED:20250823T091746Z
LAST-MODIFIED:20250823T091746Z
UID:18889-1757412000-1757417400@seniorengelen.nl
SUMMARY:Wandelen met rollator
DESCRIPTION:Op dinsdag 9 september gaan we\, bij droog weer\, weer Wandelen met rollator. De eerste keer in juli is goed bevallen! We vertrekken om 10.00 uur vanaf de parkeerplaats van PLUS Mulder en lopen dan naar Thuis23 in de Sint Lambertusstraat. Daar drinken we koffie/thee en na deze pauze lopen we weer terug. Aanmelden nieuwe deelnemers bij Tineke Kaal: tel. 073-631 1611.
URL:https://seniorengelen.nl/agenda/wandelen-met-rollator-3/
CATEGORIES:Activiteiten
ATTACH;FMTTYPE=image/jpeg:https://seniorengelen.nl/wp-content/uploads/2025/06/Rollator.jpg
END:VEVENT
BEGIN:VEVENT
DTSTART;TZID=UTC:20250908T140000
DTEND;TZID=UTC:20250908T140000
DTSTAMP:20260420T143209
CREATED:20230323T155745Z
LAST-MODIFIED:20230323T155745Z
UID:18493-1757340000-1757340000@seniorengelen.nl
SUMMARY:Jeu de boules
DESCRIPTION:Elke maandag om 14.00 uur is er ‘Jeu de boules’ bij Tennisvereniging Engelen. Informatie bij Paul Pardoel: 06 44301120.
URL:https://seniorengelen.nl/agenda/jeu-de-boules-2025-09-08/
LOCATION:Tennisvereniging Engelen
CATEGORIES:Wekelijks
ATTACH;FMTTYPE=image/jpeg:https://seniorengelen.nl/wp-content/uploads/2023/03/plaatjejeudeboules-1.jpg
END:VEVENT
BEGIN:VEVENT
DTSTART;TZID=UTC:20250903T093000
DTEND;TZID=UTC:20250903T093000
DTSTAMP:20260420T143209
CREATED:20230330T151827Z
LAST-MODIFIED:20230330T151827Z
UID:18492-1756891800-1756891800@seniorengelen.nl
SUMMARY:Fietsen
DESCRIPTION:Op de eerste en derde woensdag van de maand gaan we fietsen. Start om 9.30 uur vanaf De Engelenburcht. \nEr wordt elke keer een andere route van ongeveer 25 km uitgezocht met een pauzeplek om iets te drinken. \nInformatie bij André Dirks 06-22500785.
URL:https://seniorengelen.nl/agenda/fietsen-2025-09-03/
ATTACH;FMTTYPE=image/jpeg:https://seniorengelen.nl/wp-content/uploads/2023/03/fietsen-1.jpg
END:VEVENT
BEGIN:VEVENT
DTSTART;TZID=UTC:20250902T100000
DTEND;TZID=UTC:20250902T100000
DTSTAMP:20260420T143209
CREATED:20230323T161422Z
LAST-MODIFIED:20230323T161422Z
UID:18491-1756807200-1756807200@seniorengelen.nl
SUMMARY:Koffie drinken
DESCRIPTION:Elke eerste dinsdag van de maand is het om 10.00 uur koffiedrinken in De Engelenburcht. Hebt u hiervoor vervoer nodig? Maak tijdig een afspraak met Astrid: 06-1231 1319
URL:https://seniorengelen.nl/agenda/koffie-drinken-2025-09-02/
LOCATION:De Engelenburcht\, Heuvel 18\, Den Bosch
CATEGORIES:Wekelijks
ATTACH;FMTTYPE=image/jpeg:https://seniorengelen.nl/wp-content/uploads/2023/03/koffie.jpg
END:VEVENT
BEGIN:VEVENT
DTSTART;TZID=UTC:20250901T140000
DTEND;TZID=UTC:20250901T140000
DTSTAMP:20260420T143209
CREATED:20230323T155745Z
LAST-MODIFIED:20230323T155745Z
UID:18490-1756735200-1756735200@seniorengelen.nl
SUMMARY:Jeu de boules
DESCRIPTION:Elke maandag om 14.00 uur is er ‘Jeu de boules’ bij Tennisvereniging Engelen. Informatie bij Paul Pardoel: 06 44301120.
URL:https://seniorengelen.nl/agenda/jeu-de-boules-2025-09-01/
LOCATION:Tennisvereniging Engelen
CATEGORIES:Wekelijks
ATTACH;FMTTYPE=image/jpeg:https://seniorengelen.nl/wp-content/uploads/2023/03/plaatjejeudeboules-1.jpg
END:VEVENT
BEGIN:VEVENT
DTSTART;TZID=UTC:20250827T093000
DTEND;TZID=UTC:20250827T093000
DTSTAMP:20260420T143209
CREATED:20230330T145736Z
LAST-MODIFIED:20230330T145736Z
UID:18485-1756287000-1756287000@seniorengelen.nl
SUMMARY:Wandelen
DESCRIPTION:Elke 2e en 4e woensdag van de maand gaan we wandelen. Vertrek om 9.30 uur vanaf De Engelenburcht. Er wordt elke keer een andere route uitgezocht. Indien gewenst en bij voldoende belangstelling splitsen we in groepen snellere en langzame wandelaars. Beide groepen komen dan weer samen op de pauzeplek voor een lekker drankje. Informatie bij Henk de Visser 06-12195289.
URL:https://seniorengelen.nl/agenda/wandelen-2-2025-08-27/
ATTACH;FMTTYPE=image/jpeg:https://seniorengelen.nl/wp-content/uploads/2021/06/wandelen2.jpg
END:VEVENT
BEGIN:VEVENT
DTSTART;TZID=UTC:20250825T140000
DTEND;TZID=UTC:20250825T140000
DTSTAMP:20260420T143209
CREATED:20230323T155745Z
LAST-MODIFIED:20230323T155745Z
UID:18484-1756130400-1756130400@seniorengelen.nl
SUMMARY:Jeu de boules
DESCRIPTION:Elke maandag om 14.00 uur is er ‘Jeu de boules’ bij Tennisvereniging Engelen. Informatie bij Paul Pardoel: 06 44301120.
URL:https://seniorengelen.nl/agenda/jeu-de-boules-2025-08-25/
LOCATION:Tennisvereniging Engelen
CATEGORIES:Wekelijks
ATTACH;FMTTYPE=image/jpeg:https://seniorengelen.nl/wp-content/uploads/2023/03/plaatjejeudeboules-1.jpg
END:VEVENT
BEGIN:VEVENT
DTSTART;TZID=UTC:20250821T103000
DTEND;TZID=UTC:20250821T200000
DTSTAMP:20260420T143209
CREATED:20250610T095830Z
LAST-MODIFIED:20250610T095830Z
UID:18877-1755772200-1755806400@seniorengelen.nl
SUMMARY:Busreis naar Maarsbergen
DESCRIPTION:Op donderdag 21 augustus gaan we onze jaarlijkse busreis maken. We vertrekken om 10.30 uur uit Engelen vanaf de parkeerplaats bij FC Engelen. Ingang Engelerpark via de Vutter. Verzamelen om 10.15 uur op genoemde parkeerplaats. \nVia Cothen en Doorn rijden we naar Maarsbergen waar we rond 12.00 uur aankomen voor een uitgebreide lunch bij kaasboerderij De Weistaar. Aansluitend bezoeken we het museum over het maken van boter en kaas en later in de middag is er een humoristische demonstratie van glasblazer Willem Buyse. \nOm 16.15 uur verlaten we Maarsbergen weer richting Valburg. Hier wacht rond 17.00 uur een heerlijk driegangendiner. Daarna is het tijd om naar huis te gaan. Om ongeveer 20.00 uur verwachten we terug te zijn in Engelen. \nDe prijs voor deze dag bedraagt € 90.00. Leden van onze vereniging krijgen een korting en betalen  € 85.00.  Wilt U mee? Stort dan het verschuldigde bedrag op  NL85 RABO.0121.9306.29 ten name van Seniorenvereniging Engelen Bokhoven onder vermelding van busreis. \nEn denk erom: aanmelden voor 1 augustus. En vol=vol! \nHebt u nog vragen? Bel: Paul Pardoel: 06 44301120 of Tineke Kaal: 06 29624546. \n  \nIs bovenstaande reis te duur en past dit niet in uw budget? Denk dan eens aan het participatiefonds van onze vereniging. De inzet is om via een volstrekt anonieme procedure te regelen dat de minderdraagkrachtige leden 75% van de kosten vergoed krijgen. Om de gewenste anonimiteit te garanderen doet de commissie van het participatiefonds van de HEVO (seniorenvereniging uit Rosmalen) de beoordeling en weten de leden van ons bestuur dus niet wie het betreft. Het aanvraagformulier hiervoor staat onderaan op de website.
URL:https://seniorengelen.nl/agenda/busreis-naar-maarsbergen/
CATEGORIES:Activiteiten
ATTACH;FMTTYPE=image/jpeg:https://seniorengelen.nl/wp-content/uploads/2025/06/FotoWeistaar.jpg
END:VEVENT
BEGIN:VEVENT
DTSTART;TZID=UTC:20250818T140000
DTEND;TZID=UTC:20250818T140000
DTSTAMP:20260420T143209
CREATED:20230323T155745Z
LAST-MODIFIED:20230323T155745Z
UID:18483-1755525600-1755525600@seniorengelen.nl
SUMMARY:Jeu de boules
DESCRIPTION:Elke maandag om 14.00 uur is er ‘Jeu de boules’ bij Tennisvereniging Engelen. Informatie bij Paul Pardoel: 06 44301120.
URL:https://seniorengelen.nl/agenda/jeu-de-boules-2025-08-18/
LOCATION:Tennisvereniging Engelen
CATEGORIES:Wekelijks
ATTACH;FMTTYPE=image/jpeg:https://seniorengelen.nl/wp-content/uploads/2023/03/plaatjejeudeboules-1.jpg
END:VEVENT
BEGIN:VEVENT
DTSTART;TZID=UTC:20250813T093000
DTEND;TZID=UTC:20250813T093000
DTSTAMP:20260420T143209
CREATED:20230330T145234Z
LAST-MODIFIED:20230330T145234Z
UID:18480-1755077400-1755077400@seniorengelen.nl
SUMMARY:Wandelen
DESCRIPTION:Elke 2e en 4e woensdag van de maand gaan we wandelen. Vertrek om 9.30 uur vanaf De Engelenburcht. Er wordt elke keer een andere route uitgezocht. Indien gewenst en bij voldoende belangstelling splitsen we in groepen snellere en langzame wandelaars. Beide groepen komen dan weer samen op de pauzeplek voor een lekker drankje. Informatie bij Henk de Visser 06-12195289.
URL:https://seniorengelen.nl/agenda/wandelen-2025-08-13/
CATEGORIES:Wekelijks
ATTACH;FMTTYPE=image/jpeg:https://seniorengelen.nl/wp-content/uploads/2021/06/wandelen2.jpg
END:VEVENT
BEGIN:VEVENT
DTSTART;TZID=UTC:20250812T100000
DTEND;TZID=UTC:20250812T113000
DTSTAMP:20260420T143209
CREATED:20250718T094359Z
LAST-MODIFIED:20250718T094359Z
UID:18884-1754992800-1754998200@seniorengelen.nl
SUMMARY:Wandelen met rollator
DESCRIPTION:Op dinsdag 12 augustus gaan we\, bij droog weer\, weer Wandelen met rollator. De eerste keer in juli is goed bevallen! We vertrekken om 10.00 uur vanaf de parkeerplaats van PLUS Mulder en lopen dan naar Thuis23 in de Sint Lambertusstraat. Daar drinken we koffie/thee en na deze pauze lopen we weer terug. Aanmelden nieuwe deelnemers bij Tineke Kaal: tel. 073-631 1611.
URL:https://seniorengelen.nl/agenda/wandelen-met-rollator-2/
CATEGORIES:Activiteiten
ATTACH;FMTTYPE=image/jpeg:https://seniorengelen.nl/wp-content/uploads/2025/06/Rollator.jpg
END:VEVENT
BEGIN:VEVENT
DTSTART;TZID=UTC:20250811T140000
DTEND;TZID=UTC:20250811T140000
DTSTAMP:20260420T143209
CREATED:20230323T155745Z
LAST-MODIFIED:20230323T155745Z
UID:18479-1754920800-1754920800@seniorengelen.nl
SUMMARY:Jeu de boules
DESCRIPTION:Elke maandag om 14.00 uur is er ‘Jeu de boules’ bij Tennisvereniging Engelen. Informatie bij Paul Pardoel: 06 44301120.
URL:https://seniorengelen.nl/agenda/jeu-de-boules-2025-08-11/
LOCATION:Tennisvereniging Engelen
CATEGORIES:Wekelijks
ATTACH;FMTTYPE=image/jpeg:https://seniorengelen.nl/wp-content/uploads/2023/03/plaatjejeudeboules-1.jpg
END:VEVENT
BEGIN:VEVENT
DTSTART;TZID=UTC:20250806T093000
DTEND;TZID=UTC:20250806T093000
DTSTAMP:20260420T143209
CREATED:20230330T151827Z
LAST-MODIFIED:20230330T151827Z
UID:18456-1754472600-1754472600@seniorengelen.nl
SUMMARY:Fietsen
DESCRIPTION:Op de eerste en derde woensdag van de maand gaan we fietsen. Start om 9.30 uur vanaf De Engelenburcht. \nEr wordt elke keer een andere route van ongeveer 25 km uitgezocht met een pauzeplek om iets te drinken. \nInformatie bij André Dirks 06-22500785.
URL:https://seniorengelen.nl/agenda/fietsen-2025-08-06/
ATTACH;FMTTYPE=image/jpeg:https://seniorengelen.nl/wp-content/uploads/2023/03/fietsen-1.jpg
END:VEVENT
BEGIN:VEVENT
DTSTART;TZID=UTC:20250805T100000
DTEND;TZID=UTC:20250805T100000
DTSTAMP:20260420T143209
CREATED:20230323T161422Z
LAST-MODIFIED:20230323T161422Z
UID:18455-1754388000-1754388000@seniorengelen.nl
SUMMARY:Koffie drinken
DESCRIPTION:Elke eerste dinsdag van de maand is het om 10.00 uur koffiedrinken in De Engelenburcht. Hebt u hiervoor vervoer nodig? Maak tijdig een afspraak met Astrid: 06-1231 1319
URL:https://seniorengelen.nl/agenda/koffie-drinken-2025-08-05/
LOCATION:De Engelenburcht\, Heuvel 18\, Den Bosch
CATEGORIES:Wekelijks
ATTACH;FMTTYPE=image/jpeg:https://seniorengelen.nl/wp-content/uploads/2023/03/koffie.jpg
END:VEVENT
BEGIN:VEVENT
DTSTART;TZID=UTC:20250804T140000
DTEND;TZID=UTC:20250804T140000
DTSTAMP:20260420T143209
CREATED:20230323T155745Z
LAST-MODIFIED:20230323T155745Z
UID:18454-1754316000-1754316000@seniorengelen.nl
SUMMARY:Jeu de boules
DESCRIPTION:Elke maandag om 14.00 uur is er ‘Jeu de boules’ bij Tennisvereniging Engelen. Informatie bij Paul Pardoel: 06 44301120.
URL:https://seniorengelen.nl/agenda/jeu-de-boules-2025-08-04/
LOCATION:Tennisvereniging Engelen
CATEGORIES:Wekelijks
ATTACH;FMTTYPE=image/jpeg:https://seniorengelen.nl/wp-content/uploads/2023/03/plaatjejeudeboules-1.jpg
END:VEVENT
BEGIN:VEVENT
DTSTART;TZID=UTC:20250728T140000
DTEND;TZID=UTC:20250728T140000
DTSTAMP:20260420T143209
CREATED:20230323T155745Z
LAST-MODIFIED:20230323T155745Z
UID:18453-1753711200-1753711200@seniorengelen.nl
SUMMARY:Jeu de boules
DESCRIPTION:Elke maandag om 14.00 uur is er ‘Jeu de boules’ bij Tennisvereniging Engelen. Informatie bij Paul Pardoel: 06 44301120.
URL:https://seniorengelen.nl/agenda/jeu-de-boules-2025-07-28/
LOCATION:Tennisvereniging Engelen
CATEGORIES:Wekelijks
ATTACH;FMTTYPE=image/jpeg:https://seniorengelen.nl/wp-content/uploads/2023/03/plaatjejeudeboules-1.jpg
END:VEVENT
BEGIN:VEVENT
DTSTART;TZID=UTC:20250723T093000
DTEND;TZID=UTC:20250723T093000
DTSTAMP:20260420T143209
CREATED:20230330T145736Z
LAST-MODIFIED:20230330T145736Z
UID:18405-1753263000-1753263000@seniorengelen.nl
SUMMARY:Wandelen
DESCRIPTION:Elke 2e en 4e woensdag van de maand gaan we wandelen. Vertrek om 9.30 uur vanaf De Engelenburcht. Er wordt elke keer een andere route uitgezocht. Indien gewenst en bij voldoende belangstelling splitsen we in groepen snellere en langzame wandelaars. Beide groepen komen dan weer samen op de pauzeplek voor een lekker drankje. Informatie bij Henk de Visser 06-12195289.
URL:https://seniorengelen.nl/agenda/wandelen-2-2025-07-23/
ATTACH;FMTTYPE=image/jpeg:https://seniorengelen.nl/wp-content/uploads/2021/06/wandelen2.jpg
END:VEVENT
BEGIN:VEVENT
DTSTART;TZID=UTC:20250721T140000
DTEND;TZID=UTC:20250721T140000
DTSTAMP:20260420T143209
CREATED:20230323T155745Z
LAST-MODIFIED:20230323T155745Z
UID:18404-1753106400-1753106400@seniorengelen.nl
SUMMARY:Jeu de boules
DESCRIPTION:Elke maandag om 14.00 uur is er ‘Jeu de boules’ bij Tennisvereniging Engelen. Informatie bij Paul Pardoel: 06 44301120.
URL:https://seniorengelen.nl/agenda/jeu-de-boules-2025-07-21/
LOCATION:Tennisvereniging Engelen
CATEGORIES:Wekelijks
ATTACH;FMTTYPE=image/jpeg:https://seniorengelen.nl/wp-content/uploads/2023/03/plaatjejeudeboules-1.jpg
END:VEVENT
BEGIN:VEVENT
DTSTART;TZID=UTC:20250718T173000
DTEND;TZID=UTC:20250718T210000
DTSTAMP:20260420T143209
CREATED:20250503T130934Z
LAST-MODIFIED:20250503T130934Z
UID:18865-1752859800-1752872400@seniorengelen.nl
SUMMARY:Barbecue in de tuin
DESCRIPTION:Op vrijdag 18 juli zijn we weer te gast in de tuin van Victor en Anny Thyssen\, Boerenerf 6\, voor een barbecue die we door een keurslager laten verzorgen. Maximum aantal deelnemers: 25. Opgeven bij Tineke Kaal: tel. 073-631 1611 Kosten € 17\,50 per persoon\, ter plaatse contant te betalen.
URL:https://seniorengelen.nl/agenda/barbecue-in-de-tuin-2/
CATEGORIES:Activiteiten
ATTACH;FMTTYPE=image/jpeg:https://seniorengelen.nl/wp-content/uploads/2024/05/BBQ.jpg
END:VEVENT
BEGIN:VEVENT
DTSTART;TZID=UTC:20250714T140000
DTEND;TZID=UTC:20250714T140000
DTSTAMP:20260420T143209
CREATED:20230323T155745Z
LAST-MODIFIED:20230323T155745Z
UID:18403-1752501600-1752501600@seniorengelen.nl
SUMMARY:Jeu de boules
DESCRIPTION:Elke maandag om 14.00 uur is er ‘Jeu de boules’ bij Tennisvereniging Engelen. Informatie bij Paul Pardoel: 06 44301120.
URL:https://seniorengelen.nl/agenda/jeu-de-boules-2025-07-14/
LOCATION:Tennisvereniging Engelen
CATEGORIES:Wekelijks
ATTACH;FMTTYPE=image/jpeg:https://seniorengelen.nl/wp-content/uploads/2023/03/plaatjejeudeboules-1.jpg
END:VEVENT
BEGIN:VEVENT
DTSTART;TZID=UTC:20250709T093000
DTEND;TZID=UTC:20250709T093000
DTSTAMP:20260420T143209
CREATED:20230330T145234Z
LAST-MODIFIED:20230330T145234Z
UID:18402-1752053400-1752053400@seniorengelen.nl
SUMMARY:Wandelen
DESCRIPTION:Elke 2e en 4e woensdag van de maand gaan we wandelen. Vertrek om 9.30 uur vanaf De Engelenburcht. Er wordt elke keer een andere route uitgezocht. Indien gewenst en bij voldoende belangstelling splitsen we in groepen snellere en langzame wandelaars. Beide groepen komen dan weer samen op de pauzeplek voor een lekker drankje. Informatie bij Henk de Visser 06-12195289.
URL:https://seniorengelen.nl/agenda/wandelen-2025-07-09/
CATEGORIES:Wekelijks
ATTACH;FMTTYPE=image/jpeg:https://seniorengelen.nl/wp-content/uploads/2021/06/wandelen2.jpg
END:VEVENT
BEGIN:VEVENT
DTSTART;TZID=UTC:20250708T100000
DTEND;TZID=UTC:20250708T113000
DTSTAMP:20260420T143209
CREATED:20250621T102402Z
LAST-MODIFIED:20250621T102402Z
UID:18881-1751968800-1751974200@seniorengelen.nl
SUMMARY:Wandelen met rollator
DESCRIPTION:Op verzoek van de leden organiseren we Wandelen met rollator. We gaan dit doen in de zomer\, bij droog weer\, op de tweede dinsdagochtend van de maand. We starten op dinsdag 8 juli. We vertrekken om 10.00 uur vanaf de parkeerplaats van PLUS Mulder en lopen dan naar Thuis23 in de Sint Lambertusstraat. Daar drinken we koffie/thee en na deze pauze lopen we weer terug. Aanmelden bij Tineke Kaal: tel. 073-631 1611.
URL:https://seniorengelen.nl/agenda/wandelen-met-rollator/
CATEGORIES:Activiteiten
ATTACH;FMTTYPE=image/jpeg:https://seniorengelen.nl/wp-content/uploads/2025/06/Rollator.jpg
END:VEVENT
BEGIN:VEVENT
DTSTART;TZID=UTC:20250707T140000
DTEND;TZID=UTC:20250707T140000
DTSTAMP:20260420T143209
CREATED:20230323T155745Z
LAST-MODIFIED:20230323T155745Z
UID:18401-1751896800-1751896800@seniorengelen.nl
SUMMARY:Jeu de boules
DESCRIPTION:Elke maandag om 14.00 uur is er ‘Jeu de boules’ bij Tennisvereniging Engelen. Informatie bij Paul Pardoel: 06 44301120.
URL:https://seniorengelen.nl/agenda/jeu-de-boules-2025-07-07/
LOCATION:Tennisvereniging Engelen
CATEGORIES:Wekelijks
ATTACH;FMTTYPE=image/jpeg:https://seniorengelen.nl/wp-content/uploads/2023/03/plaatjejeudeboules-1.jpg
END:VEVENT
BEGIN:VEVENT
DTSTART;TZID=UTC:20250702T093000
DTEND;TZID=UTC:20250702T093000
DTSTAMP:20260420T143209
CREATED:20230330T151827Z
LAST-MODIFIED:20230330T151827Z
UID:18400-1751448600-1751448600@seniorengelen.nl
SUMMARY:Fietsen
DESCRIPTION:Op de eerste en derde woensdag van de maand gaan we fietsen. Start om 9.30 uur vanaf De Engelenburcht. \nEr wordt elke keer een andere route van ongeveer 25 km uitgezocht met een pauzeplek om iets te drinken. \nInformatie bij André Dirks 06-22500785.
URL:https://seniorengelen.nl/agenda/fietsen-2025-07-02/
ATTACH;FMTTYPE=image/jpeg:https://seniorengelen.nl/wp-content/uploads/2023/03/fietsen-1.jpg
END:VEVENT
BEGIN:VEVENT
DTSTART;TZID=UTC:20250701T100000
DTEND;TZID=UTC:20250701T100000
DTSTAMP:20260420T143209
CREATED:20230323T161422Z
LAST-MODIFIED:20230323T161422Z
UID:18399-1751364000-1751364000@seniorengelen.nl
SUMMARY:Koffie drinken
DESCRIPTION:Elke eerste dinsdag van de maand is het om 10.00 uur koffiedrinken in De Engelenburcht. Hebt u hiervoor vervoer nodig? Maak tijdig een afspraak met Astrid: 06-1231 1319
URL:https://seniorengelen.nl/agenda/koffie-drinken-2025-07-01/
LOCATION:De Engelenburcht\, Heuvel 18\, Den Bosch
CATEGORIES:Wekelijks
ATTACH;FMTTYPE=image/jpeg:https://seniorengelen.nl/wp-content/uploads/2023/03/koffie.jpg
END:VEVENT
BEGIN:VEVENT
DTSTART;TZID=UTC:20250630T140000
DTEND;TZID=UTC:20250630T140000
DTSTAMP:20260420T143209
CREATED:20230323T155745Z
LAST-MODIFIED:20230323T155745Z
UID:18398-1751292000-1751292000@seniorengelen.nl
SUMMARY:Jeu de boules
DESCRIPTION:Elke maandag om 14.00 uur is er ‘Jeu de boules’ bij Tennisvereniging Engelen. Informatie bij Paul Pardoel: 06 44301120.
URL:https://seniorengelen.nl/agenda/jeu-de-boules-2025-06-30/
LOCATION:Tennisvereniging Engelen
CATEGORIES:Wekelijks
ATTACH;FMTTYPE=image/jpeg:https://seniorengelen.nl/wp-content/uploads/2023/03/plaatjejeudeboules-1.jpg
END:VEVENT
BEGIN:VEVENT
DTSTART;TZID=UTC:20250625T093000
DTEND;TZID=UTC:20250625T093000
DTSTAMP:20260420T143209
CREATED:20230330T145736Z
LAST-MODIFIED:20230330T145736Z
UID:18397-1750843800-1750843800@seniorengelen.nl
SUMMARY:Wandelen
DESCRIPTION:Elke 2e en 4e woensdag van de maand gaan we wandelen. Vertrek om 9.30 uur vanaf De Engelenburcht. Er wordt elke keer een andere route uitgezocht. Indien gewenst en bij voldoende belangstelling splitsen we in groepen snellere en langzame wandelaars. Beide groepen komen dan weer samen op de pauzeplek voor een lekker drankje. Informatie bij Henk de Visser 06-12195289.
URL:https://seniorengelen.nl/agenda/wandelen-2-2025-06-25/
ATTACH;FMTTYPE=image/jpeg:https://seniorengelen.nl/wp-content/uploads/2021/06/wandelen2.jpg
END:VEVENT
BEGIN:VEVENT
DTSTART;TZID=UTC:20250624T190000
DTEND;TZID=UTC:20250624T210000
DTSTAMP:20260420T143209
CREATED:20250503T130251Z
LAST-MODIFIED:20250503T130251Z
UID:18863-1750791600-1750798800@seniorengelen.nl
SUMMARY:Bezoek crematorium Maaslanden Nieuwkuijk
DESCRIPTION:Op dinsdag 24 juni brengen we om 19.00 uur een bezoek aan crematorium Maaslanden te Nieuwkuijk. We worden ontvangen en rondgeleid voor een kijkje achter de schermen. We vertrekken om 18.30 uur met eigen vervoer (auto) vanaf De Engelenburcht. Er zijn geen kosten aan het bezoek verbonden. Wel vragen we u om u op te geven bij Tineke Kaal\, tel.:073- 631 1611. Mocht u geen vervoer hebben en toch graag mee willen gaan\, verzoeken we u dat ook aan Tineke te laten weten zodat we dat naar behoren kunnen regelen.
URL:https://seniorengelen.nl/agenda/bezoek-crematorium-maaslanden-nieuwkuijk/
CATEGORIES:Activiteiten
ATTACH;FMTTYPE=image/jpeg:https://seniorengelen.nl/wp-content/uploads/2025/05/CrematoriumVlijmen.jpg
END:VEVENT
BEGIN:VEVENT
DTSTART;TZID=UTC:20250623T140000
DTEND;TZID=UTC:20250623T140000
DTSTAMP:20260420T143209
CREATED:20230323T155745Z
LAST-MODIFIED:20230323T155745Z
UID:18396-1750687200-1750687200@seniorengelen.nl
SUMMARY:Jeu de boules
DESCRIPTION:Elke maandag om 14.00 uur is er ‘Jeu de boules’ bij Tennisvereniging Engelen. Informatie bij Paul Pardoel: 06 44301120.
URL:https://seniorengelen.nl/agenda/jeu-de-boules-2025-06-23/
LOCATION:Tennisvereniging Engelen
CATEGORIES:Wekelijks
ATTACH;FMTTYPE=image/jpeg:https://seniorengelen.nl/wp-content/uploads/2023/03/plaatjejeudeboules-1.jpg
END:VEVENT
BEGIN:VEVENT
DTSTART;TZID=UTC:20250616T140000
DTEND;TZID=UTC:20250616T140000
DTSTAMP:20260420T143209
CREATED:20230323T155745Z
LAST-MODIFIED:20230323T155745Z
UID:18370-1750082400-1750082400@seniorengelen.nl
SUMMARY:Jeu de boules
DESCRIPTION:Elke maandag om 14.00 uur is er ‘Jeu de boules’ bij Tennisvereniging Engelen. Informatie bij Paul Pardoel: 06 44301120.
URL:https://seniorengelen.nl/agenda/jeu-de-boules-2025-06-16/
LOCATION:Tennisvereniging Engelen
CATEGORIES:Wekelijks
ATTACH;FMTTYPE=image/jpeg:https://seniorengelen.nl/wp-content/uploads/2023/03/plaatjejeudeboules-1.jpg
END:VEVENT
END:VCALENDAR