BEGIN:VCALENDAR
VERSION:2.0
PRODID:-//Senioren Vereniging Engelen - ECPv6.15.11//NONSGML v1.0//EN
CALSCALE:GREGORIAN
METHOD:PUBLISH
X-WR-CALNAME:Senioren Vereniging Engelen
X-ORIGINAL-URL:https://seniorengelen.nl
X-WR-CALDESC:Evenementen voor Senioren Vereniging Engelen
REFRESH-INTERVAL;VALUE=DURATION:PT1H
X-Robots-Tag:noindex
X-PUBLISHED-TTL:PT1H
BEGIN:VTIMEZONE
TZID:UTC
BEGIN:STANDARD
TZOFFSETFROM:+0000
TZOFFSETTO:+0000
TZNAME:UTC
DTSTART:20220101T000000
END:STANDARD
END:VTIMEZONE
BEGIN:VEVENT
DTSTART;TZID=UTC:20231225T140000
DTEND;TZID=UTC:20231225T140000
DTSTAMP:20260425T204948
CREATED:20230323T155745Z
LAST-MODIFIED:20230323T155745Z
UID:17398-1703512800-1703512800@seniorengelen.nl
SUMMARY:Jeu de boules
DESCRIPTION:Elke maandag om 14.00 uur is er ‘Jeu de boules’ bij Tennisvereniging Engelen. Informatie bij Paul Pardoel: 06 44301120.
URL:https://seniorengelen.nl/agenda/jeu-de-boules-2023-12-25/
LOCATION:Tennisvereniging Engelen
CATEGORIES:Wekelijks
ATTACH;FMTTYPE=image/jpeg:https://seniorengelen.nl/wp-content/uploads/2023/03/plaatjejeudeboules-1.jpg
END:VEVENT
BEGIN:VEVENT
DTSTART;TZID=UTC:20231220T100000
DTEND;TZID=UTC:20231220T133000
DTSTAMP:20260425T204948
CREATED:20231013T094740Z
LAST-MODIFIED:20231013T094740Z
UID:18230-1703066400-1703079000@seniorengelen.nl
SUMMARY:Kerstviering
DESCRIPTION:Op woensdag 20 december is weer de jaarlijkse kerstviering in De Engelenburcht. Op het programma staan onder andere twee optredens van troubadour André van Weele en een lekkere lunch. De bijeenkomst begint om 10.00 uur. Een speciale uitnodiging hiervoor aan alle leden volgt nog.
URL:https://seniorengelen.nl/agenda/kerstviering-2/
CATEGORIES:Activiteiten
ATTACH;FMTTYPE=image/png:https://seniorengelen.nl/wp-content/uploads/2023/10/FotoandrevanWeele.png
END:VEVENT
BEGIN:VEVENT
DTSTART;TZID=UTC:20231220T093000
DTEND;TZID=UTC:20231220T093000
DTSTAMP:20260425T204948
CREATED:20230330T151827Z
LAST-MODIFIED:20230330T151827Z
UID:18157-1703064600-1703064600@seniorengelen.nl
SUMMARY:Fietsen
DESCRIPTION:Op de eerste en derde woensdag van de maand gaan we fietsen. Start om 9.30 uur vanaf De Engelenburcht. \nEr wordt elke keer een andere route van ongeveer 25 km uitgezocht met een pauzeplek om iets te drinken. \nInformatie bij André Dirks 06-22500785.
URL:https://seniorengelen.nl/agenda/fietsen-2023-12-20/
ATTACH;FMTTYPE=image/jpeg:https://seniorengelen.nl/wp-content/uploads/2023/03/fietsen-1.jpg
END:VEVENT
BEGIN:VEVENT
DTSTART;TZID=UTC:20231218T140000
DTEND;TZID=UTC:20231218T140000
DTSTAMP:20260425T204948
CREATED:20230323T155745Z
LAST-MODIFIED:20230323T155745Z
UID:17397-1702908000-1702908000@seniorengelen.nl
SUMMARY:Jeu de boules
DESCRIPTION:Elke maandag om 14.00 uur is er ‘Jeu de boules’ bij Tennisvereniging Engelen. Informatie bij Paul Pardoel: 06 44301120.
URL:https://seniorengelen.nl/agenda/jeu-de-boules-2023-12-18/
LOCATION:Tennisvereniging Engelen
CATEGORIES:Wekelijks
ATTACH;FMTTYPE=image/jpeg:https://seniorengelen.nl/wp-content/uploads/2023/03/plaatjejeudeboules-1.jpg
END:VEVENT
BEGIN:VEVENT
DTSTART;TZID=UTC:20231213T093000
DTEND;TZID=UTC:20231213T093000
DTSTAMP:20260425T204948
CREATED:20230330T145234Z
LAST-MODIFIED:20230330T145234Z
UID:18097-1702459800-1702459800@seniorengelen.nl
SUMMARY:Wandelen
DESCRIPTION:Elke 2e en 4e woensdag van de maand gaan we wandelen. Vertrek om 9.30 uur vanaf De Engelenburcht. Er wordt elke keer een andere route uitgezocht. Indien gewenst en bij voldoende belangstelling splitsen we in groepen snellere en langzame wandelaars. Beide groepen komen dan weer samen op de pauzeplek voor een lekker drankje. Informatie bij Henk de Visser 06-12195289.
URL:https://seniorengelen.nl/agenda/wandelen-2023-12-13/
CATEGORIES:Wekelijks
ATTACH;FMTTYPE=image/jpeg:https://seniorengelen.nl/wp-content/uploads/2021/06/wandelen2.jpg
END:VEVENT
BEGIN:VEVENT
DTSTART;TZID=UTC:20231211T140000
DTEND;TZID=UTC:20231211T140000
DTSTAMP:20260425T204948
CREATED:20230323T155745Z
LAST-MODIFIED:20230323T155745Z
UID:17396-1702303200-1702303200@seniorengelen.nl
SUMMARY:Jeu de boules
DESCRIPTION:Elke maandag om 14.00 uur is er ‘Jeu de boules’ bij Tennisvereniging Engelen. Informatie bij Paul Pardoel: 06 44301120.
URL:https://seniorengelen.nl/agenda/jeu-de-boules-2023-12-11/
LOCATION:Tennisvereniging Engelen
CATEGORIES:Wekelijks
ATTACH;FMTTYPE=image/jpeg:https://seniorengelen.nl/wp-content/uploads/2023/03/plaatjejeudeboules-1.jpg
END:VEVENT
BEGIN:VEVENT
DTSTART;TZID=UTC:20231206T093000
DTEND;TZID=UTC:20231206T093000
DTSTAMP:20260425T204948
CREATED:20230330T151827Z
LAST-MODIFIED:20230330T151827Z
UID:18156-1701855000-1701855000@seniorengelen.nl
SUMMARY:Fietsen
DESCRIPTION:Op de eerste en derde woensdag van de maand gaan we fietsen. Start om 9.30 uur vanaf De Engelenburcht. \nEr wordt elke keer een andere route van ongeveer 25 km uitgezocht met een pauzeplek om iets te drinken. \nInformatie bij André Dirks 06-22500785.
URL:https://seniorengelen.nl/agenda/fietsen-2023-12-06/
ATTACH;FMTTYPE=image/jpeg:https://seniorengelen.nl/wp-content/uploads/2023/03/fietsen-1.jpg
END:VEVENT
BEGIN:VEVENT
DTSTART;TZID=UTC:20231205T100000
DTEND;TZID=UTC:20231205T100000
DTSTAMP:20260425T204948
CREATED:20230323T161422Z
LAST-MODIFIED:20230323T161422Z
UID:17569-1701770400-1701770400@seniorengelen.nl
SUMMARY:Koffie drinken
DESCRIPTION:Elke eerste dinsdag van de maand is het om 10.00 uur koffiedrinken in De Engelenburcht. Hebt u hiervoor vervoer nodig? Maak tijdig een afspraak met Astrid: 06-1231 1319
URL:https://seniorengelen.nl/agenda/koffie-drinken-2023-12-05/
LOCATION:De Engelenburcht\, Heuvel 18\, Den Bosch
CATEGORIES:Wekelijks
ATTACH;FMTTYPE=image/jpeg:https://seniorengelen.nl/wp-content/uploads/2023/03/koffie.jpg
END:VEVENT
BEGIN:VEVENT
DTSTART;TZID=UTC:20231204T140000
DTEND;TZID=UTC:20231204T140000
DTSTAMP:20260425T204948
CREATED:20230323T155745Z
LAST-MODIFIED:20230323T155745Z
UID:17395-1701698400-1701698400@seniorengelen.nl
SUMMARY:Jeu de boules
DESCRIPTION:Elke maandag om 14.00 uur is er ‘Jeu de boules’ bij Tennisvereniging Engelen. Informatie bij Paul Pardoel: 06 44301120.
URL:https://seniorengelen.nl/agenda/jeu-de-boules-2023-12-04/
LOCATION:Tennisvereniging Engelen
CATEGORIES:Wekelijks
ATTACH;FMTTYPE=image/jpeg:https://seniorengelen.nl/wp-content/uploads/2023/03/plaatjejeudeboules-1.jpg
END:VEVENT
BEGIN:VEVENT
DTSTART;TZID=UTC:20231127T140000
DTEND;TZID=UTC:20231127T140000
DTSTAMP:20260425T204948
CREATED:20230323T155745Z
LAST-MODIFIED:20230323T155745Z
UID:17394-1701093600-1701093600@seniorengelen.nl
SUMMARY:Jeu de boules
DESCRIPTION:Elke maandag om 14.00 uur is er ‘Jeu de boules’ bij Tennisvereniging Engelen. Informatie bij Paul Pardoel: 06 44301120.
URL:https://seniorengelen.nl/agenda/jeu-de-boules-2023-11-27/
LOCATION:Tennisvereniging Engelen
CATEGORIES:Wekelijks
ATTACH;FMTTYPE=image/jpeg:https://seniorengelen.nl/wp-content/uploads/2023/03/plaatjejeudeboules-1.jpg
END:VEVENT
BEGIN:VEVENT
DTSTART;TZID=UTC:20231124T173000
DTEND;TZID=UTC:20231124T213000
DTSTAMP:20260425T204948
CREATED:20231013T071130Z
LAST-MODIFIED:20231013T071130Z
UID:18516-1700847000-1700861400@seniorengelen.nl
SUMMARY:Hapjesavond
DESCRIPTION:Op vrijdag 24 november is er een hapjesavond bij Mw. Tonny Janssen\, Weislag 17. Aanvang: 17.30 uur. Deelname is gratis. Deelnemers worden verzocht elk 8 kleine hapjes mee te brengen. Aanmelden bij Astrid: 06-1231 1319.
URL:https://seniorengelen.nl/agenda/hapjesavond/
CATEGORIES:Activiteiten
ATTACH;FMTTYPE=image/jpeg:https://seniorengelen.nl/wp-content/uploads/2023/10/IMG-20221118-WA0000ab.jpg
END:VEVENT
BEGIN:VEVENT
DTSTART;TZID=UTC:20231122T093000
DTEND;TZID=UTC:20231122T093000
DTSTAMP:20260425T204949
CREATED:20230330T145736Z
LAST-MODIFIED:20230330T145736Z
UID:18121-1700645400-1700645400@seniorengelen.nl
SUMMARY:Wandelen
DESCRIPTION:Elke 2e en 4e woensdag van de maand gaan we wandelen. Vertrek om 9.30 uur vanaf De Engelenburcht. Er wordt elke keer een andere route uitgezocht. Indien gewenst en bij voldoende belangstelling splitsen we in groepen snellere en langzame wandelaars. Beide groepen komen dan weer samen op de pauzeplek voor een lekker drankje. Informatie bij Henk de Visser 06-12195289.
URL:https://seniorengelen.nl/agenda/wandelen-2-2023-11-22/
ATTACH;FMTTYPE=image/jpeg:https://seniorengelen.nl/wp-content/uploads/2021/06/wandelen2.jpg
END:VEVENT
BEGIN:VEVENT
DTSTART;TZID=UTC:20231120T140000
DTEND;TZID=UTC:20231120T140000
DTSTAMP:20260425T204949
CREATED:20230323T155745Z
LAST-MODIFIED:20230323T155745Z
UID:17393-1700488800-1700488800@seniorengelen.nl
SUMMARY:Jeu de boules
DESCRIPTION:Elke maandag om 14.00 uur is er ‘Jeu de boules’ bij Tennisvereniging Engelen. Informatie bij Paul Pardoel: 06 44301120.
URL:https://seniorengelen.nl/agenda/jeu-de-boules-2023-11-20/
LOCATION:Tennisvereniging Engelen
CATEGORIES:Wekelijks
ATTACH;FMTTYPE=image/jpeg:https://seniorengelen.nl/wp-content/uploads/2023/03/plaatjejeudeboules-1.jpg
END:VEVENT
BEGIN:VEVENT
DTSTART;TZID=UTC:20231115T093000
DTEND;TZID=UTC:20231115T093000
DTSTAMP:20260425T204949
CREATED:20230330T151827Z
LAST-MODIFIED:20230330T151827Z
UID:18155-1700040600-1700040600@seniorengelen.nl
SUMMARY:Fietsen
DESCRIPTION:Op de eerste en derde woensdag van de maand gaan we fietsen. Start om 9.30 uur vanaf De Engelenburcht. \nEr wordt elke keer een andere route van ongeveer 25 km uitgezocht met een pauzeplek om iets te drinken. \nInformatie bij André Dirks 06-22500785.
URL:https://seniorengelen.nl/agenda/fietsen-2023-11-15/
ATTACH;FMTTYPE=image/jpeg:https://seniorengelen.nl/wp-content/uploads/2023/03/fietsen-1.jpg
END:VEVENT
BEGIN:VEVENT
DTSTART;TZID=UTC:20231113T140000
DTEND;TZID=UTC:20231113T140000
DTSTAMP:20260425T204949
CREATED:20230323T155745Z
LAST-MODIFIED:20230323T155745Z
UID:17392-1699884000-1699884000@seniorengelen.nl
SUMMARY:Jeu de boules
DESCRIPTION:Elke maandag om 14.00 uur is er ‘Jeu de boules’ bij Tennisvereniging Engelen. Informatie bij Paul Pardoel: 06 44301120.
URL:https://seniorengelen.nl/agenda/jeu-de-boules-2023-11-13/
LOCATION:Tennisvereniging Engelen
CATEGORIES:Wekelijks
ATTACH;FMTTYPE=image/jpeg:https://seniorengelen.nl/wp-content/uploads/2023/03/plaatjejeudeboules-1.jpg
END:VEVENT
BEGIN:VEVENT
DTSTART;TZID=UTC:20231108T093000
DTEND;TZID=UTC:20231108T093000
DTSTAMP:20260425T204949
CREATED:20230330T145234Z
LAST-MODIFIED:20230330T145234Z
UID:18096-1699435800-1699435800@seniorengelen.nl
SUMMARY:Wandelen
DESCRIPTION:Elke 2e en 4e woensdag van de maand gaan we wandelen. Vertrek om 9.30 uur vanaf De Engelenburcht. Er wordt elke keer een andere route uitgezocht. Indien gewenst en bij voldoende belangstelling splitsen we in groepen snellere en langzame wandelaars. Beide groepen komen dan weer samen op de pauzeplek voor een lekker drankje. Informatie bij Henk de Visser 06-12195289.
URL:https://seniorengelen.nl/agenda/wandelen-2023-11-08/
CATEGORIES:Wekelijks
ATTACH;FMTTYPE=image/jpeg:https://seniorengelen.nl/wp-content/uploads/2021/06/wandelen2.jpg
END:VEVENT
BEGIN:VEVENT
DTSTART;TZID=UTC:20231108T090000
DTEND;TZID=UTC:20231108T170000
DTSTAMP:20260425T204949
CREATED:20230725T142851Z
LAST-MODIFIED:20230725T142851Z
UID:18408-1699434000-1699462800@seniorengelen.nl
SUMMARY:Gratis naar het Kröller-Müller museum!
DESCRIPTION:Op woensdag 8 november a.s. gaan we met de Museum Plus Bus naar het Kröller-Müller museum op de Veluwe. Het vervoer en de toegang tot het museum zijn gratis. Er kunnen maximaal 45 leden mee. De lunch ter plaatse is voor eigen kosten en daar zelf door u samen te stellen. We verzamelen uiterlijk 9.15 uur op de parkeerplaats bij FC Engelen. We verwachten rond 17.00 uur weer terug te zijn. Aanmelden uiterlijk 15 oktober bij Astrid van Schijndel\, tel. 06-1231 1319. Reageer snel\, want vol=vol!
URL:https://seniorengelen.nl/agenda/gratis-naar-het-kroller-muller-museum/
CATEGORIES:Activiteiten
ATTACH;FMTTYPE=image/jpeg:https://seniorengelen.nl/wp-content/uploads/2023/07/Museumbusreis23.jpg
END:VEVENT
BEGIN:VEVENT
DTSTART;TZID=UTC:20231107T100000
DTEND;TZID=UTC:20231107T100000
DTSTAMP:20260425T204949
CREATED:20230323T161422Z
LAST-MODIFIED:20230323T161422Z
UID:17568-1699351200-1699351200@seniorengelen.nl
SUMMARY:Koffie drinken
DESCRIPTION:Elke eerste dinsdag van de maand is het om 10.00 uur koffiedrinken in De Engelenburcht. Hebt u hiervoor vervoer nodig? Maak tijdig een afspraak met Astrid: 06-1231 1319
URL:https://seniorengelen.nl/agenda/koffie-drinken-2023-11-07/
LOCATION:De Engelenburcht\, Heuvel 18\, Den Bosch
CATEGORIES:Wekelijks
ATTACH;FMTTYPE=image/jpeg:https://seniorengelen.nl/wp-content/uploads/2023/03/koffie.jpg
END:VEVENT
BEGIN:VEVENT
DTSTART;TZID=UTC:20231106T140000
DTEND;TZID=UTC:20231106T140000
DTSTAMP:20260425T204949
CREATED:20230323T155745Z
LAST-MODIFIED:20230323T155745Z
UID:17391-1699279200-1699279200@seniorengelen.nl
SUMMARY:Jeu de boules
DESCRIPTION:Elke maandag om 14.00 uur is er ‘Jeu de boules’ bij Tennisvereniging Engelen. Informatie bij Paul Pardoel: 06 44301120.
URL:https://seniorengelen.nl/agenda/jeu-de-boules-2023-11-06/
LOCATION:Tennisvereniging Engelen
CATEGORIES:Wekelijks
ATTACH;FMTTYPE=image/jpeg:https://seniorengelen.nl/wp-content/uploads/2023/03/plaatjejeudeboules-1.jpg
END:VEVENT
BEGIN:VEVENT
DTSTART;TZID=UTC:20231101T093000
DTEND;TZID=UTC:20231101T093000
DTSTAMP:20260425T204949
CREATED:20230330T151827Z
LAST-MODIFIED:20230330T151827Z
UID:18154-1698831000-1698831000@seniorengelen.nl
SUMMARY:Fietsen
DESCRIPTION:Op de eerste en derde woensdag van de maand gaan we fietsen. Start om 9.30 uur vanaf De Engelenburcht. \nEr wordt elke keer een andere route van ongeveer 25 km uitgezocht met een pauzeplek om iets te drinken. \nInformatie bij André Dirks 06-22500785.
URL:https://seniorengelen.nl/agenda/fietsen-2023-11-01/
ATTACH;FMTTYPE=image/jpeg:https://seniorengelen.nl/wp-content/uploads/2023/03/fietsen-1.jpg
END:VEVENT
BEGIN:VEVENT
DTSTART;TZID=UTC:20231030T140000
DTEND;TZID=UTC:20231030T140000
DTSTAMP:20260425T204949
CREATED:20230323T155745Z
LAST-MODIFIED:20230323T155745Z
UID:17390-1698674400-1698674400@seniorengelen.nl
SUMMARY:Jeu de boules
DESCRIPTION:Elke maandag om 14.00 uur is er ‘Jeu de boules’ bij Tennisvereniging Engelen. Informatie bij Paul Pardoel: 06 44301120.
URL:https://seniorengelen.nl/agenda/jeu-de-boules-2023-10-30/
LOCATION:Tennisvereniging Engelen
CATEGORIES:Wekelijks
ATTACH;FMTTYPE=image/jpeg:https://seniorengelen.nl/wp-content/uploads/2023/03/plaatjejeudeboules-1.jpg
END:VEVENT
BEGIN:VEVENT
DTSTART;TZID=UTC:20231025T093000
DTEND;TZID=UTC:20231025T093000
DTSTAMP:20260425T204949
CREATED:20230330T145736Z
LAST-MODIFIED:20230330T145736Z
UID:18120-1698226200-1698226200@seniorengelen.nl
SUMMARY:Wandelen
DESCRIPTION:Elke 2e en 4e woensdag van de maand gaan we wandelen. Vertrek om 9.30 uur vanaf De Engelenburcht. Er wordt elke keer een andere route uitgezocht. Indien gewenst en bij voldoende belangstelling splitsen we in groepen snellere en langzame wandelaars. Beide groepen komen dan weer samen op de pauzeplek voor een lekker drankje. Informatie bij Henk de Visser 06-12195289.
URL:https://seniorengelen.nl/agenda/wandelen-2-2023-10-25/
ATTACH;FMTTYPE=image/jpeg:https://seniorengelen.nl/wp-content/uploads/2021/06/wandelen2.jpg
END:VEVENT
BEGIN:VEVENT
DTSTART;TZID=UTC:20231023T140000
DTEND;TZID=UTC:20231023T140000
DTSTAMP:20260425T204949
CREATED:20230323T155745Z
LAST-MODIFIED:20230323T155745Z
UID:17389-1698069600-1698069600@seniorengelen.nl
SUMMARY:Jeu de boules
DESCRIPTION:Elke maandag om 14.00 uur is er ‘Jeu de boules’ bij Tennisvereniging Engelen. Informatie bij Paul Pardoel: 06 44301120.
URL:https://seniorengelen.nl/agenda/jeu-de-boules-2023-10-23/
LOCATION:Tennisvereniging Engelen
CATEGORIES:Wekelijks
ATTACH;FMTTYPE=image/jpeg:https://seniorengelen.nl/wp-content/uploads/2023/03/plaatjejeudeboules-1.jpg
END:VEVENT
BEGIN:VEVENT
DTSTART;TZID=UTC:20231018T093000
DTEND;TZID=UTC:20231018T093000
DTSTAMP:20260425T204949
CREATED:20230330T151827Z
LAST-MODIFIED:20230330T151827Z
UID:18153-1697621400-1697621400@seniorengelen.nl
SUMMARY:Fietsen
DESCRIPTION:Op de eerste en derde woensdag van de maand gaan we fietsen. Start om 9.30 uur vanaf De Engelenburcht. \nEr wordt elke keer een andere route van ongeveer 25 km uitgezocht met een pauzeplek om iets te drinken. \nInformatie bij André Dirks 06-22500785.
URL:https://seniorengelen.nl/agenda/fietsen-2023-10-18/
ATTACH;FMTTYPE=image/jpeg:https://seniorengelen.nl/wp-content/uploads/2023/03/fietsen-1.jpg
END:VEVENT
BEGIN:VEVENT
DTSTART;TZID=UTC:20231016T140000
DTEND;TZID=UTC:20231016T140000
DTSTAMP:20260425T204949
CREATED:20230323T155745Z
LAST-MODIFIED:20230323T155745Z
UID:17388-1697464800-1697464800@seniorengelen.nl
SUMMARY:Jeu de boules
DESCRIPTION:Elke maandag om 14.00 uur is er ‘Jeu de boules’ bij Tennisvereniging Engelen. Informatie bij Paul Pardoel: 06 44301120.
URL:https://seniorengelen.nl/agenda/jeu-de-boules-2023-10-16/
LOCATION:Tennisvereniging Engelen
CATEGORIES:Wekelijks
ATTACH;FMTTYPE=image/jpeg:https://seniorengelen.nl/wp-content/uploads/2023/03/plaatjejeudeboules-1.jpg
END:VEVENT
BEGIN:VEVENT
DTSTART;TZID=UTC:20231013T080000
DTEND;TZID=UTC:20231013T170000
DTSTAMP:20260425T204949
CREATED:20231013T094423Z
LAST-MODIFIED:20231013T094423Z
UID:18559-1697184000-1697216400@seniorengelen.nl
SUMMARY:Kerstviering
DESCRIPTION:Op woensdag 20 december is weer de jaarlijkse kerstviering in De Engelenburcht. Op het programma staan onder andere twee optredens van troubadour André van Weele en een lekkere lunch. De bijeenkomst begint om 10.00 uur. Een speciale uitnodiging hiervoor aan alle leden volgt nog.
URL:https://seniorengelen.nl/agenda/kerstviering/
END:VEVENT
BEGIN:VEVENT
DTSTART;TZID=UTC:20231011T130000
DTEND;TZID=UTC:20231011T170000
DTSTAMP:20260425T204949
CREATED:20230830T090331Z
LAST-MODIFIED:20230830T090331Z
UID:18488-1697029200-1697043600@seniorengelen.nl
SUMMARY:Vaartocht op Binnendieze
DESCRIPTION:Op woensdag 11 oktober gaan we een vaartocht maken op de Binnendieze van ’s-Hertogenbosch. We vertrekken per auto om 13.15 uur vanaf De Engelenburcht. U kunt meedoen door voor 24 september € 10\,00 over te maken op rekening NL85 RABO 0121 9306 29 t.n.v. Seniorenvereniging Engelen/Bokhoven onder vermelding ‘boottocht’. LET OP: Er zijn trappen en er is geen lift. Een rollator kan niet mee in de boot.
URL:https://seniorengelen.nl/agenda/vaartocht-op-binnendieze/
CATEGORIES:Activiteiten
ATTACH;FMTTYPE=image/jpeg:https://seniorengelen.nl/wp-content/uploads/2023/08/FotoBinnendiezeHta-scaled.jpg
END:VEVENT
BEGIN:VEVENT
DTSTART;TZID=UTC:20231011T093000
DTEND;TZID=UTC:20231011T093000
DTSTAMP:20260425T204949
CREATED:20230330T145234Z
LAST-MODIFIED:20230330T145234Z
UID:18095-1697016600-1697016600@seniorengelen.nl
SUMMARY:Wandelen
DESCRIPTION:Elke 2e en 4e woensdag van de maand gaan we wandelen. Vertrek om 9.30 uur vanaf De Engelenburcht. Er wordt elke keer een andere route uitgezocht. Indien gewenst en bij voldoende belangstelling splitsen we in groepen snellere en langzame wandelaars. Beide groepen komen dan weer samen op de pauzeplek voor een lekker drankje. Informatie bij Henk de Visser 06-12195289.
URL:https://seniorengelen.nl/agenda/wandelen-2023-10-11/
CATEGORIES:Wekelijks
ATTACH;FMTTYPE=image/jpeg:https://seniorengelen.nl/wp-content/uploads/2021/06/wandelen2.jpg
END:VEVENT
BEGIN:VEVENT
DTSTART;TZID=UTC:20231009T140000
DTEND;TZID=UTC:20231009T140000
DTSTAMP:20260425T204949
CREATED:20230323T155745Z
LAST-MODIFIED:20230323T155745Z
UID:17387-1696860000-1696860000@seniorengelen.nl
SUMMARY:Jeu de boules
DESCRIPTION:Elke maandag om 14.00 uur is er ‘Jeu de boules’ bij Tennisvereniging Engelen. Informatie bij Paul Pardoel: 06 44301120.
URL:https://seniorengelen.nl/agenda/jeu-de-boules-2023-10-09/
LOCATION:Tennisvereniging Engelen
CATEGORIES:Wekelijks
ATTACH;FMTTYPE=image/jpeg:https://seniorengelen.nl/wp-content/uploads/2023/03/plaatjejeudeboules-1.jpg
END:VEVENT
BEGIN:VEVENT
DTSTART;TZID=UTC:20231004T093000
DTEND;TZID=UTC:20231004T093000
DTSTAMP:20260425T204949
CREATED:20230330T151827Z
LAST-MODIFIED:20230330T151827Z
UID:18152-1696411800-1696411800@seniorengelen.nl
SUMMARY:Fietsen
DESCRIPTION:Op de eerste en derde woensdag van de maand gaan we fietsen. Start om 9.30 uur vanaf De Engelenburcht. \nEr wordt elke keer een andere route van ongeveer 25 km uitgezocht met een pauzeplek om iets te drinken. \nInformatie bij André Dirks 06-22500785.
URL:https://seniorengelen.nl/agenda/fietsen-2023-10-04/
ATTACH;FMTTYPE=image/jpeg:https://seniorengelen.nl/wp-content/uploads/2023/03/fietsen-1.jpg
END:VEVENT
END:VCALENDAR