BEGIN:VCALENDAR
VERSION:2.0
PRODID:-//Senioren Vereniging Engelen - ECPv6.15.11//NONSGML v1.0//EN
CALSCALE:GREGORIAN
METHOD:PUBLISH
X-WR-CALNAME:Senioren Vereniging Engelen
X-ORIGINAL-URL:https://seniorengelen.nl
X-WR-CALDESC:Evenementen voor Senioren Vereniging Engelen
REFRESH-INTERVAL;VALUE=DURATION:PT1H
X-Robots-Tag:noindex
X-PUBLISHED-TTL:PT1H
BEGIN:VTIMEZONE
TZID:UTC
BEGIN:STANDARD
TZOFFSETFROM:+0000
TZOFFSETTO:+0000
TZNAME:UTC
DTSTART:20240101T000000
END:STANDARD
END:VTIMEZONE
BEGIN:VEVENT
DTSTART;TZID=UTC:20251224T093000
DTEND;TZID=UTC:20251224T093000
DTSTAMP:20260420T132023
CREATED:20230330T145736Z
LAST-MODIFIED:20230330T145736Z
UID:18659-1766568600-1766568600@seniorengelen.nl
SUMMARY:Wandelen
DESCRIPTION:Elke 2e en 4e woensdag van de maand gaan we wandelen. Vertrek om 9.30 uur vanaf De Engelenburcht. Er wordt elke keer een andere route uitgezocht. Indien gewenst en bij voldoende belangstelling splitsen we in groepen snellere en langzame wandelaars. Beide groepen komen dan weer samen op de pauzeplek voor een lekker drankje. Informatie bij Henk de Visser 06-12195289.
URL:https://seniorengelen.nl/agenda/wandelen-2-2025-12-24/
ATTACH;FMTTYPE=image/jpeg:https://seniorengelen.nl/wp-content/uploads/2021/06/wandelen2.jpg
END:VEVENT
BEGIN:VEVENT
DTSTART;TZID=UTC:20251222T140000
DTEND;TZID=UTC:20251222T140000
DTSTAMP:20260420T132023
CREATED:20230323T155745Z
LAST-MODIFIED:20230323T155745Z
UID:18658-1766412000-1766412000@seniorengelen.nl
SUMMARY:Jeu de boules
DESCRIPTION:Elke maandag om 14.00 uur is er ‘Jeu de boules’ bij Tennisvereniging Engelen. Informatie bij Paul Pardoel: 06 44301120.
URL:https://seniorengelen.nl/agenda/jeu-de-boules-2025-12-22/
LOCATION:Tennisvereniging Engelen
CATEGORIES:Wekelijks
ATTACH;FMTTYPE=image/jpeg:https://seniorengelen.nl/wp-content/uploads/2023/03/plaatjejeudeboules-1.jpg
END:VEVENT
BEGIN:VEVENT
DTSTART;TZID=UTC:20251217T100000
DTEND;TZID=UTC:20251217T133000
DTSTAMP:20260420T132023
CREATED:20251019T115524Z
LAST-MODIFIED:20251019T115524Z
UID:18980-1765965600-1765978200@seniorengelen.nl
SUMMARY:Kerstviering met Bomans- en Kadekoor
DESCRIPTION:Op woensdag 17 december is weer de jaarlijkse kerstviering voor alle 55 plussers in De Engelenburcht. De bijeenkomst begint om 10.00 uur en op het programma staan onder andere twee optredens van het Bomans- en Kadekoor en rond 12.15 uur een lekkere lunch met tombola. De kosten voor deze viering bedragen € 14\,00. Niet-leden betalen € 17\,00. \nU kunt zich aanmelden door het bedrag over te maken op bankrekening NL85 RABO 0121 9306 29 ten name van Seniorenvereniging Engelen/Bokhoven. Overmaken is dus deelnemen. Aanmelden kan tot uiterlijk 10 december. \nMocht u niet zelf naar De Engelenburcht kunnen komen\, laat het ons dan weten\, zodat wij voor vervoer kunnen zorgen. U kunt bellen naar Tineke Kaal\, tel.: 631 1611. Alle 55+-ers uit Engelen\, Bokhoven en de Haverleij met hun familie en bekenden zijn van harte welkom. Voor verdere informatie kunt u terecht bij Annie Kraaijkamp\, tel.: 073-6311935\, Tineke Kaal\, tel.: 073-631 1611 of Paul Pardoel\, tel.: 073-631 3063.
URL:https://seniorengelen.nl/agenda/kerstviering-met-bomans-en-kadekoor/
CATEGORIES:Activiteiten
ATTACH;FMTTYPE=image/png:https://seniorengelen.nl/wp-content/uploads/2025/10/foto-kadekoor-2025-scaled.png
END:VEVENT
BEGIN:VEVENT
DTSTART;TZID=UTC:20251215T140000
DTEND;TZID=UTC:20251215T140000
DTSTAMP:20260420T132023
CREATED:20230323T155745Z
LAST-MODIFIED:20230323T155745Z
UID:18633-1765807200-1765807200@seniorengelen.nl
SUMMARY:Jeu de boules
DESCRIPTION:Elke maandag om 14.00 uur is er ‘Jeu de boules’ bij Tennisvereniging Engelen. Informatie bij Paul Pardoel: 06 44301120.
URL:https://seniorengelen.nl/agenda/jeu-de-boules-2025-12-15/
LOCATION:Tennisvereniging Engelen
CATEGORIES:Wekelijks
ATTACH;FMTTYPE=image/jpeg:https://seniorengelen.nl/wp-content/uploads/2023/03/plaatjejeudeboules-1.jpg
END:VEVENT
BEGIN:VEVENT
DTSTART;TZID=UTC:20251210T093000
DTEND;TZID=UTC:20251210T093000
DTSTAMP:20260420T132023
CREATED:20230330T145234Z
LAST-MODIFIED:20230330T145234Z
UID:18632-1765359000-1765359000@seniorengelen.nl
SUMMARY:Wandelen
DESCRIPTION:Elke 2e en 4e woensdag van de maand gaan we wandelen. Vertrek om 9.30 uur vanaf De Engelenburcht. Er wordt elke keer een andere route uitgezocht. Indien gewenst en bij voldoende belangstelling splitsen we in groepen snellere en langzame wandelaars. Beide groepen komen dan weer samen op de pauzeplek voor een lekker drankje. Informatie bij Henk de Visser 06-12195289.
URL:https://seniorengelen.nl/agenda/wandelen-2025-12-10/
CATEGORIES:Wekelijks
ATTACH;FMTTYPE=image/jpeg:https://seniorengelen.nl/wp-content/uploads/2021/06/wandelen2.jpg
END:VEVENT
BEGIN:VEVENT
DTSTART;TZID=UTC:20251208T140000
DTEND;TZID=UTC:20251208T140000
DTSTAMP:20260420T132023
CREATED:20230323T155745Z
LAST-MODIFIED:20230323T155745Z
UID:18631-1765202400-1765202400@seniorengelen.nl
SUMMARY:Jeu de boules
DESCRIPTION:Elke maandag om 14.00 uur is er ‘Jeu de boules’ bij Tennisvereniging Engelen. Informatie bij Paul Pardoel: 06 44301120.
URL:https://seniorengelen.nl/agenda/jeu-de-boules-2025-12-08/
LOCATION:Tennisvereniging Engelen
CATEGORIES:Wekelijks
ATTACH;FMTTYPE=image/jpeg:https://seniorengelen.nl/wp-content/uploads/2023/03/plaatjejeudeboules-1.jpg
END:VEVENT
BEGIN:VEVENT
DTSTART;TZID=UTC:20251204T140000
DTEND;TZID=UTC:20251204T160000
DTSTAMP:20260420T132023
CREATED:20251125T131633Z
LAST-MODIFIED:20251125T131633Z
UID:18994-1764856800-1764864000@seniorengelen.nl
SUMMARY:Sjoelen
DESCRIPTION:Op de eerste donderdagmiddag van de maand in de wintermaanden gaan we sjoelen met een sjoelbak. Doen we in De Engelenburcht. De volgende keer is op donderdag 4 december van 14.00 tot 16.00 uur. Deelname is gratis. Uiteraard is er een leuk prijsje te verdienen. We hopen weer op een groot aantal deelnemers. Nieuwe deelnemers aanmelden bij Tineke Kaal\, tel: 073-6311611.
URL:https://seniorengelen.nl/agenda/sjoelen-5/
CATEGORIES:Activiteiten
ATTACH;FMTTYPE=image/jpeg:https://seniorengelen.nl/wp-content/uploads/2025/01/Sjoelen.jpg
END:VEVENT
BEGIN:VEVENT
DTSTART;TZID=UTC:20251203T093000
DTEND;TZID=UTC:20251203T093000
DTSTAMP:20260420T132023
CREATED:20230330T151827Z
LAST-MODIFIED:20230330T151827Z
UID:18630-1764754200-1764754200@seniorengelen.nl
SUMMARY:Fietsen
DESCRIPTION:Op de eerste en derde woensdag van de maand gaan we fietsen. Start om 9.30 uur vanaf De Engelenburcht. \nEr wordt elke keer een andere route van ongeveer 25 km uitgezocht met een pauzeplek om iets te drinken. \nInformatie bij André Dirks 06-22500785.
URL:https://seniorengelen.nl/agenda/fietsen-2025-12-03/
ATTACH;FMTTYPE=image/jpeg:https://seniorengelen.nl/wp-content/uploads/2023/03/fietsen-1.jpg
END:VEVENT
BEGIN:VEVENT
DTSTART;TZID=UTC:20251202T100000
DTEND;TZID=UTC:20251202T100000
DTSTAMP:20260420T132023
CREATED:20230323T161422Z
LAST-MODIFIED:20230323T161422Z
UID:18629-1764669600-1764669600@seniorengelen.nl
SUMMARY:Koffie drinken
DESCRIPTION:Elke eerste dinsdag van de maand is het om 10.00 uur koffiedrinken in De Engelenburcht. Hebt u hiervoor vervoer nodig? Maak tijdig een afspraak met Astrid: 06-1231 1319
URL:https://seniorengelen.nl/agenda/koffie-drinken-2025-12-02/
LOCATION:De Engelenburcht\, Heuvel 18\, Den Bosch
CATEGORIES:Wekelijks
ATTACH;FMTTYPE=image/jpeg:https://seniorengelen.nl/wp-content/uploads/2023/03/koffie.jpg
END:VEVENT
BEGIN:VEVENT
DTSTART;TZID=UTC:20251201T140000
DTEND;TZID=UTC:20251201T140000
DTSTAMP:20260420T132023
CREATED:20230323T155745Z
LAST-MODIFIED:20230323T155745Z
UID:18628-1764597600-1764597600@seniorengelen.nl
SUMMARY:Jeu de boules
DESCRIPTION:Elke maandag om 14.00 uur is er ‘Jeu de boules’ bij Tennisvereniging Engelen. Informatie bij Paul Pardoel: 06 44301120.
URL:https://seniorengelen.nl/agenda/jeu-de-boules-2025-12-01/
LOCATION:Tennisvereniging Engelen
CATEGORIES:Wekelijks
ATTACH;FMTTYPE=image/jpeg:https://seniorengelen.nl/wp-content/uploads/2023/03/plaatjejeudeboules-1.jpg
END:VEVENT
BEGIN:VEVENT
DTSTART;TZID=UTC:20251126T093000
DTEND;TZID=UTC:20251126T093000
DTSTAMP:20260420T132023
CREATED:20230330T145736Z
LAST-MODIFIED:20230330T145736Z
UID:18627-1764149400-1764149400@seniorengelen.nl
SUMMARY:Wandelen
DESCRIPTION:Elke 2e en 4e woensdag van de maand gaan we wandelen. Vertrek om 9.30 uur vanaf De Engelenburcht. Er wordt elke keer een andere route uitgezocht. Indien gewenst en bij voldoende belangstelling splitsen we in groepen snellere en langzame wandelaars. Beide groepen komen dan weer samen op de pauzeplek voor een lekker drankje. Informatie bij Henk de Visser 06-12195289.
URL:https://seniorengelen.nl/agenda/wandelen-2-2025-11-26/
ATTACH;FMTTYPE=image/jpeg:https://seniorengelen.nl/wp-content/uploads/2021/06/wandelen2.jpg
END:VEVENT
BEGIN:VEVENT
DTSTART;TZID=UTC:20251124T140000
DTEND;TZID=UTC:20251124T140000
DTSTAMP:20260420T132023
CREATED:20230323T155745Z
LAST-MODIFIED:20230323T155745Z
UID:18626-1763992800-1763992800@seniorengelen.nl
SUMMARY:Jeu de boules
DESCRIPTION:Elke maandag om 14.00 uur is er ‘Jeu de boules’ bij Tennisvereniging Engelen. Informatie bij Paul Pardoel: 06 44301120.
URL:https://seniorengelen.nl/agenda/jeu-de-boules-2025-11-24/
LOCATION:Tennisvereniging Engelen
CATEGORIES:Wekelijks
ATTACH;FMTTYPE=image/jpeg:https://seniorengelen.nl/wp-content/uploads/2023/03/plaatjejeudeboules-1.jpg
END:VEVENT
BEGIN:VEVENT
DTSTART;TZID=UTC:20251121T173000
DTEND;TZID=UTC:20251121T203000
DTSTAMP:20260420T132023
CREATED:20250926T144515Z
LAST-MODIFIED:20250926T144515Z
UID:18954-1763746200-1763757000@seniorengelen.nl
SUMMARY:Hapjesavond
DESCRIPTION:Op vrijdag 21 november is er een hapjesavond bij Mw. Tonny Janssen\, Weislag 17. Aanvang: 17.30 uur. Deelname is gratis. Deelnemers worden verzocht elk 6 kleine hapjes mee te brengen. Aanmelden bij Tineke: 073-631 1611.
URL:https://seniorengelen.nl/agenda/hapjesavond-3/
CATEGORIES:Activiteiten
ATTACH;FMTTYPE=image/jpeg:https://seniorengelen.nl/wp-content/uploads/2024/09/hapjes.jpg
END:VEVENT
BEGIN:VEVENT
DTSTART;TZID=UTC:20251117T140000
DTEND;TZID=UTC:20251117T140000
DTSTAMP:20260420T132023
CREATED:20230323T155745Z
LAST-MODIFIED:20230323T155745Z
UID:18604-1763388000-1763388000@seniorengelen.nl
SUMMARY:Jeu de boules
DESCRIPTION:Elke maandag om 14.00 uur is er ‘Jeu de boules’ bij Tennisvereniging Engelen. Informatie bij Paul Pardoel: 06 44301120.
URL:https://seniorengelen.nl/agenda/jeu-de-boules-2025-11-17/
LOCATION:Tennisvereniging Engelen
CATEGORIES:Wekelijks
ATTACH;FMTTYPE=image/jpeg:https://seniorengelen.nl/wp-content/uploads/2023/03/plaatjejeudeboules-1.jpg
END:VEVENT
BEGIN:VEVENT
DTSTART;TZID=UTC:20251112T093000
DTEND;TZID=UTC:20251112T093000
DTSTAMP:20260420T132023
CREATED:20230330T145234Z
LAST-MODIFIED:20230330T145234Z
UID:18603-1762939800-1762939800@seniorengelen.nl
SUMMARY:Wandelen
DESCRIPTION:Elke 2e en 4e woensdag van de maand gaan we wandelen. Vertrek om 9.30 uur vanaf De Engelenburcht. Er wordt elke keer een andere route uitgezocht. Indien gewenst en bij voldoende belangstelling splitsen we in groepen snellere en langzame wandelaars. Beide groepen komen dan weer samen op de pauzeplek voor een lekker drankje. Informatie bij Henk de Visser 06-12195289.
URL:https://seniorengelen.nl/agenda/wandelen-2025-11-12/
CATEGORIES:Wekelijks
ATTACH;FMTTYPE=image/jpeg:https://seniorengelen.nl/wp-content/uploads/2021/06/wandelen2.jpg
END:VEVENT
BEGIN:VEVENT
DTSTART;TZID=UTC:20251110T140000
DTEND;TZID=UTC:20251110T140000
DTSTAMP:20260420T132023
CREATED:20230323T155745Z
LAST-MODIFIED:20230323T155745Z
UID:18602-1762783200-1762783200@seniorengelen.nl
SUMMARY:Jeu de boules
DESCRIPTION:Elke maandag om 14.00 uur is er ‘Jeu de boules’ bij Tennisvereniging Engelen. Informatie bij Paul Pardoel: 06 44301120.
URL:https://seniorengelen.nl/agenda/jeu-de-boules-2025-11-10/
LOCATION:Tennisvereniging Engelen
CATEGORIES:Wekelijks
ATTACH;FMTTYPE=image/jpeg:https://seniorengelen.nl/wp-content/uploads/2023/03/plaatjejeudeboules-1.jpg
END:VEVENT
BEGIN:VEVENT
DTSTART;TZID=UTC:20251106T140000
DTEND;TZID=UTC:20251106T160000
DTSTAMP:20260420T132023
CREATED:20251019T115845Z
LAST-MODIFIED:20251019T115845Z
UID:18982-1762437600-1762444800@seniorengelen.nl
SUMMARY:Sjoelen
DESCRIPTION:Op de eerste donderdagmiddag van de maand in de wintermaanden gaat Seniorenvereniging Engelen\, Bokhoven en Haverleij sjoelen met een sjoelbak in De Engelenburcht. De volgende keer is op donderdag 6 november van 14.00 tot 16.00 uur. Deelname is gratis. Uiteraard is er een leuk prijsje te verdienen. We hopen op een groot aantal deelnemers. Meld je aan bij Tineke Kaal\, tel: 073-6311611.
URL:https://seniorengelen.nl/agenda/sjoelen-4/
CATEGORIES:Activiteiten
ATTACH;FMTTYPE=image/jpeg:https://seniorengelen.nl/wp-content/uploads/2025/01/Sjoelen.jpg
END:VEVENT
BEGIN:VEVENT
DTSTART;TZID=UTC:20251105T093000
DTEND;TZID=UTC:20251105T093000
DTSTAMP:20260420T132023
CREATED:20230330T151827Z
LAST-MODIFIED:20230330T151827Z
UID:18570-1762335000-1762335000@seniorengelen.nl
SUMMARY:Fietsen
DESCRIPTION:Op de eerste en derde woensdag van de maand gaan we fietsen. Start om 9.30 uur vanaf De Engelenburcht. \nEr wordt elke keer een andere route van ongeveer 25 km uitgezocht met een pauzeplek om iets te drinken. \nInformatie bij André Dirks 06-22500785.
URL:https://seniorengelen.nl/agenda/fietsen-2025-11-05/
ATTACH;FMTTYPE=image/jpeg:https://seniorengelen.nl/wp-content/uploads/2023/03/fietsen-1.jpg
END:VEVENT
BEGIN:VEVENT
DTSTART;TZID=UTC:20251104T100000
DTEND;TZID=UTC:20251104T100000
DTSTAMP:20260420T132023
CREATED:20230323T161422Z
LAST-MODIFIED:20230323T161422Z
UID:18569-1762250400-1762250400@seniorengelen.nl
SUMMARY:Koffie drinken
DESCRIPTION:Elke eerste dinsdag van de maand is het om 10.00 uur koffiedrinken in De Engelenburcht. Hebt u hiervoor vervoer nodig? Maak tijdig een afspraak met Astrid: 06-1231 1319
URL:https://seniorengelen.nl/agenda/koffie-drinken-2025-11-04/
LOCATION:De Engelenburcht\, Heuvel 18\, Den Bosch
CATEGORIES:Wekelijks
ATTACH;FMTTYPE=image/jpeg:https://seniorengelen.nl/wp-content/uploads/2023/03/koffie.jpg
END:VEVENT
BEGIN:VEVENT
DTSTART;TZID=UTC:20251103T140000
DTEND;TZID=UTC:20251103T140000
DTSTAMP:20260420T132023
CREATED:20230323T155745Z
LAST-MODIFIED:20230323T155745Z
UID:18568-1762178400-1762178400@seniorengelen.nl
SUMMARY:Jeu de boules
DESCRIPTION:Elke maandag om 14.00 uur is er ‘Jeu de boules’ bij Tennisvereniging Engelen. Informatie bij Paul Pardoel: 06 44301120.
URL:https://seniorengelen.nl/agenda/jeu-de-boules-2025-11-03/
LOCATION:Tennisvereniging Engelen
CATEGORIES:Wekelijks
ATTACH;FMTTYPE=image/jpeg:https://seniorengelen.nl/wp-content/uploads/2023/03/plaatjejeudeboules-1.jpg
END:VEVENT
BEGIN:VEVENT
DTSTART;TZID=UTC:20251027T140000
DTEND;TZID=UTC:20251027T140000
DTSTAMP:20260420T132023
CREATED:20230323T155745Z
LAST-MODIFIED:20230323T155745Z
UID:18567-1761573600-1761573600@seniorengelen.nl
SUMMARY:Jeu de boules
DESCRIPTION:Elke maandag om 14.00 uur is er ‘Jeu de boules’ bij Tennisvereniging Engelen. Informatie bij Paul Pardoel: 06 44301120.
URL:https://seniorengelen.nl/agenda/jeu-de-boules-2025-10-27/
LOCATION:Tennisvereniging Engelen
CATEGORIES:Wekelijks
ATTACH;FMTTYPE=image/jpeg:https://seniorengelen.nl/wp-content/uploads/2023/03/plaatjejeudeboules-1.jpg
END:VEVENT
BEGIN:VEVENT
DTSTART;TZID=UTC:20251022T093000
DTEND;TZID=UTC:20251022T093000
DTSTAMP:20260420T132023
CREATED:20230330T145736Z
LAST-MODIFIED:20230330T145736Z
UID:18566-1761125400-1761125400@seniorengelen.nl
SUMMARY:Wandelen
DESCRIPTION:Elke 2e en 4e woensdag van de maand gaan we wandelen. Vertrek om 9.30 uur vanaf De Engelenburcht. Er wordt elke keer een andere route uitgezocht. Indien gewenst en bij voldoende belangstelling splitsen we in groepen snellere en langzame wandelaars. Beide groepen komen dan weer samen op de pauzeplek voor een lekker drankje. Informatie bij Henk de Visser 06-12195289.
URL:https://seniorengelen.nl/agenda/wandelen-2-2025-10-22/
ATTACH;FMTTYPE=image/jpeg:https://seniorengelen.nl/wp-content/uploads/2021/06/wandelen2.jpg
END:VEVENT
BEGIN:VEVENT
DTSTART;TZID=UTC:20251020T140000
DTEND;TZID=UTC:20251020T140000
DTSTAMP:20260420T132023
CREATED:20230323T155745Z
LAST-MODIFIED:20230323T155745Z
UID:18565-1760968800-1760968800@seniorengelen.nl
SUMMARY:Jeu de boules
DESCRIPTION:Elke maandag om 14.00 uur is er ‘Jeu de boules’ bij Tennisvereniging Engelen. Informatie bij Paul Pardoel: 06 44301120.
URL:https://seniorengelen.nl/agenda/jeu-de-boules-2025-10-20/
LOCATION:Tennisvereniging Engelen
CATEGORIES:Wekelijks
ATTACH;FMTTYPE=image/jpeg:https://seniorengelen.nl/wp-content/uploads/2023/03/plaatjejeudeboules-1.jpg
END:VEVENT
BEGIN:VEVENT
DTSTART;TZID=UTC:20251013T140000
DTEND;TZID=UTC:20251013T140000
DTSTAMP:20260420T132023
CREATED:20230323T155745Z
LAST-MODIFIED:20230323T155745Z
UID:18564-1760364000-1760364000@seniorengelen.nl
SUMMARY:Jeu de boules
DESCRIPTION:Elke maandag om 14.00 uur is er ‘Jeu de boules’ bij Tennisvereniging Engelen. Informatie bij Paul Pardoel: 06 44301120.
URL:https://seniorengelen.nl/agenda/jeu-de-boules-2025-10-13/
LOCATION:Tennisvereniging Engelen
CATEGORIES:Wekelijks
ATTACH;FMTTYPE=image/jpeg:https://seniorengelen.nl/wp-content/uploads/2023/03/plaatjejeudeboules-1.jpg
END:VEVENT
BEGIN:VEVENT
DTSTART;TZID=UTC:20251008T093000
DTEND;TZID=UTC:20251008T093000
DTSTAMP:20260420T132023
CREATED:20230330T145234Z
LAST-MODIFIED:20230330T145234Z
UID:18512-1759915800-1759915800@seniorengelen.nl
SUMMARY:Wandelen
DESCRIPTION:Elke 2e en 4e woensdag van de maand gaan we wandelen. Vertrek om 9.30 uur vanaf De Engelenburcht. Er wordt elke keer een andere route uitgezocht. Indien gewenst en bij voldoende belangstelling splitsen we in groepen snellere en langzame wandelaars. Beide groepen komen dan weer samen op de pauzeplek voor een lekker drankje. Informatie bij Henk de Visser 06-12195289.
URL:https://seniorengelen.nl/agenda/wandelen-2025-10-08/
CATEGORIES:Wekelijks
ATTACH;FMTTYPE=image/jpeg:https://seniorengelen.nl/wp-content/uploads/2021/06/wandelen2.jpg
END:VEVENT
BEGIN:VEVENT
DTSTART;TZID=UTC:20251007T100000
DTEND;TZID=UTC:20251007T100000
DTSTAMP:20260420T132023
CREATED:20230323T161422Z
LAST-MODIFIED:20230323T161422Z
UID:18511-1759831200-1759831200@seniorengelen.nl
SUMMARY:Koffie drinken
DESCRIPTION:Elke eerste dinsdag van de maand is het om 10.00 uur koffiedrinken in De Engelenburcht. Hebt u hiervoor vervoer nodig? Maak tijdig een afspraak met Astrid: 06-1231 1319
URL:https://seniorengelen.nl/agenda/koffie-drinken-2025-10-07/
LOCATION:De Engelenburcht\, Heuvel 18\, Den Bosch
CATEGORIES:Wekelijks
ATTACH;FMTTYPE=image/jpeg:https://seniorengelen.nl/wp-content/uploads/2023/03/koffie.jpg
END:VEVENT
BEGIN:VEVENT
DTSTART;TZID=UTC:20251006T140000
DTEND;TZID=UTC:20251006T140000
DTSTAMP:20260420T132023
CREATED:20230323T155745Z
LAST-MODIFIED:20230323T155745Z
UID:18510-1759759200-1759759200@seniorengelen.nl
SUMMARY:Jeu de boules
DESCRIPTION:Elke maandag om 14.00 uur is er ‘Jeu de boules’ bij Tennisvereniging Engelen. Informatie bij Paul Pardoel: 06 44301120.
URL:https://seniorengelen.nl/agenda/jeu-de-boules-2025-10-06/
LOCATION:Tennisvereniging Engelen
CATEGORIES:Wekelijks
ATTACH;FMTTYPE=image/jpeg:https://seniorengelen.nl/wp-content/uploads/2023/03/plaatjejeudeboules-1.jpg
END:VEVENT
BEGIN:VEVENT
DTSTART;TZID=UTC:20251003T133000
DTEND;TZID=UTC:20251003T163000
DTSTAMP:20260420T132023
CREATED:20250823T092330Z
LAST-MODIFIED:20250823T092330Z
UID:18893-1759498200-1759509000@seniorengelen.nl
SUMMARY:Filmmiddag in Verkadefabriek
DESCRIPTION:Op vrijdag 3 oktober organiseren we een filmmiddag in de Verkadefabriek in ‘s-Hertogenbosch. We vertrekken om 13.30 uur bij De Engelenburcht. De kosten zijn € 12\,00 p.p. De keuze van de film wordt later gemaakt. Als u interesse hebt voor dit bijzondere initiatief\, stort dan voor 15 september het verschuldigde bedrag op NL85 RABO 0121.9306.29 ten name van Seniorenvereniging Engelen/Bokhoven onder vermelding van ‘film’. Mocht activiteit niet doorgaan\, dan krijgt u uw geld direct terug.
URL:https://seniorengelen.nl/agenda/filmmiddag-in-verkadefabriek/
CATEGORIES:Activiteiten
ATTACH;FMTTYPE=image/jpeg:https://seniorengelen.nl/wp-content/uploads/2025/08/Plaatjefilm.jpg
END:VEVENT
BEGIN:VEVENT
DTSTART;TZID=UTC:20251002T140000
DTEND;TZID=UTC:20251002T160000
DTSTAMP:20260420T132023
CREATED:20250823T094057Z
LAST-MODIFIED:20250823T094057Z
UID:18896-1759413600-1759420800@seniorengelen.nl
SUMMARY:Sjoelen
DESCRIPTION:Op de eerste donderdagmiddag van de maand in de wintermaanden gaan we weer sjoelen met een sjoelbak. We doen ook dit jaar weer in De Engelenburcht. De eerste keer is op donderdag 2 oktober van 14.00 tot 16.00 uur. Deelname is gratis. De eerste keer is ook de koffie of een ander drankje gratis! Uiteraard is er een leuk prijsje te verdienen. We hopen op een groot aantal deelnemers. Meld je aan bij Tineke Kaal\, tel: 073-6311611.
URL:https://seniorengelen.nl/agenda/sjoelen-3/
CATEGORIES:Activiteiten
ATTACH;FMTTYPE=image/jpeg:https://seniorengelen.nl/wp-content/uploads/2025/01/Sjoelen.jpg
END:VEVENT
BEGIN:VEVENT
DTSTART;TZID=UTC:20251001T093000
DTEND;TZID=UTC:20251001T093000
DTSTAMP:20260420T132023
CREATED:20230330T151827Z
LAST-MODIFIED:20230330T151827Z
UID:18509-1759311000-1759311000@seniorengelen.nl
SUMMARY:Fietsen
DESCRIPTION:Op de eerste en derde woensdag van de maand gaan we fietsen. Start om 9.30 uur vanaf De Engelenburcht. \nEr wordt elke keer een andere route van ongeveer 25 km uitgezocht met een pauzeplek om iets te drinken. \nInformatie bij André Dirks 06-22500785.
URL:https://seniorengelen.nl/agenda/fietsen-2025-10-01/
ATTACH;FMTTYPE=image/jpeg:https://seniorengelen.nl/wp-content/uploads/2023/03/fietsen-1.jpg
END:VEVENT
END:VCALENDAR