BEGIN:VCALENDAR
VERSION:2.0
PRODID:-//Senioren Vereniging Engelen - ECPv6.15.11//NONSGML v1.0//EN
CALSCALE:GREGORIAN
METHOD:PUBLISH
X-ORIGINAL-URL:https://seniorengelen.nl
X-WR-CALDESC:Evenementen voor Senioren Vereniging Engelen
REFRESH-INTERVAL;VALUE=DURATION:PT1H
X-Robots-Tag:noindex
X-PUBLISHED-TTL:PT1H
BEGIN:VTIMEZONE
TZID:UTC
BEGIN:STANDARD
TZOFFSETFROM:+0000
TZOFFSETTO:+0000
TZNAME:UTC
DTSTART:20230101T000000
END:STANDARD
END:VTIMEZONE
BEGIN:VEVENT
DTSTART;TZID=UTC:20240507T100000
DTEND;TZID=UTC:20240507T100000
DTSTAMP:20260425T140052
CREATED:20230323T161422Z
LAST-MODIFIED:20230323T161422Z
UID:17574-1715076000-1715076000@seniorengelen.nl
SUMMARY:Koffie drinken
DESCRIPTION:Elke eerste dinsdag van de maand is het om 10.00 uur koffiedrinken in De Engelenburcht. Hebt u hiervoor vervoer nodig? Maak tijdig een afspraak met Astrid: 06-1231 1319
URL:https://seniorengelen.nl/agenda/koffie-drinken-2024-05-07/
LOCATION:De Engelenburcht\, Heuvel 18\, Den Bosch
CATEGORIES:Wekelijks
ATTACH;FMTTYPE=image/jpeg:https://seniorengelen.nl/wp-content/uploads/2023/03/koffie.jpg
END:VEVENT
BEGIN:VEVENT
DTSTART;TZID=UTC:20240506T140000
DTEND;TZID=UTC:20240506T140000
DTSTAMP:20260425T140052
CREATED:20230323T155745Z
LAST-MODIFIED:20230323T155745Z
UID:17417-1715004000-1715004000@seniorengelen.nl
SUMMARY:Jeu de boules
DESCRIPTION:Elke maandag om 14.00 uur is er ‘Jeu de boules’ bij Tennisvereniging Engelen. Informatie bij Paul Pardoel: 06 44301120.
URL:https://seniorengelen.nl/agenda/jeu-de-boules-2024-05-06/
LOCATION:Tennisvereniging Engelen
CATEGORIES:Wekelijks
ATTACH;FMTTYPE=image/jpeg:https://seniorengelen.nl/wp-content/uploads/2023/03/plaatjejeudeboules-1.jpg
END:VEVENT
BEGIN:VEVENT
DTSTART;TZID=UTC:20240503T110000
DTEND;TZID=UTC:20240503T133000
DTSTAMP:20260425T140052
CREATED:20240311T134601Z
LAST-MODIFIED:20240311T134936Z
UID:18756-1714734000-1714743000@seniorengelen.nl
SUMMARY:Vrijheidslunch vrijdag 3 mei
DESCRIPTION:Op vrijdag 3 mei organiseren Comité 4 en 5 mei van Engelens Belang\, Seniorenvereniging Engelen\, Bokhoven en Haverleij\, Zonnebloem Engelen/Bokhoven en Huiskamer Farent\, evenals vorig jaar\, weer een gezellige vrijheidslunch in De Engelenburcht. Iedereen is welkom van 11.00 tot 13.30 uur. De lunch bestaat onder andere uit salade\, soep en broodjes. Tijdens deze bijeenkomst is er een korte presentatie door leden van Heemkundegroep Angrisa. \nDe gasten van de Zonnebloem krijgen hiervoor een uitnodiging\, de leden van de seniorenvereniging kunnen zich aanmelden door € 4\,00 over te maken op bankrekening NL85 RABO 0121 9306 29 ten name van Seniorenvereniging Engelen/Bokhoven onder vermelding van vrijheidslunch. Let op: meld u zich niet dubbel aan. \nAndere belangstellenden kunnen zich aanmelden via comité 4 en 5 mei van Engelens Belang: 06-22488741 en betalen € 8\,00 contant aan de zaal. Aanmelden kan uiterlijk tot 24 april. We rekenen op uw aanwezigheid!
URL:https://seniorengelen.nl/agenda/vrijheidslunch-vrijdag-3-mei/
CATEGORIES:Activiteiten
ATTACH;FMTTYPE=image/png:https://seniorengelen.nl/wp-content/uploads/2023/03/vrijheids-lunch.png
END:VEVENT
BEGIN:VEVENT
DTSTART;TZID=UTC:20240501T093000
DTEND;TZID=UTC:20240501T093000
DTSTAMP:20260425T140052
CREATED:20230330T151827Z
LAST-MODIFIED:20230330T151827Z
UID:18166-1714555800-1714555800@seniorengelen.nl
SUMMARY:Fietsen
DESCRIPTION:Op de eerste en derde woensdag van de maand gaan we fietsen. Start om 9.30 uur vanaf De Engelenburcht. \nEr wordt elke keer een andere route van ongeveer 25 km uitgezocht met een pauzeplek om iets te drinken. \nInformatie bij André Dirks 06-22500785.
URL:https://seniorengelen.nl/agenda/fietsen-2024-05-01/
ATTACH;FMTTYPE=image/jpeg:https://seniorengelen.nl/wp-content/uploads/2023/03/fietsen-1.jpg
END:VEVENT
BEGIN:VEVENT
DTSTART;TZID=UTC:20240429T140000
DTEND;TZID=UTC:20240429T140000
DTSTAMP:20260425T140052
CREATED:20230323T155745Z
LAST-MODIFIED:20230323T155745Z
UID:17416-1714399200-1714399200@seniorengelen.nl
SUMMARY:Jeu de boules
DESCRIPTION:Elke maandag om 14.00 uur is er ‘Jeu de boules’ bij Tennisvereniging Engelen. Informatie bij Paul Pardoel: 06 44301120.
URL:https://seniorengelen.nl/agenda/jeu-de-boules-2024-04-29/
LOCATION:Tennisvereniging Engelen
CATEGORIES:Wekelijks
ATTACH;FMTTYPE=image/jpeg:https://seniorengelen.nl/wp-content/uploads/2023/03/plaatjejeudeboules-1.jpg
END:VEVENT
BEGIN:VEVENT
DTSTART;TZID=UTC:20240424T093000
DTEND;TZID=UTC:20240424T093000
DTSTAMP:20260425T140052
CREATED:20230330T145736Z
LAST-MODIFIED:20230330T145736Z
UID:18126-1713951000-1713951000@seniorengelen.nl
SUMMARY:Wandelen
DESCRIPTION:Elke 2e en 4e woensdag van de maand gaan we wandelen. Vertrek om 9.30 uur vanaf De Engelenburcht. Er wordt elke keer een andere route uitgezocht. Indien gewenst en bij voldoende belangstelling splitsen we in groepen snellere en langzame wandelaars. Beide groepen komen dan weer samen op de pauzeplek voor een lekker drankje. Informatie bij Henk de Visser 06-12195289.
URL:https://seniorengelen.nl/agenda/wandelen-2-2024-04-24/
ATTACH;FMTTYPE=image/jpeg:https://seniorengelen.nl/wp-content/uploads/2021/06/wandelen2.jpg
END:VEVENT
BEGIN:VEVENT
DTSTART;TZID=UTC:20240422T140000
DTEND;TZID=UTC:20240422T140000
DTSTAMP:20260425T140052
CREATED:20230323T155745Z
LAST-MODIFIED:20230323T155745Z
UID:17415-1713794400-1713794400@seniorengelen.nl
SUMMARY:Jeu de boules
DESCRIPTION:Elke maandag om 14.00 uur is er ‘Jeu de boules’ bij Tennisvereniging Engelen. Informatie bij Paul Pardoel: 06 44301120.
URL:https://seniorengelen.nl/agenda/jeu-de-boules-2024-04-22/
LOCATION:Tennisvereniging Engelen
CATEGORIES:Wekelijks
ATTACH;FMTTYPE=image/jpeg:https://seniorengelen.nl/wp-content/uploads/2023/03/plaatjejeudeboules-1.jpg
END:VEVENT
BEGIN:VEVENT
DTSTART;TZID=UTC:20240417T093000
DTEND;TZID=UTC:20240417T093000
DTSTAMP:20260425T140052
CREATED:20230330T151827Z
LAST-MODIFIED:20230330T151827Z
UID:18165-1713346200-1713346200@seniorengelen.nl
SUMMARY:Fietsen
DESCRIPTION:Op de eerste en derde woensdag van de maand gaan we fietsen. Start om 9.30 uur vanaf De Engelenburcht. \nEr wordt elke keer een andere route van ongeveer 25 km uitgezocht met een pauzeplek om iets te drinken. \nInformatie bij André Dirks 06-22500785.
URL:https://seniorengelen.nl/agenda/fietsen-2024-04-17/
ATTACH;FMTTYPE=image/jpeg:https://seniorengelen.nl/wp-content/uploads/2023/03/fietsen-1.jpg
END:VEVENT
BEGIN:VEVENT
DTSTART;TZID=UTC:20240415T140000
DTEND;TZID=UTC:20240415T140000
DTSTAMP:20260425T140052
CREATED:20230323T155745Z
LAST-MODIFIED:20230323T155745Z
UID:17414-1713189600-1713189600@seniorengelen.nl
SUMMARY:Jeu de boules
DESCRIPTION:Elke maandag om 14.00 uur is er ‘Jeu de boules’ bij Tennisvereniging Engelen. Informatie bij Paul Pardoel: 06 44301120.
URL:https://seniorengelen.nl/agenda/jeu-de-boules-2024-04-15/
LOCATION:Tennisvereniging Engelen
CATEGORIES:Wekelijks
ATTACH;FMTTYPE=image/jpeg:https://seniorengelen.nl/wp-content/uploads/2023/03/plaatjejeudeboules-1.jpg
END:VEVENT
BEGIN:VEVENT
DTSTART;TZID=UTC:20240412T120000
DTEND;TZID=UTC:20240412T153000
DTSTAMP:20260425T140052
CREATED:20240227T092222Z
LAST-MODIFIED:20240227T092222Z
UID:18745-1712923200-1712935800@seniorengelen.nl
SUMMARY:Bezoek Gerechtshof 's-Hertogenbosch
DESCRIPTION:Op vrijdag 12 april brengen we een bezoek aan het gerechtshof in ‘s-Hertogenbosch. We krijgen een rondleiding van een uur en uitleg over het gebouw en de grote collectie wandkleden in de verschillende zittingszalen. We verzamelen om 12.00 uur bij De Engelenburcht. Na afloop drinken we gezamenlijk koffie/thee.  De kosten bedragen € 5\,00 per persoon. U kunt zich aanmelden door dit bedrag te storten op bankrekening NL85 RABO 0121 9306 29 ten name van Seniorenvereniging Engelen/Bokhoven onder vermelding van gerechtshof.
URL:https://seniorengelen.nl/agenda/bezoek-gerechtshof-s-hertogenbosch/
CATEGORIES:Activiteiten
ATTACH;FMTTYPE=image/jpeg:https://seniorengelen.nl/wp-content/uploads/2024/02/Fotogerechtshof.jpeg
END:VEVENT
BEGIN:VEVENT
DTSTART;TZID=UTC:20240410T093000
DTEND;TZID=UTC:20240410T093000
DTSTAMP:20260425T140052
CREATED:20230330T145234Z
LAST-MODIFIED:20230330T145234Z
UID:18101-1712741400-1712741400@seniorengelen.nl
SUMMARY:Wandelen
DESCRIPTION:Elke 2e en 4e woensdag van de maand gaan we wandelen. Vertrek om 9.30 uur vanaf De Engelenburcht. Er wordt elke keer een andere route uitgezocht. Indien gewenst en bij voldoende belangstelling splitsen we in groepen snellere en langzame wandelaars. Beide groepen komen dan weer samen op de pauzeplek voor een lekker drankje. Informatie bij Henk de Visser 06-12195289.
URL:https://seniorengelen.nl/agenda/wandelen-2024-04-10/
CATEGORIES:Wekelijks
ATTACH;FMTTYPE=image/jpeg:https://seniorengelen.nl/wp-content/uploads/2021/06/wandelen2.jpg
END:VEVENT
BEGIN:VEVENT
DTSTART;TZID=UTC:20240408T140000
DTEND;TZID=UTC:20240408T140000
DTSTAMP:20260425T140052
CREATED:20230323T155745Z
LAST-MODIFIED:20230323T155745Z
UID:17413-1712584800-1712584800@seniorengelen.nl
SUMMARY:Jeu de boules
DESCRIPTION:Elke maandag om 14.00 uur is er ‘Jeu de boules’ bij Tennisvereniging Engelen. Informatie bij Paul Pardoel: 06 44301120.
URL:https://seniorengelen.nl/agenda/jeu-de-boules-2024-04-08/
LOCATION:Tennisvereniging Engelen
CATEGORIES:Wekelijks
ATTACH;FMTTYPE=image/jpeg:https://seniorengelen.nl/wp-content/uploads/2023/03/plaatjejeudeboules-1.jpg
END:VEVENT
BEGIN:VEVENT
DTSTART;TZID=UTC:20240403T093000
DTEND;TZID=UTC:20240403T093000
DTSTAMP:20260425T140052
CREATED:20230330T151827Z
LAST-MODIFIED:20230330T151827Z
UID:18164-1712136600-1712136600@seniorengelen.nl
SUMMARY:Fietsen
DESCRIPTION:Op de eerste en derde woensdag van de maand gaan we fietsen. Start om 9.30 uur vanaf De Engelenburcht. \nEr wordt elke keer een andere route van ongeveer 25 km uitgezocht met een pauzeplek om iets te drinken. \nInformatie bij André Dirks 06-22500785.
URL:https://seniorengelen.nl/agenda/fietsen-2024-04-03/
ATTACH;FMTTYPE=image/jpeg:https://seniorengelen.nl/wp-content/uploads/2023/03/fietsen-1.jpg
END:VEVENT
BEGIN:VEVENT
DTSTART;TZID=UTC:20240402T100000
DTEND;TZID=UTC:20240402T100000
DTSTAMP:20260425T140052
CREATED:20230323T161422Z
LAST-MODIFIED:20230323T161422Z
UID:17573-1712052000-1712052000@seniorengelen.nl
SUMMARY:Koffie drinken
DESCRIPTION:Elke eerste dinsdag van de maand is het om 10.00 uur koffiedrinken in De Engelenburcht. Hebt u hiervoor vervoer nodig? Maak tijdig een afspraak met Astrid: 06-1231 1319
URL:https://seniorengelen.nl/agenda/koffie-drinken-2024-04-02/
LOCATION:De Engelenburcht\, Heuvel 18\, Den Bosch
CATEGORIES:Wekelijks
ATTACH;FMTTYPE=image/jpeg:https://seniorengelen.nl/wp-content/uploads/2023/03/koffie.jpg
END:VEVENT
BEGIN:VEVENT
DTSTART;TZID=UTC:20240401T140000
DTEND;TZID=UTC:20240401T140000
DTSTAMP:20260425T140052
CREATED:20230323T155745Z
LAST-MODIFIED:20230323T155745Z
UID:17412-1711980000-1711980000@seniorengelen.nl
SUMMARY:Jeu de boules
DESCRIPTION:Elke maandag om 14.00 uur is er ‘Jeu de boules’ bij Tennisvereniging Engelen. Informatie bij Paul Pardoel: 06 44301120.
URL:https://seniorengelen.nl/agenda/jeu-de-boules-2024-04-01/
LOCATION:Tennisvereniging Engelen
CATEGORIES:Wekelijks
ATTACH;FMTTYPE=image/jpeg:https://seniorengelen.nl/wp-content/uploads/2023/03/plaatjejeudeboules-1.jpg
END:VEVENT
BEGIN:VEVENT
DTSTART;TZID=UTC:20240327T093000
DTEND;TZID=UTC:20240327T093000
DTSTAMP:20260425T140053
CREATED:20230330T145736Z
LAST-MODIFIED:20230330T145736Z
UID:18125-1711531800-1711531800@seniorengelen.nl
SUMMARY:Wandelen
DESCRIPTION:Elke 2e en 4e woensdag van de maand gaan we wandelen. Vertrek om 9.30 uur vanaf De Engelenburcht. Er wordt elke keer een andere route uitgezocht. Indien gewenst en bij voldoende belangstelling splitsen we in groepen snellere en langzame wandelaars. Beide groepen komen dan weer samen op de pauzeplek voor een lekker drankje. Informatie bij Henk de Visser 06-12195289.
URL:https://seniorengelen.nl/agenda/wandelen-2-2024-03-27/
ATTACH;FMTTYPE=image/jpeg:https://seniorengelen.nl/wp-content/uploads/2021/06/wandelen2.jpg
END:VEVENT
BEGIN:VEVENT
DTSTART;TZID=UTC:20240325T140000
DTEND;TZID=UTC:20240325T140000
DTSTAMP:20260425T140053
CREATED:20230323T155745Z
LAST-MODIFIED:20230323T155745Z
UID:17411-1711375200-1711375200@seniorengelen.nl
SUMMARY:Jeu de boules
DESCRIPTION:Elke maandag om 14.00 uur is er ‘Jeu de boules’ bij Tennisvereniging Engelen. Informatie bij Paul Pardoel: 06 44301120.
URL:https://seniorengelen.nl/agenda/jeu-de-boules-2024-03-25/
LOCATION:Tennisvereniging Engelen
CATEGORIES:Wekelijks
ATTACH;FMTTYPE=image/jpeg:https://seniorengelen.nl/wp-content/uploads/2023/03/plaatjejeudeboules-1.jpg
END:VEVENT
BEGIN:VEVENT
DTSTART;TZID=UTC:20240320T093000
DTEND;TZID=UTC:20240320T093000
DTSTAMP:20260425T140053
CREATED:20230330T151827Z
LAST-MODIFIED:20230330T151827Z
UID:18163-1710927000-1710927000@seniorengelen.nl
SUMMARY:Fietsen
DESCRIPTION:Op de eerste en derde woensdag van de maand gaan we fietsen. Start om 9.30 uur vanaf De Engelenburcht. \nEr wordt elke keer een andere route van ongeveer 25 km uitgezocht met een pauzeplek om iets te drinken. \nInformatie bij André Dirks 06-22500785.
URL:https://seniorengelen.nl/agenda/fietsen-2024-03-20/
ATTACH;FMTTYPE=image/jpeg:https://seniorengelen.nl/wp-content/uploads/2023/03/fietsen-1.jpg
END:VEVENT
BEGIN:VEVENT
DTSTART;TZID=UTC:20240318T140000
DTEND;TZID=UTC:20240318T140000
DTSTAMP:20260425T140053
CREATED:20230323T155745Z
LAST-MODIFIED:20230323T155745Z
UID:17410-1710770400-1710770400@seniorengelen.nl
SUMMARY:Jeu de boules
DESCRIPTION:Elke maandag om 14.00 uur is er ‘Jeu de boules’ bij Tennisvereniging Engelen. Informatie bij Paul Pardoel: 06 44301120.
URL:https://seniorengelen.nl/agenda/jeu-de-boules-2024-03-18/
LOCATION:Tennisvereniging Engelen
CATEGORIES:Wekelijks
ATTACH;FMTTYPE=image/jpeg:https://seniorengelen.nl/wp-content/uploads/2023/03/plaatjejeudeboules-1.jpg
END:VEVENT
BEGIN:VEVENT
DTSTART;TZID=UTC:20240313T093000
DTEND;TZID=UTC:20240313T093000
DTSTAMP:20260425T140053
CREATED:20230330T145234Z
LAST-MODIFIED:20230330T145234Z
UID:18100-1710322200-1710322200@seniorengelen.nl
SUMMARY:Wandelen
DESCRIPTION:Elke 2e en 4e woensdag van de maand gaan we wandelen. Vertrek om 9.30 uur vanaf De Engelenburcht. Er wordt elke keer een andere route uitgezocht. Indien gewenst en bij voldoende belangstelling splitsen we in groepen snellere en langzame wandelaars. Beide groepen komen dan weer samen op de pauzeplek voor een lekker drankje. Informatie bij Henk de Visser 06-12195289.
URL:https://seniorengelen.nl/agenda/wandelen-2024-03-13/
CATEGORIES:Wekelijks
ATTACH;FMTTYPE=image/jpeg:https://seniorengelen.nl/wp-content/uploads/2021/06/wandelen2.jpg
END:VEVENT
BEGIN:VEVENT
DTSTART;TZID=UTC:20240311T140000
DTEND;TZID=UTC:20240311T140000
DTSTAMP:20260425T140053
CREATED:20230323T155745Z
LAST-MODIFIED:20230323T155745Z
UID:17409-1710165600-1710165600@seniorengelen.nl
SUMMARY:Jeu de boules
DESCRIPTION:Elke maandag om 14.00 uur is er ‘Jeu de boules’ bij Tennisvereniging Engelen. Informatie bij Paul Pardoel: 06 44301120.
URL:https://seniorengelen.nl/agenda/jeu-de-boules-2024-03-11/
LOCATION:Tennisvereniging Engelen
CATEGORIES:Wekelijks
ATTACH;FMTTYPE=image/jpeg:https://seniorengelen.nl/wp-content/uploads/2023/03/plaatjejeudeboules-1.jpg
END:VEVENT
BEGIN:VEVENT
DTSTART;TZID=UTC:20240306T093000
DTEND;TZID=UTC:20240306T140000
DTSTAMP:20260425T140053
CREATED:20240126T104320Z
LAST-MODIFIED:20240126T104320Z
UID:18699-1709717400-1709733600@seniorengelen.nl
SUMMARY:Bezoek Ikea
DESCRIPTION:Op woensdag 6 maart gaan we op bezoek bij Ikea in Eindhoven. Verzamelen om 9.30 uur bij De Engelenburcht. Deelname is gratis. Aanmelden bij Astrid: 06-1231 1319. Graag aangeven of u zelf rijdt en eventueel bezoekers kunt meenemen of dat u graag wilt meerijden.
URL:https://seniorengelen.nl/agenda/bezoek-ikea/
CATEGORIES:Activiteiten
ATTACH;FMTTYPE=image/webp:https://seniorengelen.nl/wp-content/uploads/2024/01/ikea-logo-3313e386d5420bc0e8e92cbac2dc7a43.webp
END:VEVENT
BEGIN:VEVENT
DTSTART;TZID=UTC:20240306T093000
DTEND;TZID=UTC:20240306T093000
DTSTAMP:20260425T140053
CREATED:20230330T151827Z
LAST-MODIFIED:20230330T151827Z
UID:18162-1709717400-1709717400@seniorengelen.nl
SUMMARY:Fietsen
DESCRIPTION:Op de eerste en derde woensdag van de maand gaan we fietsen. Start om 9.30 uur vanaf De Engelenburcht. \nEr wordt elke keer een andere route van ongeveer 25 km uitgezocht met een pauzeplek om iets te drinken. \nInformatie bij André Dirks 06-22500785.
URL:https://seniorengelen.nl/agenda/fietsen-2024-03-06/
ATTACH;FMTTYPE=image/jpeg:https://seniorengelen.nl/wp-content/uploads/2023/03/fietsen-1.jpg
END:VEVENT
BEGIN:VEVENT
DTSTART;TZID=UTC:20240305T100000
DTEND;TZID=UTC:20240305T100000
DTSTAMP:20260425T140053
CREATED:20230323T161422Z
LAST-MODIFIED:20230323T161422Z
UID:17572-1709632800-1709632800@seniorengelen.nl
SUMMARY:Koffie drinken
DESCRIPTION:Elke eerste dinsdag van de maand is het om 10.00 uur koffiedrinken in De Engelenburcht. Hebt u hiervoor vervoer nodig? Maak tijdig een afspraak met Astrid: 06-1231 1319
URL:https://seniorengelen.nl/agenda/koffie-drinken-2024-03-05/
LOCATION:De Engelenburcht\, Heuvel 18\, Den Bosch
CATEGORIES:Wekelijks
ATTACH;FMTTYPE=image/jpeg:https://seniorengelen.nl/wp-content/uploads/2023/03/koffie.jpg
END:VEVENT
BEGIN:VEVENT
DTSTART;TZID=UTC:20240304T140000
DTEND;TZID=UTC:20240304T140000
DTSTAMP:20260425T140053
CREATED:20230323T155745Z
LAST-MODIFIED:20230323T155745Z
UID:17408-1709560800-1709560800@seniorengelen.nl
SUMMARY:Jeu de boules
DESCRIPTION:Elke maandag om 14.00 uur is er ‘Jeu de boules’ bij Tennisvereniging Engelen. Informatie bij Paul Pardoel: 06 44301120.
URL:https://seniorengelen.nl/agenda/jeu-de-boules-2024-03-04/
LOCATION:Tennisvereniging Engelen
CATEGORIES:Wekelijks
ATTACH;FMTTYPE=image/jpeg:https://seniorengelen.nl/wp-content/uploads/2023/03/plaatjejeudeboules-1.jpg
END:VEVENT
BEGIN:VEVENT
DTSTART;TZID=UTC:20240228T093000
DTEND;TZID=UTC:20240228T093000
DTSTAMP:20260425T140053
CREATED:20230330T145736Z
LAST-MODIFIED:20230330T145736Z
UID:18124-1709112600-1709112600@seniorengelen.nl
SUMMARY:Wandelen
DESCRIPTION:Elke 2e en 4e woensdag van de maand gaan we wandelen. Vertrek om 9.30 uur vanaf De Engelenburcht. Er wordt elke keer een andere route uitgezocht. Indien gewenst en bij voldoende belangstelling splitsen we in groepen snellere en langzame wandelaars. Beide groepen komen dan weer samen op de pauzeplek voor een lekker drankje. Informatie bij Henk de Visser 06-12195289.
URL:https://seniorengelen.nl/agenda/wandelen-2-2024-02-28/
ATTACH;FMTTYPE=image/jpeg:https://seniorengelen.nl/wp-content/uploads/2021/06/wandelen2.jpg
END:VEVENT
BEGIN:VEVENT
DTSTART;TZID=UTC:20240226T140000
DTEND;TZID=UTC:20240226T140000
DTSTAMP:20260425T140053
CREATED:20230323T155745Z
LAST-MODIFIED:20230323T155745Z
UID:17407-1708956000-1708956000@seniorengelen.nl
SUMMARY:Jeu de boules
DESCRIPTION:Elke maandag om 14.00 uur is er ‘Jeu de boules’ bij Tennisvereniging Engelen. Informatie bij Paul Pardoel: 06 44301120.
URL:https://seniorengelen.nl/agenda/jeu-de-boules-2024-02-26/
LOCATION:Tennisvereniging Engelen
CATEGORIES:Wekelijks
ATTACH;FMTTYPE=image/jpeg:https://seniorengelen.nl/wp-content/uploads/2023/03/plaatjejeudeboules-1.jpg
END:VEVENT
BEGIN:VEVENT
DTSTART;TZID=UTC:20240221T093000
DTEND;TZID=UTC:20240221T093000
DTSTAMP:20260425T140053
CREATED:20230330T151827Z
LAST-MODIFIED:20230330T151827Z
UID:18161-1708507800-1708507800@seniorengelen.nl
SUMMARY:Fietsen
DESCRIPTION:Op de eerste en derde woensdag van de maand gaan we fietsen. Start om 9.30 uur vanaf De Engelenburcht. \nEr wordt elke keer een andere route van ongeveer 25 km uitgezocht met een pauzeplek om iets te drinken. \nInformatie bij André Dirks 06-22500785.
URL:https://seniorengelen.nl/agenda/fietsen-2024-02-21/
ATTACH;FMTTYPE=image/jpeg:https://seniorengelen.nl/wp-content/uploads/2023/03/fietsen-1.jpg
END:VEVENT
BEGIN:VEVENT
DTSTART;TZID=UTC:20240219T140000
DTEND;TZID=UTC:20240219T140000
DTSTAMP:20260425T140053
CREATED:20230323T155745Z
LAST-MODIFIED:20230323T155745Z
UID:17406-1708351200-1708351200@seniorengelen.nl
SUMMARY:Jeu de boules
DESCRIPTION:Elke maandag om 14.00 uur is er ‘Jeu de boules’ bij Tennisvereniging Engelen. Informatie bij Paul Pardoel: 06 44301120.
URL:https://seniorengelen.nl/agenda/jeu-de-boules-2024-02-19/
LOCATION:Tennisvereniging Engelen
CATEGORIES:Wekelijks
ATTACH;FMTTYPE=image/jpeg:https://seniorengelen.nl/wp-content/uploads/2023/03/plaatjejeudeboules-1.jpg
END:VEVENT
BEGIN:VEVENT
DTSTART;TZID=UTC:20240214T093000
DTEND;TZID=UTC:20240214T093000
DTSTAMP:20260425T140053
CREATED:20230330T145234Z
LAST-MODIFIED:20230330T145234Z
UID:18099-1707903000-1707903000@seniorengelen.nl
SUMMARY:Wandelen
DESCRIPTION:Elke 2e en 4e woensdag van de maand gaan we wandelen. Vertrek om 9.30 uur vanaf De Engelenburcht. Er wordt elke keer een andere route uitgezocht. Indien gewenst en bij voldoende belangstelling splitsen we in groepen snellere en langzame wandelaars. Beide groepen komen dan weer samen op de pauzeplek voor een lekker drankje. Informatie bij Henk de Visser 06-12195289.
URL:https://seniorengelen.nl/agenda/wandelen-2024-02-14/
CATEGORIES:Wekelijks
ATTACH;FMTTYPE=image/jpeg:https://seniorengelen.nl/wp-content/uploads/2021/06/wandelen2.jpg
END:VEVENT
END:VCALENDAR