BEGIN:VCALENDAR
VERSION:2.0
PRODID:-//Senioren Vereniging Engelen - ECPv6.15.11//NONSGML v1.0//EN
CALSCALE:GREGORIAN
METHOD:PUBLISH
X-WR-CALNAME:Senioren Vereniging Engelen
X-ORIGINAL-URL:https://seniorengelen.nl
X-WR-CALDESC:Evenementen voor Senioren Vereniging Engelen
REFRESH-INTERVAL;VALUE=DURATION:PT1H
X-Robots-Tag:noindex
X-PUBLISHED-TTL:PT1H
BEGIN:VTIMEZONE
TZID:UTC
BEGIN:STANDARD
TZOFFSETFROM:+0000
TZOFFSETTO:+0000
TZNAME:UTC
DTSTART:20230101T000000
END:STANDARD
END:VTIMEZONE
BEGIN:VEVENT
DTSTART;TZID=UTC:20240715T140000
DTEND;TZID=UTC:20240715T140000
DTSTAMP:20260425T101858
CREATED:20230323T155745Z
LAST-MODIFIED:20230323T155745Z
UID:17427-1721052000-1721052000@seniorengelen.nl
SUMMARY:Jeu de boules
DESCRIPTION:Elke maandag om 14.00 uur is er ‘Jeu de boules’ bij Tennisvereniging Engelen. Informatie bij Paul Pardoel: 06 44301120.
URL:https://seniorengelen.nl/agenda/jeu-de-boules-2024-07-15/
LOCATION:Tennisvereniging Engelen
CATEGORIES:Wekelijks
ATTACH;FMTTYPE=image/jpeg:https://seniorengelen.nl/wp-content/uploads/2023/03/plaatjejeudeboules-1.jpg
END:VEVENT
BEGIN:VEVENT
DTSTART;TZID=UTC:20240710T093000
DTEND;TZID=UTC:20240710T093000
DTSTAMP:20260425T101858
CREATED:20230330T145234Z
LAST-MODIFIED:20230330T145234Z
UID:18104-1720603800-1720603800@seniorengelen.nl
SUMMARY:Wandelen
DESCRIPTION:Elke 2e en 4e woensdag van de maand gaan we wandelen. Vertrek om 9.30 uur vanaf De Engelenburcht. Er wordt elke keer een andere route uitgezocht. Indien gewenst en bij voldoende belangstelling splitsen we in groepen snellere en langzame wandelaars. Beide groepen komen dan weer samen op de pauzeplek voor een lekker drankje. Informatie bij Henk de Visser 06-12195289.
URL:https://seniorengelen.nl/agenda/wandelen-2024-07-10/
CATEGORIES:Wekelijks
ATTACH;FMTTYPE=image/jpeg:https://seniorengelen.nl/wp-content/uploads/2021/06/wandelen2.jpg
END:VEVENT
BEGIN:VEVENT
DTSTART;TZID=UTC:20240708T140000
DTEND;TZID=UTC:20240708T140000
DTSTAMP:20260425T101858
CREATED:20230323T155745Z
LAST-MODIFIED:20230323T155745Z
UID:17426-1720447200-1720447200@seniorengelen.nl
SUMMARY:Jeu de boules
DESCRIPTION:Elke maandag om 14.00 uur is er ‘Jeu de boules’ bij Tennisvereniging Engelen. Informatie bij Paul Pardoel: 06 44301120.
URL:https://seniorengelen.nl/agenda/jeu-de-boules-2024-07-08/
LOCATION:Tennisvereniging Engelen
CATEGORIES:Wekelijks
ATTACH;FMTTYPE=image/jpeg:https://seniorengelen.nl/wp-content/uploads/2023/03/plaatjejeudeboules-1.jpg
END:VEVENT
BEGIN:VEVENT
DTSTART;TZID=UTC:20240703T093000
DTEND;TZID=UTC:20240703T093000
DTSTAMP:20260425T101858
CREATED:20230330T151827Z
LAST-MODIFIED:20230330T151827Z
UID:18170-1719999000-1719999000@seniorengelen.nl
SUMMARY:Fietsen
DESCRIPTION:Op de eerste en derde woensdag van de maand gaan we fietsen. Start om 9.30 uur vanaf De Engelenburcht. \nEr wordt elke keer een andere route van ongeveer 25 km uitgezocht met een pauzeplek om iets te drinken. \nInformatie bij André Dirks 06-22500785.
URL:https://seniorengelen.nl/agenda/fietsen-2024-07-03/
ATTACH;FMTTYPE=image/jpeg:https://seniorengelen.nl/wp-content/uploads/2023/03/fietsen-1.jpg
END:VEVENT
BEGIN:VEVENT
DTSTART;TZID=UTC:20240702T100000
DTEND;TZID=UTC:20240702T100000
DTSTAMP:20260425T101858
CREATED:20230323T161422Z
LAST-MODIFIED:20230323T161422Z
UID:17576-1719914400-1719914400@seniorengelen.nl
SUMMARY:Koffie drinken
DESCRIPTION:Elke eerste dinsdag van de maand is het om 10.00 uur koffiedrinken in De Engelenburcht. Hebt u hiervoor vervoer nodig? Maak tijdig een afspraak met Astrid: 06-1231 1319
URL:https://seniorengelen.nl/agenda/koffie-drinken-2024-07-02/
LOCATION:De Engelenburcht\, Heuvel 18\, Den Bosch
CATEGORIES:Wekelijks
ATTACH;FMTTYPE=image/jpeg:https://seniorengelen.nl/wp-content/uploads/2023/03/koffie.jpg
END:VEVENT
BEGIN:VEVENT
DTSTART;TZID=UTC:20240701T140000
DTEND;TZID=UTC:20240701T140000
DTSTAMP:20260425T101858
CREATED:20230323T155745Z
LAST-MODIFIED:20230323T155745Z
UID:17425-1719842400-1719842400@seniorengelen.nl
SUMMARY:Jeu de boules
DESCRIPTION:Elke maandag om 14.00 uur is er ‘Jeu de boules’ bij Tennisvereniging Engelen. Informatie bij Paul Pardoel: 06 44301120.
URL:https://seniorengelen.nl/agenda/jeu-de-boules-2024-07-01/
LOCATION:Tennisvereniging Engelen
CATEGORIES:Wekelijks
ATTACH;FMTTYPE=image/jpeg:https://seniorengelen.nl/wp-content/uploads/2023/03/plaatjejeudeboules-1.jpg
END:VEVENT
BEGIN:VEVENT
DTSTART;TZID=UTC:20240626T093000
DTEND;TZID=UTC:20240626T093000
DTSTAMP:20260425T101858
CREATED:20230330T145736Z
LAST-MODIFIED:20230330T145736Z
UID:18128-1719394200-1719394200@seniorengelen.nl
SUMMARY:Wandelen
DESCRIPTION:Elke 2e en 4e woensdag van de maand gaan we wandelen. Vertrek om 9.30 uur vanaf De Engelenburcht. Er wordt elke keer een andere route uitgezocht. Indien gewenst en bij voldoende belangstelling splitsen we in groepen snellere en langzame wandelaars. Beide groepen komen dan weer samen op de pauzeplek voor een lekker drankje. Informatie bij Henk de Visser 06-12195289.
URL:https://seniorengelen.nl/agenda/wandelen-2-2024-06-26/
ATTACH;FMTTYPE=image/jpeg:https://seniorengelen.nl/wp-content/uploads/2021/06/wandelen2.jpg
END:VEVENT
BEGIN:VEVENT
DTSTART;TZID=UTC:20240624T140000
DTEND;TZID=UTC:20240624T140000
DTSTAMP:20260425T101858
CREATED:20230323T155745Z
LAST-MODIFIED:20230323T155745Z
UID:17424-1719237600-1719237600@seniorengelen.nl
SUMMARY:Jeu de boules
DESCRIPTION:Elke maandag om 14.00 uur is er ‘Jeu de boules’ bij Tennisvereniging Engelen. Informatie bij Paul Pardoel: 06 44301120.
URL:https://seniorengelen.nl/agenda/jeu-de-boules-2024-06-24/
LOCATION:Tennisvereniging Engelen
CATEGORIES:Wekelijks
ATTACH;FMTTYPE=image/jpeg:https://seniorengelen.nl/wp-content/uploads/2023/03/plaatjejeudeboules-1.jpg
END:VEVENT
BEGIN:VEVENT
DTSTART;TZID=UTC:20240622T170000
DTEND;TZID=UTC:20240622T230000
DTSTAMP:20260425T101858
CREATED:20240509T091748Z
LAST-MODIFIED:20240509T091748Z
UID:18786-1719075600-1719097200@seniorengelen.nl
SUMMARY:Muziek op de Dieze
DESCRIPTION:Op zaterdag 22 juni is er vanaf 17.00 uur weer Muziek op de Dieze. Er is voor ons ‘n tafel gereserveerd. Wie wil komen is van harte welkom om te genieten van de muziek. Drankjes is ter plaatse te koop\, voor hapjes wordt gezorgd. Iets lekkers meebrengen mag altijd!
URL:https://seniorengelen.nl/agenda/muziek-op-de-dieze/
CATEGORIES:Activiteiten
ATTACH;FMTTYPE=image/jpeg:https://seniorengelen.nl/wp-content/uploads/2024/05/MOD.jpg
END:VEVENT
BEGIN:VEVENT
DTSTART;TZID=UTC:20240619T093000
DTEND;TZID=UTC:20240619T093000
DTSTAMP:20260425T101858
CREATED:20230330T151827Z
LAST-MODIFIED:20230330T151827Z
UID:18169-1718789400-1718789400@seniorengelen.nl
SUMMARY:Fietsen
DESCRIPTION:Op de eerste en derde woensdag van de maand gaan we fietsen. Start om 9.30 uur vanaf De Engelenburcht. \nEr wordt elke keer een andere route van ongeveer 25 km uitgezocht met een pauzeplek om iets te drinken. \nInformatie bij André Dirks 06-22500785.
URL:https://seniorengelen.nl/agenda/fietsen-2024-06-19/
ATTACH;FMTTYPE=image/jpeg:https://seniorengelen.nl/wp-content/uploads/2023/03/fietsen-1.jpg
END:VEVENT
BEGIN:VEVENT
DTSTART;TZID=UTC:20240617T140000
DTEND;TZID=UTC:20240617T140000
DTSTAMP:20260425T101858
CREATED:20230323T155745Z
LAST-MODIFIED:20230323T155745Z
UID:17423-1718632800-1718632800@seniorengelen.nl
SUMMARY:Jeu de boules
DESCRIPTION:Elke maandag om 14.00 uur is er ‘Jeu de boules’ bij Tennisvereniging Engelen. Informatie bij Paul Pardoel: 06 44301120.
URL:https://seniorengelen.nl/agenda/jeu-de-boules-2024-06-17/
LOCATION:Tennisvereniging Engelen
CATEGORIES:Wekelijks
ATTACH;FMTTYPE=image/jpeg:https://seniorengelen.nl/wp-content/uploads/2023/03/plaatjejeudeboules-1.jpg
END:VEVENT
BEGIN:VEVENT
DTSTART;TZID=UTC:20240613T113000
DTEND;TZID=UTC:20240613T170000
DTSTAMP:20260425T101858
CREATED:20240227T092420Z
LAST-MODIFIED:20240227T092420Z
UID:18747-1718278200-1718298000@seniorengelen.nl
SUMMARY:Bezoek Weverijmuseum Geldrop
DESCRIPTION:Op donderdag 13 juni brengen we een bezoek aan het Weverijmuseum in Geldrop. We verzamelen om 11.30 uur bij De Engelenburcht. De kosten bedragen € 10\,00 per persoon. Lunch ter plaatse voor eigen rekening. U kunt zich aanmelden door dit bedrag te storten op bankrekening NL85 RABO 0121 9306 29 ten name van Seniorenvereniging Engelen/Bokhoven onder vermelding van weverijmuseum.
URL:https://seniorengelen.nl/agenda/bezoek-weverijmuseum-geldrop/
CATEGORIES:Activiteiten
ATTACH;FMTTYPE=image/jpeg:https://seniorengelen.nl/wp-content/uploads/2024/02/fotoweverijmuseum.jpg
END:VEVENT
BEGIN:VEVENT
DTSTART;TZID=UTC:20240612T093000
DTEND;TZID=UTC:20240612T093000
DTSTAMP:20260425T101858
CREATED:20230330T145234Z
LAST-MODIFIED:20230330T145234Z
UID:18103-1718184600-1718184600@seniorengelen.nl
SUMMARY:Wandelen
DESCRIPTION:Elke 2e en 4e woensdag van de maand gaan we wandelen. Vertrek om 9.30 uur vanaf De Engelenburcht. Er wordt elke keer een andere route uitgezocht. Indien gewenst en bij voldoende belangstelling splitsen we in groepen snellere en langzame wandelaars. Beide groepen komen dan weer samen op de pauzeplek voor een lekker drankje. Informatie bij Henk de Visser 06-12195289.
URL:https://seniorengelen.nl/agenda/wandelen-2024-06-12/
CATEGORIES:Wekelijks
ATTACH;FMTTYPE=image/jpeg:https://seniorengelen.nl/wp-content/uploads/2021/06/wandelen2.jpg
END:VEVENT
BEGIN:VEVENT
DTSTART;TZID=UTC:20240610T140000
DTEND;TZID=UTC:20240610T140000
DTSTAMP:20260425T101858
CREATED:20230323T155745Z
LAST-MODIFIED:20230323T155745Z
UID:17422-1718028000-1718028000@seniorengelen.nl
SUMMARY:Jeu de boules
DESCRIPTION:Elke maandag om 14.00 uur is er ‘Jeu de boules’ bij Tennisvereniging Engelen. Informatie bij Paul Pardoel: 06 44301120.
URL:https://seniorengelen.nl/agenda/jeu-de-boules-2024-06-10/
LOCATION:Tennisvereniging Engelen
CATEGORIES:Wekelijks
ATTACH;FMTTYPE=image/jpeg:https://seniorengelen.nl/wp-content/uploads/2023/03/plaatjejeudeboules-1.jpg
END:VEVENT
BEGIN:VEVENT
DTSTART;TZID=UTC:20240605T093000
DTEND;TZID=UTC:20240605T093000
DTSTAMP:20260425T101858
CREATED:20230330T151827Z
LAST-MODIFIED:20230330T151827Z
UID:18168-1717579800-1717579800@seniorengelen.nl
SUMMARY:Fietsen
DESCRIPTION:Op de eerste en derde woensdag van de maand gaan we fietsen. Start om 9.30 uur vanaf De Engelenburcht. \nEr wordt elke keer een andere route van ongeveer 25 km uitgezocht met een pauzeplek om iets te drinken. \nInformatie bij André Dirks 06-22500785.
URL:https://seniorengelen.nl/agenda/fietsen-2024-06-05/
ATTACH;FMTTYPE=image/jpeg:https://seniorengelen.nl/wp-content/uploads/2023/03/fietsen-1.jpg
END:VEVENT
BEGIN:VEVENT
DTSTART;TZID=UTC:20240604T100000
DTEND;TZID=UTC:20240604T100000
DTSTAMP:20260425T101858
CREATED:20230323T161422Z
LAST-MODIFIED:20230323T161422Z
UID:17575-1717495200-1717495200@seniorengelen.nl
SUMMARY:Koffie drinken
DESCRIPTION:Elke eerste dinsdag van de maand is het om 10.00 uur koffiedrinken in De Engelenburcht. Hebt u hiervoor vervoer nodig? Maak tijdig een afspraak met Astrid: 06-1231 1319
URL:https://seniorengelen.nl/agenda/koffie-drinken-2024-06-04/
LOCATION:De Engelenburcht\, Heuvel 18\, Den Bosch
CATEGORIES:Wekelijks
ATTACH;FMTTYPE=image/jpeg:https://seniorengelen.nl/wp-content/uploads/2023/03/koffie.jpg
END:VEVENT
BEGIN:VEVENT
DTSTART;TZID=UTC:20240603T140000
DTEND;TZID=UTC:20240603T140000
DTSTAMP:20260425T101858
CREATED:20230323T155745Z
LAST-MODIFIED:20230323T155745Z
UID:17421-1717423200-1717423200@seniorengelen.nl
SUMMARY:Jeu de boules
DESCRIPTION:Elke maandag om 14.00 uur is er ‘Jeu de boules’ bij Tennisvereniging Engelen. Informatie bij Paul Pardoel: 06 44301120.
URL:https://seniorengelen.nl/agenda/jeu-de-boules-2024-06-03/
LOCATION:Tennisvereniging Engelen
CATEGORIES:Wekelijks
ATTACH;FMTTYPE=image/jpeg:https://seniorengelen.nl/wp-content/uploads/2023/03/plaatjejeudeboules-1.jpg
END:VEVENT
BEGIN:VEVENT
DTSTART;TZID=UTC:20240527T140000
DTEND;TZID=UTC:20240527T140000
DTSTAMP:20260425T101858
CREATED:20230323T155745Z
LAST-MODIFIED:20230323T155745Z
UID:17420-1716818400-1716818400@seniorengelen.nl
SUMMARY:Jeu de boules
DESCRIPTION:Elke maandag om 14.00 uur is er ‘Jeu de boules’ bij Tennisvereniging Engelen. Informatie bij Paul Pardoel: 06 44301120.
URL:https://seniorengelen.nl/agenda/jeu-de-boules-2024-05-27/
LOCATION:Tennisvereniging Engelen
CATEGORIES:Wekelijks
ATTACH;FMTTYPE=image/jpeg:https://seniorengelen.nl/wp-content/uploads/2023/03/plaatjejeudeboules-1.jpg
END:VEVENT
BEGIN:VEVENT
DTSTART;TZID=UTC:20240522T093000
DTEND;TZID=UTC:20240522T093000
DTSTAMP:20260425T101858
CREATED:20230330T145736Z
LAST-MODIFIED:20230330T145736Z
UID:18127-1716370200-1716370200@seniorengelen.nl
SUMMARY:Wandelen
DESCRIPTION:Elke 2e en 4e woensdag van de maand gaan we wandelen. Vertrek om 9.30 uur vanaf De Engelenburcht. Er wordt elke keer een andere route uitgezocht. Indien gewenst en bij voldoende belangstelling splitsen we in groepen snellere en langzame wandelaars. Beide groepen komen dan weer samen op de pauzeplek voor een lekker drankje. Informatie bij Henk de Visser 06-12195289.
URL:https://seniorengelen.nl/agenda/wandelen-2-2024-05-22/
ATTACH;FMTTYPE=image/jpeg:https://seniorengelen.nl/wp-content/uploads/2021/06/wandelen2.jpg
END:VEVENT
BEGIN:VEVENT
DTSTART;TZID=UTC:20240520T140000
DTEND;TZID=UTC:20240520T140000
DTSTAMP:20260425T101858
CREATED:20230323T155745Z
LAST-MODIFIED:20230323T155745Z
UID:17419-1716213600-1716213600@seniorengelen.nl
SUMMARY:Jeu de boules
DESCRIPTION:Elke maandag om 14.00 uur is er ‘Jeu de boules’ bij Tennisvereniging Engelen. Informatie bij Paul Pardoel: 06 44301120.
URL:https://seniorengelen.nl/agenda/jeu-de-boules-2024-05-20/
LOCATION:Tennisvereniging Engelen
CATEGORIES:Wekelijks
ATTACH;FMTTYPE=image/jpeg:https://seniorengelen.nl/wp-content/uploads/2023/03/plaatjejeudeboules-1.jpg
END:VEVENT
BEGIN:VEVENT
DTSTART;TZID=UTC:20240515T093000
DTEND;TZID=UTC:20240515T093000
DTSTAMP:20260425T101858
CREATED:20230330T151827Z
LAST-MODIFIED:20230330T151827Z
UID:18167-1715765400-1715765400@seniorengelen.nl
SUMMARY:Fietsen
DESCRIPTION:Op de eerste en derde woensdag van de maand gaan we fietsen. Start om 9.30 uur vanaf De Engelenburcht. \nEr wordt elke keer een andere route van ongeveer 25 km uitgezocht met een pauzeplek om iets te drinken. \nInformatie bij André Dirks 06-22500785.
URL:https://seniorengelen.nl/agenda/fietsen-2024-05-15/
ATTACH;FMTTYPE=image/jpeg:https://seniorengelen.nl/wp-content/uploads/2023/03/fietsen-1.jpg
END:VEVENT
BEGIN:VEVENT
DTSTART;TZID=UTC:20240513T140000
DTEND;TZID=UTC:20240513T140000
DTSTAMP:20260425T101858
CREATED:20230323T155745Z
LAST-MODIFIED:20230323T155745Z
UID:17418-1715608800-1715608800@seniorengelen.nl
SUMMARY:Jeu de boules
DESCRIPTION:Elke maandag om 14.00 uur is er ‘Jeu de boules’ bij Tennisvereniging Engelen. Informatie bij Paul Pardoel: 06 44301120.
URL:https://seniorengelen.nl/agenda/jeu-de-boules-2024-05-13/
LOCATION:Tennisvereniging Engelen
CATEGORIES:Wekelijks
ATTACH;FMTTYPE=image/jpeg:https://seniorengelen.nl/wp-content/uploads/2023/03/plaatjejeudeboules-1.jpg
END:VEVENT
BEGIN:VEVENT
DTSTART;TZID=UTC:20240508T140000
DTEND;TZID=UTC:20240508T153000
DTSTAMP:20260425T101858
CREATED:20240415T121523Z
LAST-MODIFIED:20240415T121523Z
UID:18770-1715176800-1715182200@seniorengelen.nl
SUMMARY:Algemene ledenvergadering
DESCRIPTION:Op woensdag 8 mei is om 14.00 uur de jaarlijkse algemene ledenvergadering in De Engelenburcht. U bent allen van harte welkom. Uitnodiging met agenda volgt later.
URL:https://seniorengelen.nl/agenda/algemene-ledenvergadering/
CATEGORIES:Activiteiten
ATTACH;FMTTYPE=image/png:https://seniorengelen.nl/wp-content/uploads/2020/08/favicon.png
END:VEVENT
BEGIN:VEVENT
DTSTART;TZID=UTC:20240508T093000
DTEND;TZID=UTC:20240508T093000
DTSTAMP:20260425T101858
CREATED:20230330T145234Z
LAST-MODIFIED:20230330T145234Z
UID:18102-1715160600-1715160600@seniorengelen.nl
SUMMARY:Wandelen
DESCRIPTION:Elke 2e en 4e woensdag van de maand gaan we wandelen. Vertrek om 9.30 uur vanaf De Engelenburcht. Er wordt elke keer een andere route uitgezocht. Indien gewenst en bij voldoende belangstelling splitsen we in groepen snellere en langzame wandelaars. Beide groepen komen dan weer samen op de pauzeplek voor een lekker drankje. Informatie bij Henk de Visser 06-12195289.
URL:https://seniorengelen.nl/agenda/wandelen-2024-05-08/
CATEGORIES:Wekelijks
ATTACH;FMTTYPE=image/jpeg:https://seniorengelen.nl/wp-content/uploads/2021/06/wandelen2.jpg
END:VEVENT
BEGIN:VEVENT
DTSTART;TZID=UTC:20240507T100000
DTEND;TZID=UTC:20240507T100000
DTSTAMP:20260425T101858
CREATED:20230323T161422Z
LAST-MODIFIED:20230323T161422Z
UID:17574-1715076000-1715076000@seniorengelen.nl
SUMMARY:Koffie drinken
DESCRIPTION:Elke eerste dinsdag van de maand is het om 10.00 uur koffiedrinken in De Engelenburcht. Hebt u hiervoor vervoer nodig? Maak tijdig een afspraak met Astrid: 06-1231 1319
URL:https://seniorengelen.nl/agenda/koffie-drinken-2024-05-07/
LOCATION:De Engelenburcht\, Heuvel 18\, Den Bosch
CATEGORIES:Wekelijks
ATTACH;FMTTYPE=image/jpeg:https://seniorengelen.nl/wp-content/uploads/2023/03/koffie.jpg
END:VEVENT
BEGIN:VEVENT
DTSTART;TZID=UTC:20240506T140000
DTEND;TZID=UTC:20240506T140000
DTSTAMP:20260425T101858
CREATED:20230323T155745Z
LAST-MODIFIED:20230323T155745Z
UID:17417-1715004000-1715004000@seniorengelen.nl
SUMMARY:Jeu de boules
DESCRIPTION:Elke maandag om 14.00 uur is er ‘Jeu de boules’ bij Tennisvereniging Engelen. Informatie bij Paul Pardoel: 06 44301120.
URL:https://seniorengelen.nl/agenda/jeu-de-boules-2024-05-06/
LOCATION:Tennisvereniging Engelen
CATEGORIES:Wekelijks
ATTACH;FMTTYPE=image/jpeg:https://seniorengelen.nl/wp-content/uploads/2023/03/plaatjejeudeboules-1.jpg
END:VEVENT
BEGIN:VEVENT
DTSTART;TZID=UTC:20240503T110000
DTEND;TZID=UTC:20240503T133000
DTSTAMP:20260425T101858
CREATED:20240311T134601Z
LAST-MODIFIED:20240311T134936Z
UID:18756-1714734000-1714743000@seniorengelen.nl
SUMMARY:Vrijheidslunch vrijdag 3 mei
DESCRIPTION:Op vrijdag 3 mei organiseren Comité 4 en 5 mei van Engelens Belang\, Seniorenvereniging Engelen\, Bokhoven en Haverleij\, Zonnebloem Engelen/Bokhoven en Huiskamer Farent\, evenals vorig jaar\, weer een gezellige vrijheidslunch in De Engelenburcht. Iedereen is welkom van 11.00 tot 13.30 uur. De lunch bestaat onder andere uit salade\, soep en broodjes. Tijdens deze bijeenkomst is er een korte presentatie door leden van Heemkundegroep Angrisa. \nDe gasten van de Zonnebloem krijgen hiervoor een uitnodiging\, de leden van de seniorenvereniging kunnen zich aanmelden door € 4\,00 over te maken op bankrekening NL85 RABO 0121 9306 29 ten name van Seniorenvereniging Engelen/Bokhoven onder vermelding van vrijheidslunch. Let op: meld u zich niet dubbel aan. \nAndere belangstellenden kunnen zich aanmelden via comité 4 en 5 mei van Engelens Belang: 06-22488741 en betalen € 8\,00 contant aan de zaal. Aanmelden kan uiterlijk tot 24 april. We rekenen op uw aanwezigheid!
URL:https://seniorengelen.nl/agenda/vrijheidslunch-vrijdag-3-mei/
CATEGORIES:Activiteiten
ATTACH;FMTTYPE=image/png:https://seniorengelen.nl/wp-content/uploads/2023/03/vrijheids-lunch.png
END:VEVENT
BEGIN:VEVENT
DTSTART;TZID=UTC:20240501T093000
DTEND;TZID=UTC:20240501T093000
DTSTAMP:20260425T101858
CREATED:20230330T151827Z
LAST-MODIFIED:20230330T151827Z
UID:18166-1714555800-1714555800@seniorengelen.nl
SUMMARY:Fietsen
DESCRIPTION:Op de eerste en derde woensdag van de maand gaan we fietsen. Start om 9.30 uur vanaf De Engelenburcht. \nEr wordt elke keer een andere route van ongeveer 25 km uitgezocht met een pauzeplek om iets te drinken. \nInformatie bij André Dirks 06-22500785.
URL:https://seniorengelen.nl/agenda/fietsen-2024-05-01/
ATTACH;FMTTYPE=image/jpeg:https://seniorengelen.nl/wp-content/uploads/2023/03/fietsen-1.jpg
END:VEVENT
BEGIN:VEVENT
DTSTART;TZID=UTC:20240429T140000
DTEND;TZID=UTC:20240429T140000
DTSTAMP:20260425T101858
CREATED:20230323T155745Z
LAST-MODIFIED:20230323T155745Z
UID:17416-1714399200-1714399200@seniorengelen.nl
SUMMARY:Jeu de boules
DESCRIPTION:Elke maandag om 14.00 uur is er ‘Jeu de boules’ bij Tennisvereniging Engelen. Informatie bij Paul Pardoel: 06 44301120.
URL:https://seniorengelen.nl/agenda/jeu-de-boules-2024-04-29/
LOCATION:Tennisvereniging Engelen
CATEGORIES:Wekelijks
ATTACH;FMTTYPE=image/jpeg:https://seniorengelen.nl/wp-content/uploads/2023/03/plaatjejeudeboules-1.jpg
END:VEVENT
BEGIN:VEVENT
DTSTART;TZID=UTC:20240424T093000
DTEND;TZID=UTC:20240424T093000
DTSTAMP:20260425T101858
CREATED:20230330T145736Z
LAST-MODIFIED:20230330T145736Z
UID:18126-1713951000-1713951000@seniorengelen.nl
SUMMARY:Wandelen
DESCRIPTION:Elke 2e en 4e woensdag van de maand gaan we wandelen. Vertrek om 9.30 uur vanaf De Engelenburcht. Er wordt elke keer een andere route uitgezocht. Indien gewenst en bij voldoende belangstelling splitsen we in groepen snellere en langzame wandelaars. Beide groepen komen dan weer samen op de pauzeplek voor een lekker drankje. Informatie bij Henk de Visser 06-12195289.
URL:https://seniorengelen.nl/agenda/wandelen-2-2024-04-24/
ATTACH;FMTTYPE=image/jpeg:https://seniorengelen.nl/wp-content/uploads/2021/06/wandelen2.jpg
END:VEVENT
END:VCALENDAR