BEGIN:VCALENDAR
VERSION:2.0
PRODID:-//Senioren Vereniging Engelen - ECPv6.15.11//NONSGML v1.0//EN
CALSCALE:GREGORIAN
METHOD:PUBLISH
X-WR-CALNAME:Senioren Vereniging Engelen
X-ORIGINAL-URL:https://seniorengelen.nl
X-WR-CALDESC:Evenementen voor Senioren Vereniging Engelen
REFRESH-INTERVAL;VALUE=DURATION:PT1H
X-Robots-Tag:noindex
X-PUBLISHED-TTL:PT1H
BEGIN:VTIMEZONE
TZID:UTC
BEGIN:STANDARD
TZOFFSETFROM:+0000
TZOFFSETTO:+0000
TZNAME:UTC
DTSTART:20230101T000000
END:STANDARD
END:VTIMEZONE
BEGIN:VEVENT
DTSTART;TZID=UTC:20241127T093000
DTEND;TZID=UTC:20241127T093000
DTSTAMP:20260421T025714
CREATED:20230330T145736Z
LAST-MODIFIED:20230330T145736Z
UID:18133-1732699800-1732699800@seniorengelen.nl
SUMMARY:Wandelen
DESCRIPTION:Elke 2e en 4e woensdag van de maand gaan we wandelen. Vertrek om 9.30 uur vanaf De Engelenburcht. Er wordt elke keer een andere route uitgezocht. Indien gewenst en bij voldoende belangstelling splitsen we in groepen snellere en langzame wandelaars. Beide groepen komen dan weer samen op de pauzeplek voor een lekker drankje. Informatie bij Henk de Visser 06-12195289.
URL:https://seniorengelen.nl/agenda/wandelen-2-2024-11-27/
ATTACH;FMTTYPE=image/jpeg:https://seniorengelen.nl/wp-content/uploads/2021/06/wandelen2.jpg
END:VEVENT
BEGIN:VEVENT
DTSTART;TZID=UTC:20241125T140000
DTEND;TZID=UTC:20241125T140000
DTSTAMP:20260421T025714
CREATED:20230323T155745Z
LAST-MODIFIED:20230323T155745Z
UID:17446-1732543200-1732543200@seniorengelen.nl
SUMMARY:Jeu de boules
DESCRIPTION:Elke maandag om 14.00 uur is er ‘Jeu de boules’ bij Tennisvereniging Engelen. Informatie bij Paul Pardoel: 06 44301120.
URL:https://seniorengelen.nl/agenda/jeu-de-boules-2024-11-25/
LOCATION:Tennisvereniging Engelen
CATEGORIES:Wekelijks
ATTACH;FMTTYPE=image/jpeg:https://seniorengelen.nl/wp-content/uploads/2023/03/plaatjejeudeboules-1.jpg
END:VEVENT
BEGIN:VEVENT
DTSTART;TZID=UTC:20241122T173000
DTEND;TZID=UTC:20241122T213000
DTSTAMP:20260421T025714
CREATED:20240907T094723Z
LAST-MODIFIED:20240907T094723Z
UID:18811-1732296600-1732311000@seniorengelen.nl
SUMMARY:Hapjesavond
DESCRIPTION:Op vrijdag 22 november is er een hapjesavond bij Mw. Tonny Janssen\, Weislag 17. Aanvang: 17.30 uur. Deelname is gratis. Deelnemers worden verzocht elk 8 kleine hapjes mee te brengen. Aanmelden bij Tineke: 073-631 1611.
URL:https://seniorengelen.nl/agenda/hapjesavond-2/
CATEGORIES:Activiteiten
ATTACH;FMTTYPE=image/jpeg:https://seniorengelen.nl/wp-content/uploads/2024/09/hapjes.jpg
END:VEVENT
BEGIN:VEVENT
DTSTART;TZID=UTC:20241120T093000
DTEND;TZID=UTC:20241120T093000
DTSTAMP:20260421T025714
CREATED:20230330T151827Z
LAST-MODIFIED:20230330T151827Z
UID:18179-1732095000-1732095000@seniorengelen.nl
SUMMARY:Fietsen
DESCRIPTION:Op de eerste en derde woensdag van de maand gaan we fietsen. Start om 9.30 uur vanaf De Engelenburcht. \nEr wordt elke keer een andere route van ongeveer 25 km uitgezocht met een pauzeplek om iets te drinken. \nInformatie bij André Dirks 06-22500785.
URL:https://seniorengelen.nl/agenda/fietsen-2024-11-20/
ATTACH;FMTTYPE=image/jpeg:https://seniorengelen.nl/wp-content/uploads/2023/03/fietsen-1.jpg
END:VEVENT
BEGIN:VEVENT
DTSTART;TZID=UTC:20241118T140000
DTEND;TZID=UTC:20241118T140000
DTSTAMP:20260421T025714
CREATED:20230323T155745Z
LAST-MODIFIED:20230323T155745Z
UID:17445-1731938400-1731938400@seniorengelen.nl
SUMMARY:Jeu de boules
DESCRIPTION:Elke maandag om 14.00 uur is er ‘Jeu de boules’ bij Tennisvereniging Engelen. Informatie bij Paul Pardoel: 06 44301120.
URL:https://seniorengelen.nl/agenda/jeu-de-boules-2024-11-18/
LOCATION:Tennisvereniging Engelen
CATEGORIES:Wekelijks
ATTACH;FMTTYPE=image/jpeg:https://seniorengelen.nl/wp-content/uploads/2023/03/plaatjejeudeboules-1.jpg
END:VEVENT
BEGIN:VEVENT
DTSTART;TZID=UTC:20241113T093000
DTEND;TZID=UTC:20241113T093000
DTSTAMP:20260421T025714
CREATED:20230330T145234Z
LAST-MODIFIED:20230330T145234Z
UID:18108-1731490200-1731490200@seniorengelen.nl
SUMMARY:Wandelen
DESCRIPTION:Elke 2e en 4e woensdag van de maand gaan we wandelen. Vertrek om 9.30 uur vanaf De Engelenburcht. Er wordt elke keer een andere route uitgezocht. Indien gewenst en bij voldoende belangstelling splitsen we in groepen snellere en langzame wandelaars. Beide groepen komen dan weer samen op de pauzeplek voor een lekker drankje. Informatie bij Henk de Visser 06-12195289.
URL:https://seniorengelen.nl/agenda/wandelen-2024-11-13/
CATEGORIES:Wekelijks
ATTACH;FMTTYPE=image/jpeg:https://seniorengelen.nl/wp-content/uploads/2021/06/wandelen2.jpg
END:VEVENT
BEGIN:VEVENT
DTSTART;TZID=UTC:20241111T140000
DTEND;TZID=UTC:20241111T140000
DTSTAMP:20260421T025714
CREATED:20230323T155745Z
LAST-MODIFIED:20230323T155745Z
UID:17444-1731333600-1731333600@seniorengelen.nl
SUMMARY:Jeu de boules
DESCRIPTION:Elke maandag om 14.00 uur is er ‘Jeu de boules’ bij Tennisvereniging Engelen. Informatie bij Paul Pardoel: 06 44301120.
URL:https://seniorengelen.nl/agenda/jeu-de-boules-2024-11-11/
LOCATION:Tennisvereniging Engelen
CATEGORIES:Wekelijks
ATTACH;FMTTYPE=image/jpeg:https://seniorengelen.nl/wp-content/uploads/2023/03/plaatjejeudeboules-1.jpg
END:VEVENT
BEGIN:VEVENT
DTSTART;TZID=UTC:20241107T140000
DTEND;TZID=UTC:20241107T160000
DTSTAMP:20260421T025714
CREATED:20241015T113116Z
LAST-MODIFIED:20241015T113116Z
UID:18820-1730988000-1730995200@seniorengelen.nl
SUMMARY:Sjoelen
DESCRIPTION:Op de eerste donderdagmiddag van de maand in de wintermaanden gaat Seniorenvereniging Engelen\, Bokhoven en Haverleij sjoelen met een sjoelbak in De Engelenburcht. De eerste keer is op donderdag 7 november van 14.00 tot 16.00 uur. Deelname is gratis. De eerste keer is ook de koffie of een ander drankje gratis! Uiteraard is er een leuk prijsje te verdienen. We hopen op een groot aantal deelnemers. Meld je aan bij Tineke Kaal\, tel: 073-6311611.
URL:https://seniorengelen.nl/agenda/sjoelen/
CATEGORIES:Activiteiten
ATTACH;FMTTYPE=image/jpeg:https://seniorengelen.nl/wp-content/uploads/2024/10/Fotosjoelenaa.jpg
END:VEVENT
BEGIN:VEVENT
DTSTART;TZID=UTC:20241106T093000
DTEND;TZID=UTC:20241106T093000
DTSTAMP:20260421T025714
CREATED:20230330T151827Z
LAST-MODIFIED:20230330T151827Z
UID:18178-1730885400-1730885400@seniorengelen.nl
SUMMARY:Fietsen
DESCRIPTION:Op de eerste en derde woensdag van de maand gaan we fietsen. Start om 9.30 uur vanaf De Engelenburcht. \nEr wordt elke keer een andere route van ongeveer 25 km uitgezocht met een pauzeplek om iets te drinken. \nInformatie bij André Dirks 06-22500785.
URL:https://seniorengelen.nl/agenda/fietsen-2024-11-06/
ATTACH;FMTTYPE=image/jpeg:https://seniorengelen.nl/wp-content/uploads/2023/03/fietsen-1.jpg
END:VEVENT
BEGIN:VEVENT
DTSTART;TZID=UTC:20241105T100000
DTEND;TZID=UTC:20241105T100000
DTSTAMP:20260421T025714
CREATED:20230323T161422Z
LAST-MODIFIED:20230323T161422Z
UID:17580-1730800800-1730800800@seniorengelen.nl
SUMMARY:Koffie drinken
DESCRIPTION:Elke eerste dinsdag van de maand is het om 10.00 uur koffiedrinken in De Engelenburcht. Hebt u hiervoor vervoer nodig? Maak tijdig een afspraak met Astrid: 06-1231 1319
URL:https://seniorengelen.nl/agenda/koffie-drinken-2024-11-05/
LOCATION:De Engelenburcht\, Heuvel 18\, Den Bosch
CATEGORIES:Wekelijks
ATTACH;FMTTYPE=image/jpeg:https://seniorengelen.nl/wp-content/uploads/2023/03/koffie.jpg
END:VEVENT
BEGIN:VEVENT
DTSTART;TZID=UTC:20241104T140000
DTEND;TZID=UTC:20241104T140000
DTSTAMP:20260421T025714
CREATED:20230323T155745Z
LAST-MODIFIED:20230323T155745Z
UID:17443-1730728800-1730728800@seniorengelen.nl
SUMMARY:Jeu de boules
DESCRIPTION:Elke maandag om 14.00 uur is er ‘Jeu de boules’ bij Tennisvereniging Engelen. Informatie bij Paul Pardoel: 06 44301120.
URL:https://seniorengelen.nl/agenda/jeu-de-boules-2024-11-04/
LOCATION:Tennisvereniging Engelen
CATEGORIES:Wekelijks
ATTACH;FMTTYPE=image/jpeg:https://seniorengelen.nl/wp-content/uploads/2023/03/plaatjejeudeboules-1.jpg
END:VEVENT
BEGIN:VEVENT
DTSTART;TZID=UTC:20241104T093000
DTEND;TZID=UTC:20241104T113000
DTSTAMP:20260421T025714
CREATED:20241015T113321Z
LAST-MODIFIED:20241015T113321Z
UID:18822-1730712600-1730719800@seniorengelen.nl
SUMMARY:Babbeltruc\, internetfraude\, trap er niet in!
DESCRIPTION:Verbreek de verbinding als iemand belt die zich voordoet als medewerker van de bank. Gooi de e-mails weg\, waarin staat dat uw computerbeveiliging onvoldoende is of dat u met één muisklik de erfenis van een onbekende miljonair ontvangt. En maak vooral geen geld over als uw dochter of uw kleinzoon per sms of whatsapp om geld vragen. Fraude met de pinpas\, de mobiele telefoon\, of via de computer (cybercrime) komt in heel Nederland voor\, dus ook in Engelen en Bokhoven. En vaker dan u denkt! Op basis van waargebeurde verhalen wordt door een deskundige duidelijk gemaakt hoe internetcriminelen werken\, en hoe je kunt voorkomen dat je erin trapt. Het doel is senioren meer weerbaar te maken. \nOp maandag 4 november is er van 9.30 tot 11.30 uur een lezing over dit onderwerp in Herberg Haverleij. Aanmelden vooraf is nodig en liefst zo snel mogelijk. Er kunnen maximaal 30 personen meedoen. Als er teveel aanmeldingen zijn wordt er een tweede sessie gehouden. Aanmelden kan via www.herberghaverleij.nl. Voor meer informatie: André Dirks 06-22500785.
URL:https://seniorengelen.nl/agenda/babbeltruc-internetfraude-trap-er-niet-in/
CATEGORIES:Activiteiten
ATTACH;FMTTYPE=image/jpeg:https://seniorengelen.nl/wp-content/uploads/2024/10/Scam-graphic_no-text.jpg
END:VEVENT
BEGIN:VEVENT
DTSTART;TZID=UTC:20241028T140000
DTEND;TZID=UTC:20241028T140000
DTSTAMP:20260421T025714
CREATED:20230323T155745Z
LAST-MODIFIED:20230323T155745Z
UID:17442-1730124000-1730124000@seniorengelen.nl
SUMMARY:Jeu de boules
DESCRIPTION:Elke maandag om 14.00 uur is er ‘Jeu de boules’ bij Tennisvereniging Engelen. Informatie bij Paul Pardoel: 06 44301120.
URL:https://seniorengelen.nl/agenda/jeu-de-boules-2024-10-28/
LOCATION:Tennisvereniging Engelen
CATEGORIES:Wekelijks
ATTACH;FMTTYPE=image/jpeg:https://seniorengelen.nl/wp-content/uploads/2023/03/plaatjejeudeboules-1.jpg
END:VEVENT
BEGIN:VEVENT
DTSTART;TZID=UTC:20241023T093000
DTEND;TZID=UTC:20241023T093000
DTSTAMP:20260421T025714
CREATED:20230330T145736Z
LAST-MODIFIED:20230330T145736Z
UID:18132-1729675800-1729675800@seniorengelen.nl
SUMMARY:Wandelen
DESCRIPTION:Elke 2e en 4e woensdag van de maand gaan we wandelen. Vertrek om 9.30 uur vanaf De Engelenburcht. Er wordt elke keer een andere route uitgezocht. Indien gewenst en bij voldoende belangstelling splitsen we in groepen snellere en langzame wandelaars. Beide groepen komen dan weer samen op de pauzeplek voor een lekker drankje. Informatie bij Henk de Visser 06-12195289.
URL:https://seniorengelen.nl/agenda/wandelen-2-2024-10-23/
ATTACH;FMTTYPE=image/jpeg:https://seniorengelen.nl/wp-content/uploads/2021/06/wandelen2.jpg
END:VEVENT
BEGIN:VEVENT
DTSTART;TZID=UTC:20241021T140000
DTEND;TZID=UTC:20241021T140000
DTSTAMP:20260421T025714
CREATED:20230323T155745Z
LAST-MODIFIED:20230323T155745Z
UID:17441-1729519200-1729519200@seniorengelen.nl
SUMMARY:Jeu de boules
DESCRIPTION:Elke maandag om 14.00 uur is er ‘Jeu de boules’ bij Tennisvereniging Engelen. Informatie bij Paul Pardoel: 06 44301120.
URL:https://seniorengelen.nl/agenda/jeu-de-boules-2024-10-21/
LOCATION:Tennisvereniging Engelen
CATEGORIES:Wekelijks
ATTACH;FMTTYPE=image/jpeg:https://seniorengelen.nl/wp-content/uploads/2023/03/plaatjejeudeboules-1.jpg
END:VEVENT
BEGIN:VEVENT
DTSTART;TZID=UTC:20241016T093000
DTEND;TZID=UTC:20241016T093000
DTSTAMP:20260421T025714
CREATED:20230330T151827Z
LAST-MODIFIED:20230330T151827Z
UID:18177-1729071000-1729071000@seniorengelen.nl
SUMMARY:Fietsen
DESCRIPTION:Op de eerste en derde woensdag van de maand gaan we fietsen. Start om 9.30 uur vanaf De Engelenburcht. \nEr wordt elke keer een andere route van ongeveer 25 km uitgezocht met een pauzeplek om iets te drinken. \nInformatie bij André Dirks 06-22500785.
URL:https://seniorengelen.nl/agenda/fietsen-2024-10-16/
ATTACH;FMTTYPE=image/jpeg:https://seniorengelen.nl/wp-content/uploads/2023/03/fietsen-1.jpg
END:VEVENT
BEGIN:VEVENT
DTSTART;TZID=UTC:20241015T093000
DTEND;TZID=UTC:20241015T123000
DTSTAMP:20260421T025714
CREATED:20240713T094439Z
LAST-MODIFIED:20240725T101549Z
UID:18806-1728984600-1728995400@seniorengelen.nl
SUMMARY:Bezoek Fort Isabella kazerne Vught
DESCRIPTION:Op dinsdag 15 oktober gaan we het fort van de Isabella kazerne in Vught bezoeken. Tijdens de rondleiding van ongeveer ’n uur\, krijgen we uitleg over het fort\, de functie als kazerne en het Regiment Wielrijders en hun rol tijdens de meidagen van 1940. We vertrekken om 9.30 uur vanaf De Engelenburcht en regelen\, indien nodig\, vervoer. U kunt deelnemen door € 5\,00 over te maken op rekening NL85 RABO 0121 9306 29 t.n.v. Seniorenvereniging Engelen/Bokhoven onder vermelding ‘Isabelle kazerne’.
URL:https://seniorengelen.nl/agenda/bezoek-fort-isabella-kazerne-vught/
CATEGORIES:Activiteiten
ATTACH;FMTTYPE=image/jpeg:https://seniorengelen.nl/wp-content/uploads/2024/07/Fotokazerne.jpg
END:VEVENT
BEGIN:VEVENT
DTSTART;TZID=UTC:20241014T140000
DTEND;TZID=UTC:20241014T140000
DTSTAMP:20260421T025714
CREATED:20230323T155745Z
LAST-MODIFIED:20230323T155745Z
UID:17440-1728914400-1728914400@seniorengelen.nl
SUMMARY:Jeu de boules
DESCRIPTION:Elke maandag om 14.00 uur is er ‘Jeu de boules’ bij Tennisvereniging Engelen. Informatie bij Paul Pardoel: 06 44301120.
URL:https://seniorengelen.nl/agenda/jeu-de-boules-2024-10-14/
LOCATION:Tennisvereniging Engelen
CATEGORIES:Wekelijks
ATTACH;FMTTYPE=image/jpeg:https://seniorengelen.nl/wp-content/uploads/2023/03/plaatjejeudeboules-1.jpg
END:VEVENT
BEGIN:VEVENT
DTSTART;TZID=UTC:20241009T093000
DTEND;TZID=UTC:20241009T093000
DTSTAMP:20260421T025714
CREATED:20230330T145234Z
LAST-MODIFIED:20230330T145234Z
UID:18107-1728466200-1728466200@seniorengelen.nl
SUMMARY:Wandelen
DESCRIPTION:Elke 2e en 4e woensdag van de maand gaan we wandelen. Vertrek om 9.30 uur vanaf De Engelenburcht. Er wordt elke keer een andere route uitgezocht. Indien gewenst en bij voldoende belangstelling splitsen we in groepen snellere en langzame wandelaars. Beide groepen komen dan weer samen op de pauzeplek voor een lekker drankje. Informatie bij Henk de Visser 06-12195289.
URL:https://seniorengelen.nl/agenda/wandelen-2024-10-09/
CATEGORIES:Wekelijks
ATTACH;FMTTYPE=image/jpeg:https://seniorengelen.nl/wp-content/uploads/2021/06/wandelen2.jpg
END:VEVENT
BEGIN:VEVENT
DTSTART;TZID=UTC:20241007T140000
DTEND;TZID=UTC:20241007T140000
DTSTAMP:20260421T025714
CREATED:20230323T155745Z
LAST-MODIFIED:20230323T155745Z
UID:17439-1728309600-1728309600@seniorengelen.nl
SUMMARY:Jeu de boules
DESCRIPTION:Elke maandag om 14.00 uur is er ‘Jeu de boules’ bij Tennisvereniging Engelen. Informatie bij Paul Pardoel: 06 44301120.
URL:https://seniorengelen.nl/agenda/jeu-de-boules-2024-10-07/
LOCATION:Tennisvereniging Engelen
CATEGORIES:Wekelijks
ATTACH;FMTTYPE=image/jpeg:https://seniorengelen.nl/wp-content/uploads/2023/03/plaatjejeudeboules-1.jpg
END:VEVENT
BEGIN:VEVENT
DTSTART;TZID=UTC:20241002T093000
DTEND;TZID=UTC:20241002T093000
DTSTAMP:20260421T025714
CREATED:20230330T151827Z
LAST-MODIFIED:20230330T151827Z
UID:18176-1727861400-1727861400@seniorengelen.nl
SUMMARY:Fietsen
DESCRIPTION:Op de eerste en derde woensdag van de maand gaan we fietsen. Start om 9.30 uur vanaf De Engelenburcht. \nEr wordt elke keer een andere route van ongeveer 25 km uitgezocht met een pauzeplek om iets te drinken. \nInformatie bij André Dirks 06-22500785.
URL:https://seniorengelen.nl/agenda/fietsen-2024-10-02/
ATTACH;FMTTYPE=image/jpeg:https://seniorengelen.nl/wp-content/uploads/2023/03/fietsen-1.jpg
END:VEVENT
BEGIN:VEVENT
DTSTART;TZID=UTC:20241001T100000
DTEND;TZID=UTC:20241001T100000
DTSTAMP:20260421T025714
CREATED:20230323T161422Z
LAST-MODIFIED:20230323T161422Z
UID:17579-1727776800-1727776800@seniorengelen.nl
SUMMARY:Koffie drinken
DESCRIPTION:Elke eerste dinsdag van de maand is het om 10.00 uur koffiedrinken in De Engelenburcht. Hebt u hiervoor vervoer nodig? Maak tijdig een afspraak met Astrid: 06-1231 1319
URL:https://seniorengelen.nl/agenda/koffie-drinken-2024-10-01/
LOCATION:De Engelenburcht\, Heuvel 18\, Den Bosch
CATEGORIES:Wekelijks
ATTACH;FMTTYPE=image/jpeg:https://seniorengelen.nl/wp-content/uploads/2023/03/koffie.jpg
END:VEVENT
BEGIN:VEVENT
DTSTART;TZID=UTC:20240930T140000
DTEND;TZID=UTC:20240930T140000
DTSTAMP:20260421T025714
CREATED:20230323T155745Z
LAST-MODIFIED:20230323T155745Z
UID:17438-1727704800-1727704800@seniorengelen.nl
SUMMARY:Jeu de boules
DESCRIPTION:Elke maandag om 14.00 uur is er ‘Jeu de boules’ bij Tennisvereniging Engelen. Informatie bij Paul Pardoel: 06 44301120.
URL:https://seniorengelen.nl/agenda/jeu-de-boules-2024-09-30/
LOCATION:Tennisvereniging Engelen
CATEGORIES:Wekelijks
ATTACH;FMTTYPE=image/jpeg:https://seniorengelen.nl/wp-content/uploads/2023/03/plaatjejeudeboules-1.jpg
END:VEVENT
BEGIN:VEVENT
DTSTART;TZID=UTC:20240925T093000
DTEND;TZID=UTC:20240925T093000
DTSTAMP:20260421T025714
CREATED:20230330T145736Z
LAST-MODIFIED:20230330T145736Z
UID:18131-1727256600-1727256600@seniorengelen.nl
SUMMARY:Wandelen
DESCRIPTION:Elke 2e en 4e woensdag van de maand gaan we wandelen. Vertrek om 9.30 uur vanaf De Engelenburcht. Er wordt elke keer een andere route uitgezocht. Indien gewenst en bij voldoende belangstelling splitsen we in groepen snellere en langzame wandelaars. Beide groepen komen dan weer samen op de pauzeplek voor een lekker drankje. Informatie bij Henk de Visser 06-12195289.
URL:https://seniorengelen.nl/agenda/wandelen-2-2024-09-25/
ATTACH;FMTTYPE=image/jpeg:https://seniorengelen.nl/wp-content/uploads/2021/06/wandelen2.jpg
END:VEVENT
BEGIN:VEVENT
DTSTART;TZID=UTC:20240923T173000
DTEND;TZID=UTC:20240923T200000
DTSTAMP:20260421T025714
CREATED:20240713T094225Z
LAST-MODIFIED:20240713T094225Z
UID:18804-1727112600-1727121600@seniorengelen.nl
SUMMARY:Etentje bij Koning Willem I College
DESCRIPTION:Op maandag 23 september gaan we weer eten bij het Koning Willem I College. We vertrekken per auto om 17.30 uur vanaf De Engelenburcht. U kunt deelnemen door voor 9 sept. € 25\,00 over te maken op rekening NL85 RABO 0121 9306 29 t.n.v. Seniorenvereniging Engelen/Bokhoven onder vermelding ‘etentje vlees’ of ‘etentje vis’. Het eerste drankje is gratis!
URL:https://seniorengelen.nl/agenda/etentje-bij-koning-willem-i-college/
CATEGORIES:Activiteiten
ATTACH;FMTTYPE=image/png:https://seniorengelen.nl/wp-content/uploads/2024/07/Fotoetentje.png
END:VEVENT
BEGIN:VEVENT
DTSTART;TZID=UTC:20240923T140000
DTEND;TZID=UTC:20240923T140000
DTSTAMP:20260421T025714
CREATED:20230323T155745Z
LAST-MODIFIED:20230323T155745Z
UID:17437-1727100000-1727100000@seniorengelen.nl
SUMMARY:Jeu de boules
DESCRIPTION:Elke maandag om 14.00 uur is er ‘Jeu de boules’ bij Tennisvereniging Engelen. Informatie bij Paul Pardoel: 06 44301120.
URL:https://seniorengelen.nl/agenda/jeu-de-boules-2024-09-23/
LOCATION:Tennisvereniging Engelen
CATEGORIES:Wekelijks
ATTACH;FMTTYPE=image/jpeg:https://seniorengelen.nl/wp-content/uploads/2023/03/plaatjejeudeboules-1.jpg
END:VEVENT
BEGIN:VEVENT
DTSTART;TZID=UTC:20240918T093000
DTEND;TZID=UTC:20240918T093000
DTSTAMP:20260421T025714
CREATED:20230330T151827Z
LAST-MODIFIED:20230330T151827Z
UID:18175-1726651800-1726651800@seniorengelen.nl
SUMMARY:Fietsen
DESCRIPTION:Op de eerste en derde woensdag van de maand gaan we fietsen. Start om 9.30 uur vanaf De Engelenburcht. \nEr wordt elke keer een andere route van ongeveer 25 km uitgezocht met een pauzeplek om iets te drinken. \nInformatie bij André Dirks 06-22500785.
URL:https://seniorengelen.nl/agenda/fietsen-2024-09-18/
ATTACH;FMTTYPE=image/jpeg:https://seniorengelen.nl/wp-content/uploads/2023/03/fietsen-1.jpg
END:VEVENT
BEGIN:VEVENT
DTSTART;TZID=UTC:20240916T140000
DTEND;TZID=UTC:20240916T140000
DTSTAMP:20260421T025714
CREATED:20230323T155745Z
LAST-MODIFIED:20230323T155745Z
UID:17436-1726495200-1726495200@seniorengelen.nl
SUMMARY:Jeu de boules
DESCRIPTION:Elke maandag om 14.00 uur is er ‘Jeu de boules’ bij Tennisvereniging Engelen. Informatie bij Paul Pardoel: 06 44301120.
URL:https://seniorengelen.nl/agenda/jeu-de-boules-2024-09-16/
LOCATION:Tennisvereniging Engelen
CATEGORIES:Wekelijks
ATTACH;FMTTYPE=image/jpeg:https://seniorengelen.nl/wp-content/uploads/2023/03/plaatjejeudeboules-1.jpg
END:VEVENT
BEGIN:VEVENT
DTSTART;TZID=UTC:20240911T093000
DTEND;TZID=UTC:20240911T093000
DTSTAMP:20260421T025714
CREATED:20230330T145234Z
LAST-MODIFIED:20230330T145234Z
UID:18106-1726047000-1726047000@seniorengelen.nl
SUMMARY:Wandelen
DESCRIPTION:Elke 2e en 4e woensdag van de maand gaan we wandelen. Vertrek om 9.30 uur vanaf De Engelenburcht. Er wordt elke keer een andere route uitgezocht. Indien gewenst en bij voldoende belangstelling splitsen we in groepen snellere en langzame wandelaars. Beide groepen komen dan weer samen op de pauzeplek voor een lekker drankje. Informatie bij Henk de Visser 06-12195289.
URL:https://seniorengelen.nl/agenda/wandelen-2024-09-11/
CATEGORIES:Wekelijks
ATTACH;FMTTYPE=image/jpeg:https://seniorengelen.nl/wp-content/uploads/2021/06/wandelen2.jpg
END:VEVENT
BEGIN:VEVENT
DTSTART;TZID=UTC:20240909T140000
DTEND;TZID=UTC:20240909T140000
DTSTAMP:20260421T025714
CREATED:20230323T155745Z
LAST-MODIFIED:20230323T155745Z
UID:17435-1725890400-1725890400@seniorengelen.nl
SUMMARY:Jeu de boules
DESCRIPTION:Elke maandag om 14.00 uur is er ‘Jeu de boules’ bij Tennisvereniging Engelen. Informatie bij Paul Pardoel: 06 44301120.
URL:https://seniorengelen.nl/agenda/jeu-de-boules-2024-09-09/
LOCATION:Tennisvereniging Engelen
CATEGORIES:Wekelijks
ATTACH;FMTTYPE=image/jpeg:https://seniorengelen.nl/wp-content/uploads/2023/03/plaatjejeudeboules-1.jpg
END:VEVENT
END:VCALENDAR