BEGIN:VCALENDAR
VERSION:2.0
PRODID:-//Senioren Vereniging Engelen - ECPv6.15.11//NONSGML v1.0//EN
CALSCALE:GREGORIAN
METHOD:PUBLISH
X-WR-CALNAME:Senioren Vereniging Engelen
X-ORIGINAL-URL:https://seniorengelen.nl
X-WR-CALDESC:Evenementen voor Senioren Vereniging Engelen
REFRESH-INTERVAL;VALUE=DURATION:PT1H
X-Robots-Tag:noindex
X-PUBLISHED-TTL:PT1H
BEGIN:VTIMEZONE
TZID:UTC
BEGIN:STANDARD
TZOFFSETFROM:+0000
TZOFFSETTO:+0000
TZNAME:UTC
DTSTART:20230101T000000
END:STANDARD
END:VTIMEZONE
BEGIN:VEVENT
DTSTART;TZID=UTC:20250304T100000
DTEND;TZID=UTC:20250304T100000
DTSTAMP:20260420T231720
CREATED:20230323T161422Z
LAST-MODIFIED:20230323T161422Z
UID:17584-1741082400-1741082400@seniorengelen.nl
SUMMARY:Koffie drinken
DESCRIPTION:Elke eerste dinsdag van de maand is het om 10.00 uur koffiedrinken in De Engelenburcht. Hebt u hiervoor vervoer nodig? Maak tijdig een afspraak met Astrid: 06-1231 1319
URL:https://seniorengelen.nl/agenda/koffie-drinken-2025-03-04/
LOCATION:De Engelenburcht\, Heuvel 18\, Den Bosch
CATEGORIES:Wekelijks
ATTACH;FMTTYPE=image/jpeg:https://seniorengelen.nl/wp-content/uploads/2023/03/koffie.jpg
END:VEVENT
BEGIN:VEVENT
DTSTART;TZID=UTC:20250228T143000
DTEND;TZID=UTC:20250228T180000
DTSTAMP:20260420T231720
CREATED:20241228T154326Z
LAST-MODIFIED:20241228T154326Z
UID:18834-1740753000-1740765600@seniorengelen.nl
SUMMARY:Unne muzikale middag in carnavalssfeer
DESCRIPTION:Op vrijdag 28 februari organiseert Seniorenvereniging Engelen\, Bokhoven en Haverleij weer unne middag in carnavalssfeer. We beginnen om half drie en stoppen rond zes uur. En witte ok waarmee we beginnen? Staat helemaal boven aan. Oh ja\, en waar het is. Tuurlijk\, in De Engelenburcht.  Dit jaar gaan we er vanuit dat ie helemaal vol zit … met mensen natuurlijk. \nEn wat hebben we te bieden? Veul muziek van  ‘De Laatbloeiers’. Is nie te hard\, daor kunde rustig veur gaan zitte en af en toe gezellig meezingen. Ok kunnen we onze lachspieren weer op peil brengen met een Brabants fenomeentje. Hij kletst oe de oren van de kop met de zin van de onzin. Ok verrassend hebben we een gastoptreden gepland. Oe eigen oren vertrouwde niet meer met zoveel talent uit Engelen. ‘Save the day’ betekent net zo veul als … zorg dè ge oe plekske veilig stelt in De Engelenburcht. \nIedereen boven de 50 mag reserveren. De kosten zijn € 11\,00 per persoon. Dit is inclusief koffie/thee\, enkele consumpties\, un hapje en ok hebben we iets warrums te smikkelen. \nGe kunt oe aanmelden door dit bedrag te storten op bankrekening NL85 RABO 0121 9306 29 ten name van Seniorenvereniging Engelen-Bokhoven onder vermelding van muziekmiddag. Aanmelden kan ok bij Hans van de Ven\, e-mail: havdven@hetnet.nl\, tel: 073-631 3257 met betaling aan de zaal. Carnavalskleding is gepast\, maar is zeker niet verplicht! We hopen dat iedereen weer goedgemutst zal zijn om te genieten van unne leuke middag!
URL:https://seniorengelen.nl/agenda/unne-muzikale-middag-in-carnavalssfeer/
CATEGORIES:Activiteiten
ATTACH;FMTTYPE=image/jpeg:https://seniorengelen.nl/wp-content/uploads/2024/12/IMG-20230217-WA0000a.jpg
END:VEVENT
BEGIN:VEVENT
DTSTART;TZID=UTC:20250226T093000
DTEND;TZID=UTC:20250226T093000
DTSTAMP:20260420T231720
CREATED:20230330T145736Z
LAST-MODIFIED:20230330T145736Z
UID:18136-1740562200-1740562200@seniorengelen.nl
SUMMARY:Wandelen
DESCRIPTION:Elke 2e en 4e woensdag van de maand gaan we wandelen. Vertrek om 9.30 uur vanaf De Engelenburcht. Er wordt elke keer een andere route uitgezocht. Indien gewenst en bij voldoende belangstelling splitsen we in groepen snellere en langzame wandelaars. Beide groepen komen dan weer samen op de pauzeplek voor een lekker drankje. Informatie bij Henk de Visser 06-12195289.
URL:https://seniorengelen.nl/agenda/wandelen-2-2025-02-26/
ATTACH;FMTTYPE=image/jpeg:https://seniorengelen.nl/wp-content/uploads/2021/06/wandelen2.jpg
END:VEVENT
BEGIN:VEVENT
DTSTART;TZID=UTC:20250219T093000
DTEND;TZID=UTC:20250219T093000
DTSTAMP:20260420T231720
CREATED:20230330T151827Z
LAST-MODIFIED:20230330T151827Z
UID:18185-1739957400-1739957400@seniorengelen.nl
SUMMARY:Fietsen
DESCRIPTION:Op de eerste en derde woensdag van de maand gaan we fietsen. Start om 9.30 uur vanaf De Engelenburcht. \nEr wordt elke keer een andere route van ongeveer 25 km uitgezocht met een pauzeplek om iets te drinken. \nInformatie bij André Dirks 06-22500785.
URL:https://seniorengelen.nl/agenda/fietsen-2025-02-19/
ATTACH;FMTTYPE=image/jpeg:https://seniorengelen.nl/wp-content/uploads/2023/03/fietsen-1.jpg
END:VEVENT
BEGIN:VEVENT
DTSTART;TZID=UTC:20250212T093000
DTEND;TZID=UTC:20250212T093000
DTSTAMP:20260420T231720
CREATED:20230330T145234Z
LAST-MODIFIED:20230330T145234Z
UID:18111-1739352600-1739352600@seniorengelen.nl
SUMMARY:Wandelen
DESCRIPTION:Elke 2e en 4e woensdag van de maand gaan we wandelen. Vertrek om 9.30 uur vanaf De Engelenburcht. Er wordt elke keer een andere route uitgezocht. Indien gewenst en bij voldoende belangstelling splitsen we in groepen snellere en langzame wandelaars. Beide groepen komen dan weer samen op de pauzeplek voor een lekker drankje. Informatie bij Henk de Visser 06-12195289.
URL:https://seniorengelen.nl/agenda/wandelen-2025-02-12/
CATEGORIES:Wekelijks
ATTACH;FMTTYPE=image/jpeg:https://seniorengelen.nl/wp-content/uploads/2021/06/wandelen2.jpg
END:VEVENT
BEGIN:VEVENT
DTSTART;TZID=UTC:20250206T140000
DTEND;TZID=UTC:20250206T160000
DTSTAMP:20260420T231720
CREATED:20250125T135202Z
LAST-MODIFIED:20250125T135202Z
UID:18841-1738850400-1738857600@seniorengelen.nl
SUMMARY:Sjoelen
DESCRIPTION:Op donderdag 6 februari gaan we van 14.00 tot 16.00 uur weer sjoelen met een sjoelbak in De Engelenburcht. We hebben dit op de eerste donderdag van maand eerder gedaan met veel belangstelling en gezelligheid. Deelname is gratis. Uiteraard is er weer een leuk prijsje te verdienen. We hopen op een groot aantal deelnemers. Heb je je nog niet aangemeld? Bel dan Tineke Kaal\, tel: 073-6311611.
URL:https://seniorengelen.nl/agenda/sjoelen-2/
CATEGORIES:Activiteiten
ATTACH;FMTTYPE=image/jpeg:https://seniorengelen.nl/wp-content/uploads/2025/01/Sjoelen.jpg
END:VEVENT
BEGIN:VEVENT
DTSTART;TZID=UTC:20250205T093000
DTEND;TZID=UTC:20250205T093000
DTSTAMP:20260420T231720
CREATED:20230330T151827Z
LAST-MODIFIED:20230330T151827Z
UID:18184-1738747800-1738747800@seniorengelen.nl
SUMMARY:Fietsen
DESCRIPTION:Op de eerste en derde woensdag van de maand gaan we fietsen. Start om 9.30 uur vanaf De Engelenburcht. \nEr wordt elke keer een andere route van ongeveer 25 km uitgezocht met een pauzeplek om iets te drinken. \nInformatie bij André Dirks 06-22500785.
URL:https://seniorengelen.nl/agenda/fietsen-2025-02-05/
ATTACH;FMTTYPE=image/jpeg:https://seniorengelen.nl/wp-content/uploads/2023/03/fietsen-1.jpg
END:VEVENT
BEGIN:VEVENT
DTSTART;TZID=UTC:20250204T100000
DTEND;TZID=UTC:20250204T100000
DTSTAMP:20260420T231720
CREATED:20230323T161422Z
LAST-MODIFIED:20230323T161422Z
UID:17583-1738663200-1738663200@seniorengelen.nl
SUMMARY:Koffie drinken
DESCRIPTION:Elke eerste dinsdag van de maand is het om 10.00 uur koffiedrinken in De Engelenburcht. Hebt u hiervoor vervoer nodig? Maak tijdig een afspraak met Astrid: 06-1231 1319
URL:https://seniorengelen.nl/agenda/koffie-drinken-2025-02-04/
LOCATION:De Engelenburcht\, Heuvel 18\, Den Bosch
CATEGORIES:Wekelijks
ATTACH;FMTTYPE=image/jpeg:https://seniorengelen.nl/wp-content/uploads/2023/03/koffie.jpg
END:VEVENT
BEGIN:VEVENT
DTSTART;TZID=UTC:20250122T093000
DTEND;TZID=UTC:20250122T093000
DTSTAMP:20260420T231720
CREATED:20230330T145736Z
LAST-MODIFIED:20230330T145736Z
UID:18135-1737538200-1737538200@seniorengelen.nl
SUMMARY:Wandelen
DESCRIPTION:Elke 2e en 4e woensdag van de maand gaan we wandelen. Vertrek om 9.30 uur vanaf De Engelenburcht. Er wordt elke keer een andere route uitgezocht. Indien gewenst en bij voldoende belangstelling splitsen we in groepen snellere en langzame wandelaars. Beide groepen komen dan weer samen op de pauzeplek voor een lekker drankje. Informatie bij Henk de Visser 06-12195289.
URL:https://seniorengelen.nl/agenda/wandelen-2-2025-01-22/
ATTACH;FMTTYPE=image/jpeg:https://seniorengelen.nl/wp-content/uploads/2021/06/wandelen2.jpg
END:VEVENT
BEGIN:VEVENT
DTSTART;TZID=UTC:20250117T173000
DTEND;TZID=UTC:20250117T200000
DTSTAMP:20260420T231720
CREATED:20241122T105455Z
LAST-MODIFIED:20241122T105455Z
UID:18828-1737135000-1737144000@seniorengelen.nl
SUMMARY:Snertavond
DESCRIPTION:Op vrijdag 17 januari 2025 is er een snertavond bij Tineke Kaal\, Zr. Boerestraat 24  Aanvang: 17.30 uur. \nDeelname: € 6\,00\, ter plaatse contant te voldoen. Aanmelden bij Tineke: 073-631 1611.
URL:https://seniorengelen.nl/agenda/snertavond-2/
CATEGORIES:Activiteiten
ATTACH;FMTTYPE=image/jpeg:https://seniorengelen.nl/wp-content/uploads/2024/11/snertfoto.jpg
END:VEVENT
BEGIN:VEVENT
DTSTART;TZID=UTC:20250115T093000
DTEND;TZID=UTC:20250115T093000
DTSTAMP:20260420T231720
CREATED:20230330T151827Z
LAST-MODIFIED:20230330T151827Z
UID:18183-1736933400-1736933400@seniorengelen.nl
SUMMARY:Fietsen
DESCRIPTION:Op de eerste en derde woensdag van de maand gaan we fietsen. Start om 9.30 uur vanaf De Engelenburcht. \nEr wordt elke keer een andere route van ongeveer 25 km uitgezocht met een pauzeplek om iets te drinken. \nInformatie bij André Dirks 06-22500785.
URL:https://seniorengelen.nl/agenda/fietsen-2025-01-15/
ATTACH;FMTTYPE=image/jpeg:https://seniorengelen.nl/wp-content/uploads/2023/03/fietsen-1.jpg
END:VEVENT
BEGIN:VEVENT
DTSTART;TZID=UTC:20250108T093000
DTEND;TZID=UTC:20250108T093000
DTSTAMP:20260420T231720
CREATED:20230330T145234Z
LAST-MODIFIED:20230330T145234Z
UID:18110-1736328600-1736328600@seniorengelen.nl
SUMMARY:Wandelen
DESCRIPTION:Elke 2e en 4e woensdag van de maand gaan we wandelen. Vertrek om 9.30 uur vanaf De Engelenburcht. Er wordt elke keer een andere route uitgezocht. Indien gewenst en bij voldoende belangstelling splitsen we in groepen snellere en langzame wandelaars. Beide groepen komen dan weer samen op de pauzeplek voor een lekker drankje. Informatie bij Henk de Visser 06-12195289.
URL:https://seniorengelen.nl/agenda/wandelen-2025-01-08/
CATEGORIES:Wekelijks
ATTACH;FMTTYPE=image/jpeg:https://seniorengelen.nl/wp-content/uploads/2021/06/wandelen2.jpg
END:VEVENT
BEGIN:VEVENT
DTSTART;TZID=UTC:20250107T100000
DTEND;TZID=UTC:20250107T100000
DTSTAMP:20260420T231720
CREATED:20230323T161422Z
LAST-MODIFIED:20230323T161422Z
UID:17582-1736244000-1736244000@seniorengelen.nl
SUMMARY:Koffie drinken
DESCRIPTION:Elke eerste dinsdag van de maand is het om 10.00 uur koffiedrinken in De Engelenburcht. Hebt u hiervoor vervoer nodig? Maak tijdig een afspraak met Astrid: 06-1231 1319
URL:https://seniorengelen.nl/agenda/koffie-drinken-2025-01-07/
LOCATION:De Engelenburcht\, Heuvel 18\, Den Bosch
CATEGORIES:Wekelijks
ATTACH;FMTTYPE=image/jpeg:https://seniorengelen.nl/wp-content/uploads/2023/03/koffie.jpg
END:VEVENT
BEGIN:VEVENT
DTSTART;TZID=UTC:20250101T093000
DTEND;TZID=UTC:20250101T093000
DTSTAMP:20260420T231720
CREATED:20230330T151827Z
LAST-MODIFIED:20230330T151827Z
UID:18182-1735723800-1735723800@seniorengelen.nl
SUMMARY:Fietsen
DESCRIPTION:Op de eerste en derde woensdag van de maand gaan we fietsen. Start om 9.30 uur vanaf De Engelenburcht. \nEr wordt elke keer een andere route van ongeveer 25 km uitgezocht met een pauzeplek om iets te drinken. \nInformatie bij André Dirks 06-22500785.
URL:https://seniorengelen.nl/agenda/fietsen-2025-01-01/
ATTACH;FMTTYPE=image/jpeg:https://seniorengelen.nl/wp-content/uploads/2023/03/fietsen-1.jpg
END:VEVENT
BEGIN:VEVENT
DTSTART;TZID=UTC:20241225T093000
DTEND;TZID=UTC:20241225T093000
DTSTAMP:20260420T231720
CREATED:20230330T145736Z
LAST-MODIFIED:20230330T145736Z
UID:18134-1735119000-1735119000@seniorengelen.nl
SUMMARY:Wandelen
DESCRIPTION:Elke 2e en 4e woensdag van de maand gaan we wandelen. Vertrek om 9.30 uur vanaf De Engelenburcht. Er wordt elke keer een andere route uitgezocht. Indien gewenst en bij voldoende belangstelling splitsen we in groepen snellere en langzame wandelaars. Beide groepen komen dan weer samen op de pauzeplek voor een lekker drankje. Informatie bij Henk de Visser 06-12195289.
URL:https://seniorengelen.nl/agenda/wandelen-2-2024-12-25/
ATTACH;FMTTYPE=image/jpeg:https://seniorengelen.nl/wp-content/uploads/2021/06/wandelen2.jpg
END:VEVENT
BEGIN:VEVENT
DTSTART;TZID=UTC:20241218T100000
DTEND;TZID=UTC:20241218T133000
DTSTAMP:20260420T231720
CREATED:20241122T104329Z
LAST-MODIFIED:20241122T104329Z
UID:18826-1734516000-1734528600@seniorengelen.nl
SUMMARY:Kerstviering met Nico Weijns
DESCRIPTION:Op woensdag 18 december a.s. organiseert Seniorenvereniging Engelen\, Bokhoven en Haverleij weer de jaarlijkse kerstviering voor alle 55 plussers in De Engelenburcht. De bijeenkomst begint om 10.00 uur en op het programma staan onder andere twee optredens van troubadour en entertainer Nico Weijns en rond 12.15 uur een lekkere lunch met tombola. De kosten voor deze viering bedragen € 12\,50. Niet-leden betalen € 17\,00. \nU kunt zich aanmelden door het bedrag over te maken op bankrekening NL85 RABO 0121 9306 29 ten name van Seniorenvereniging Engelen/Bokhoven. Overmaken is dus deelnemen. Aanmelden kan tot 10 december. \nMocht u niet zelf naar De Engelenburcht kunnen komen\, laat het ons dan weten\, zodat wij voor vervoer kunnen zorgen. U kunt bellen naar Tineke Kaal\, tel.: 6311611. Alle 55+-ers uit Engelen\, Bokhoven en de Haverleij met hun familie en bekenden zijn van harte welkom. Voor verdere informatie kunt u terecht bij Annie Kraaijkamp\, tel.: 073-6311935\, Tineke Kaal\, tel.: 073-6311611 of Paul Pardoel\, tel.: 073-6313063.
URL:https://seniorengelen.nl/agenda/kerstviering-met-nico-weijns/
CATEGORIES:Activiteiten
ATTACH;FMTTYPE=image/jpeg:https://seniorengelen.nl/wp-content/uploads/2024/11/NicoWeijnsa.jpg
END:VEVENT
BEGIN:VEVENT
DTSTART;TZID=UTC:20241218T093000
DTEND;TZID=UTC:20241218T093000
DTSTAMP:20260420T231720
CREATED:20230330T151827Z
LAST-MODIFIED:20230330T151827Z
UID:18181-1734514200-1734514200@seniorengelen.nl
SUMMARY:Fietsen
DESCRIPTION:Op de eerste en derde woensdag van de maand gaan we fietsen. Start om 9.30 uur vanaf De Engelenburcht. \nEr wordt elke keer een andere route van ongeveer 25 km uitgezocht met een pauzeplek om iets te drinken. \nInformatie bij André Dirks 06-22500785.
URL:https://seniorengelen.nl/agenda/fietsen-2024-12-18/
ATTACH;FMTTYPE=image/jpeg:https://seniorengelen.nl/wp-content/uploads/2023/03/fietsen-1.jpg
END:VEVENT
BEGIN:VEVENT
DTSTART;TZID=UTC:20241216T140000
DTEND;TZID=UTC:20241216T140000
DTSTAMP:20260420T231720
CREATED:20230323T155745Z
LAST-MODIFIED:20230323T155745Z
UID:17449-1734357600-1734357600@seniorengelen.nl
SUMMARY:Jeu de boules
DESCRIPTION:Elke maandag om 14.00 uur is er ‘Jeu de boules’ bij Tennisvereniging Engelen. Informatie bij Paul Pardoel: 06 44301120.
URL:https://seniorengelen.nl/agenda/jeu-de-boules-2024-12-16/
LOCATION:Tennisvereniging Engelen
CATEGORIES:Wekelijks
ATTACH;FMTTYPE=image/jpeg:https://seniorengelen.nl/wp-content/uploads/2023/03/plaatjejeudeboules-1.jpg
END:VEVENT
BEGIN:VEVENT
DTSTART;TZID=UTC:20241211T093000
DTEND;TZID=UTC:20241211T093000
DTSTAMP:20260420T231720
CREATED:20230330T145234Z
LAST-MODIFIED:20230330T145234Z
UID:18109-1733909400-1733909400@seniorengelen.nl
SUMMARY:Wandelen
DESCRIPTION:Elke 2e en 4e woensdag van de maand gaan we wandelen. Vertrek om 9.30 uur vanaf De Engelenburcht. Er wordt elke keer een andere route uitgezocht. Indien gewenst en bij voldoende belangstelling splitsen we in groepen snellere en langzame wandelaars. Beide groepen komen dan weer samen op de pauzeplek voor een lekker drankje. Informatie bij Henk de Visser 06-12195289.
URL:https://seniorengelen.nl/agenda/wandelen-2024-12-11/
CATEGORIES:Wekelijks
ATTACH;FMTTYPE=image/jpeg:https://seniorengelen.nl/wp-content/uploads/2021/06/wandelen2.jpg
END:VEVENT
BEGIN:VEVENT
DTSTART;TZID=UTC:20241209T140000
DTEND;TZID=UTC:20241209T140000
DTSTAMP:20260420T231720
CREATED:20230323T155745Z
LAST-MODIFIED:20230323T155745Z
UID:17448-1733752800-1733752800@seniorengelen.nl
SUMMARY:Jeu de boules
DESCRIPTION:Elke maandag om 14.00 uur is er ‘Jeu de boules’ bij Tennisvereniging Engelen. Informatie bij Paul Pardoel: 06 44301120.
URL:https://seniorengelen.nl/agenda/jeu-de-boules-2024-12-09/
LOCATION:Tennisvereniging Engelen
CATEGORIES:Wekelijks
ATTACH;FMTTYPE=image/jpeg:https://seniorengelen.nl/wp-content/uploads/2023/03/plaatjejeudeboules-1.jpg
END:VEVENT
BEGIN:VEVENT
DTSTART;TZID=UTC:20241204T093000
DTEND;TZID=UTC:20241204T093000
DTSTAMP:20260420T231720
CREATED:20230330T151827Z
LAST-MODIFIED:20230330T151827Z
UID:18180-1733304600-1733304600@seniorengelen.nl
SUMMARY:Fietsen
DESCRIPTION:Op de eerste en derde woensdag van de maand gaan we fietsen. Start om 9.30 uur vanaf De Engelenburcht. \nEr wordt elke keer een andere route van ongeveer 25 km uitgezocht met een pauzeplek om iets te drinken. \nInformatie bij André Dirks 06-22500785.
URL:https://seniorengelen.nl/agenda/fietsen-2024-12-04/
ATTACH;FMTTYPE=image/jpeg:https://seniorengelen.nl/wp-content/uploads/2023/03/fietsen-1.jpg
END:VEVENT
BEGIN:VEVENT
DTSTART;TZID=UTC:20241203T100000
DTEND;TZID=UTC:20241203T100000
DTSTAMP:20260420T231720
CREATED:20230323T161422Z
LAST-MODIFIED:20230323T161422Z
UID:17581-1733220000-1733220000@seniorengelen.nl
SUMMARY:Koffie drinken
DESCRIPTION:Elke eerste dinsdag van de maand is het om 10.00 uur koffiedrinken in De Engelenburcht. Hebt u hiervoor vervoer nodig? Maak tijdig een afspraak met Astrid: 06-1231 1319
URL:https://seniorengelen.nl/agenda/koffie-drinken-2024-12-03/
LOCATION:De Engelenburcht\, Heuvel 18\, Den Bosch
CATEGORIES:Wekelijks
ATTACH;FMTTYPE=image/jpeg:https://seniorengelen.nl/wp-content/uploads/2023/03/koffie.jpg
END:VEVENT
BEGIN:VEVENT
DTSTART;TZID=UTC:20241202T140000
DTEND;TZID=UTC:20241202T140000
DTSTAMP:20260420T231720
CREATED:20230323T155745Z
LAST-MODIFIED:20230323T155745Z
UID:17447-1733148000-1733148000@seniorengelen.nl
SUMMARY:Jeu de boules
DESCRIPTION:Elke maandag om 14.00 uur is er ‘Jeu de boules’ bij Tennisvereniging Engelen. Informatie bij Paul Pardoel: 06 44301120.
URL:https://seniorengelen.nl/agenda/jeu-de-boules-2024-12-02/
LOCATION:Tennisvereniging Engelen
CATEGORIES:Wekelijks
ATTACH;FMTTYPE=image/jpeg:https://seniorengelen.nl/wp-content/uploads/2023/03/plaatjejeudeboules-1.jpg
END:VEVENT
BEGIN:VEVENT
DTSTART;TZID=UTC:20241128T140000
DTEND;TZID=UTC:20241128T163000
DTSTAMP:20260420T231721
CREATED:20240924T073635Z
LAST-MODIFIED:20240924T073635Z
UID:18815-1732802400-1732811400@seniorengelen.nl
SUMMARY:Meezingmiddag
DESCRIPTION:Op donderdag 28 november organiseren we van 14.00 tot 16.30 uur\, samen met de Zonnebloem\, een meezingmiddag in De Engelenburcht. Lekker een middagje kletsen en uit volle borst meezingen met bekende liederen. Met muzikale begeleiding van een accordeonistenkwartet. Boekjes met de liedteksten zijn aanwezig. \nU kunt deelnemen door € 5\,00 over te maken op rekening NL85 RABO 0121 9306 29 t.n.v. Seniorenvereniging Engelen/Bokhoven onder vermelding ‘Meezingmiddag’. Dit is inclusief koffie/thee met iets daarbij\, een drankje en een hapje. We rekenen er op dat u er bij bent!
URL:https://seniorengelen.nl/agenda/meezingmiddag/
CATEGORIES:Activiteiten
ATTACH;FMTTYPE=image/jpeg:https://seniorengelen.nl/wp-content/uploads/2024/09/accordion-1855794_1280.jpg
END:VEVENT
BEGIN:VEVENT
DTSTART;TZID=UTC:20241127T093000
DTEND;TZID=UTC:20241127T093000
DTSTAMP:20260420T231721
CREATED:20230330T145736Z
LAST-MODIFIED:20230330T145736Z
UID:18133-1732699800-1732699800@seniorengelen.nl
SUMMARY:Wandelen
DESCRIPTION:Elke 2e en 4e woensdag van de maand gaan we wandelen. Vertrek om 9.30 uur vanaf De Engelenburcht. Er wordt elke keer een andere route uitgezocht. Indien gewenst en bij voldoende belangstelling splitsen we in groepen snellere en langzame wandelaars. Beide groepen komen dan weer samen op de pauzeplek voor een lekker drankje. Informatie bij Henk de Visser 06-12195289.
URL:https://seniorengelen.nl/agenda/wandelen-2-2024-11-27/
ATTACH;FMTTYPE=image/jpeg:https://seniorengelen.nl/wp-content/uploads/2021/06/wandelen2.jpg
END:VEVENT
BEGIN:VEVENT
DTSTART;TZID=UTC:20241125T140000
DTEND;TZID=UTC:20241125T140000
DTSTAMP:20260420T231721
CREATED:20230323T155745Z
LAST-MODIFIED:20230323T155745Z
UID:17446-1732543200-1732543200@seniorengelen.nl
SUMMARY:Jeu de boules
DESCRIPTION:Elke maandag om 14.00 uur is er ‘Jeu de boules’ bij Tennisvereniging Engelen. Informatie bij Paul Pardoel: 06 44301120.
URL:https://seniorengelen.nl/agenda/jeu-de-boules-2024-11-25/
LOCATION:Tennisvereniging Engelen
CATEGORIES:Wekelijks
ATTACH;FMTTYPE=image/jpeg:https://seniorengelen.nl/wp-content/uploads/2023/03/plaatjejeudeboules-1.jpg
END:VEVENT
BEGIN:VEVENT
DTSTART;TZID=UTC:20241122T173000
DTEND;TZID=UTC:20241122T213000
DTSTAMP:20260420T231721
CREATED:20240907T094723Z
LAST-MODIFIED:20240907T094723Z
UID:18811-1732296600-1732311000@seniorengelen.nl
SUMMARY:Hapjesavond
DESCRIPTION:Op vrijdag 22 november is er een hapjesavond bij Mw. Tonny Janssen\, Weislag 17. Aanvang: 17.30 uur. Deelname is gratis. Deelnemers worden verzocht elk 8 kleine hapjes mee te brengen. Aanmelden bij Tineke: 073-631 1611.
URL:https://seniorengelen.nl/agenda/hapjesavond-2/
CATEGORIES:Activiteiten
ATTACH;FMTTYPE=image/jpeg:https://seniorengelen.nl/wp-content/uploads/2024/09/hapjes.jpg
END:VEVENT
BEGIN:VEVENT
DTSTART;TZID=UTC:20241120T093000
DTEND;TZID=UTC:20241120T093000
DTSTAMP:20260420T231721
CREATED:20230330T151827Z
LAST-MODIFIED:20230330T151827Z
UID:18179-1732095000-1732095000@seniorengelen.nl
SUMMARY:Fietsen
DESCRIPTION:Op de eerste en derde woensdag van de maand gaan we fietsen. Start om 9.30 uur vanaf De Engelenburcht. \nEr wordt elke keer een andere route van ongeveer 25 km uitgezocht met een pauzeplek om iets te drinken. \nInformatie bij André Dirks 06-22500785.
URL:https://seniorengelen.nl/agenda/fietsen-2024-11-20/
ATTACH;FMTTYPE=image/jpeg:https://seniorengelen.nl/wp-content/uploads/2023/03/fietsen-1.jpg
END:VEVENT
BEGIN:VEVENT
DTSTART;TZID=UTC:20241118T140000
DTEND;TZID=UTC:20241118T140000
DTSTAMP:20260420T231721
CREATED:20230323T155745Z
LAST-MODIFIED:20230323T155745Z
UID:17445-1731938400-1731938400@seniorengelen.nl
SUMMARY:Jeu de boules
DESCRIPTION:Elke maandag om 14.00 uur is er ‘Jeu de boules’ bij Tennisvereniging Engelen. Informatie bij Paul Pardoel: 06 44301120.
URL:https://seniorengelen.nl/agenda/jeu-de-boules-2024-11-18/
LOCATION:Tennisvereniging Engelen
CATEGORIES:Wekelijks
ATTACH;FMTTYPE=image/jpeg:https://seniorengelen.nl/wp-content/uploads/2023/03/plaatjejeudeboules-1.jpg
END:VEVENT
BEGIN:VEVENT
DTSTART;TZID=UTC:20241113T093000
DTEND;TZID=UTC:20241113T093000
DTSTAMP:20260420T231721
CREATED:20230330T145234Z
LAST-MODIFIED:20230330T145234Z
UID:18108-1731490200-1731490200@seniorengelen.nl
SUMMARY:Wandelen
DESCRIPTION:Elke 2e en 4e woensdag van de maand gaan we wandelen. Vertrek om 9.30 uur vanaf De Engelenburcht. Er wordt elke keer een andere route uitgezocht. Indien gewenst en bij voldoende belangstelling splitsen we in groepen snellere en langzame wandelaars. Beide groepen komen dan weer samen op de pauzeplek voor een lekker drankje. Informatie bij Henk de Visser 06-12195289.
URL:https://seniorengelen.nl/agenda/wandelen-2024-11-13/
CATEGORIES:Wekelijks
ATTACH;FMTTYPE=image/jpeg:https://seniorengelen.nl/wp-content/uploads/2021/06/wandelen2.jpg
END:VEVENT
END:VCALENDAR